BEGIN:VCALENDAR
VERSION:2.0
PRODID:-//Lynn Community TV - ECPv6.15.20//NONSGML v1.0//EN
CALSCALE:GREGORIAN
METHOD:PUBLISH
X-WR-CALNAME:Lynn Community TV
X-ORIGINAL-URL:https://lynntv.org
X-WR-CALDESC:Events for Lynn Community TV
REFRESH-INTERVAL;VALUE=DURATION:PT1H
X-Robots-Tag:noindex
X-PUBLISHED-TTL:PT1H
BEGIN:VTIMEZONE
TZID:America/New_York
BEGIN:DAYLIGHT
TZOFFSETFROM:-0500
TZOFFSETTO:-0400
TZNAME:EDT
DTSTART:20250309T070000
END:DAYLIGHT
BEGIN:STANDARD
TZOFFSETFROM:-0400
TZOFFSETTO:-0500
TZNAME:EST
DTSTART:20251102T060000
END:STANDARD
BEGIN:DAYLIGHT
TZOFFSETFROM:-0500
TZOFFSETTO:-0400
TZNAME:EDT
DTSTART:20260308T070000
END:DAYLIGHT
BEGIN:STANDARD
TZOFFSETFROM:-0400
TZOFFSETTO:-0500
TZNAME:EST
DTSTART:20261101T060000
END:STANDARD
BEGIN:DAYLIGHT
TZOFFSETFROM:-0500
TZOFFSETTO:-0400
TZNAME:EDT
DTSTART:20270314T070000
END:DAYLIGHT
BEGIN:STANDARD
TZOFFSETFROM:-0400
TZOFFSETTO:-0500
TZNAME:EST
DTSTART:20271107T060000
END:STANDARD
END:VTIMEZONE
BEGIN:VEVENT
DTSTART;VALUE=DATE:20260401
DTEND;VALUE=DATE:20260501
DTSTAMP:20260422T014951
CREATED:20220505T153902Z
LAST-MODIFIED:20260401T164733Z
UID:10006015-1775001600-1777593599@lynntv.org
SUMMARY:Lynn Public Library | All monthly events
DESCRIPTION:From the Lynn Public Library: Below are the monthly activities\, events\, etc from the Lynn Public Library. This list will be updated monthly as we receive updates from the Library. \nVisit lynnpubliclibrary.org/calendar for more details and to register for these programs. \nPlease click for full-resolution images \nPLEASE NOTE: The Friends have once again been selected to benefit from Stop & Shop’s Community Bag program. For every $2.50 Community Bag sold at the Lynn Stop & Shop in the month of April\, the Friends will receive $1.
URL:https://lynntv.org/event/lynn-public-library-all-monthly-events/
LOCATION:Lynn Public Library\, 5 North Common Street\, Lynn\, MA\, United States
CATEGORIES:Arts and Culture,City of Lynn,Entertainment,Groups, Clubs, and Meet-ups,Seminars and Workshops,VisitLynnMA,Youth
ATTACH;FMTTYPE=image/jpeg:https://lynntv.org/wp-content/uploads/2021/09/Lynn-Public-Library.jpg
END:VEVENT
BEGIN:VEVENT
DTSTART;VALUE=DATE:20260401
DTEND;VALUE=DATE:20260501
DTSTAMP:20260422T014951
CREATED:20210907T201340Z
LAST-MODIFIED:20260414T143549Z
UID:10005517-1775001600-1777593599@lynntv.org
SUMMARY:Lynn Public Schools C.F.C.E. Program | All monthly events
DESCRIPTION:From the Lynn Coordinated Family & Engagement (CFCE) Program: This entry will be updated monthly. \nPlease click images for full-resolution calendars.\nIf the previous month is listed\, it means we haven’t yet received the next month’s calendar. \n_________________________________ \nEarly Childhood Literacy Night on April 30th\, more details by clicking here! \nPlease click here to Pre-Register for CFCE Spring Programs (April – June)
URL:https://lynntv.org/event/lynn-public-schools-c-f-c-e-program-all-monthly-events/
LOCATION:Multiple locations\, please see listing for more info.
CATEGORIES:Groups, Clubs, and Meet-ups,Health and Wellness,Youth
ATTACH;FMTTYPE=image/jpeg:https://lynntv.org/wp-content/uploads/2021/09/CFCE-logo.jpg
END:VEVENT
BEGIN:VEVENT
DTSTART;VALUE=DATE:20260401
DTEND;VALUE=DATE:20260601
DTSTAMP:20260422T014951
CREATED:20260211T182604Z
LAST-MODIFIED:20260401T160724Z
UID:10016402-1775001600-1780271999@lynntv.org
SUMMARY:UUCGL | All monthly events
DESCRIPTION:From UUCGL: This entry will be updated monthly. \nIf the previous month is listed\, it means we haven’t yet received the next month’s programming. \nClick for full-resolution flier\nONE-OFF EVENTS:\n“Have I Got a Story for You!” — A Live Story Sharing Night\nSaturday\, April 11 at 7pm\nJoin us for a lively\, laughter-filled evening of storytelling! Whether you’re a seasoned storyteller or someone who simply loves hearing great tales\, this night is for you. All adults 18+ are warmly invited.\nLearn more by clicking here \nPondside Chorus: A Vernal Pool Experience\nMonday\, April 13 at 6:30pm\nA free\, family-friendly exploration of vernal ponds and the amazing creatures that depend on them.\nLearn more by clicking here \nOpen House: Free Tai Chi and Qigong Lessons!\nTuesday\, April 21 from 9 – 11am\nCurious about Tai Chi or Qigong? Come experience these calming\, energizing practices for yourself at our free\, no‑obligation lessons.\nLearn more by clicking here \nHearts & Arts for Youth\nMarch 1\, March 15\, April 12\, May 3\, May 10\nA new hands‑on art series led by local artist and educator Bruce Orr\, designed for youth of all ages through high school.\nLearn more by clicking here \n_________________________________ \nRECURRING PROGRAMS:\n\n\n\nPlant-Based Cooking Group *$5*\n1st & 3rd Thursdays of the month (through May)  | 5-7pm\nAll ages welcome; anyone can join!\nuucgl.org/adultprograms#cooking \n  \nSaturday Craft Circle *FREE*\n1st & 3rd Saturdays of the month (through May) | 10am-2pm\nOpen to all kinds of crafters!\nuucgl.org/adultprograms#craft \n  \nSunday Evening Meditations *FREE*\n2nd & 4th Sundays (through April) | 5:15-6pm\nNo prior experience required.\nuucgl.org/adultprograms#sundaymeditations\n(2/22 session will be on Zoom) \n  \n\n\n\n\n\nSound Healing *$25*\n3rd Sundays\, every other month (year-round) | 2-4pm\nLimited capacity — advanced registration required. \nIn these turbulent times\, many of us could use some self-care. Did you know that sound has the power to shift your nervous system from stress to deep relaxation? When you experience a sound bath\, your brainwaves slow down\, your body releases tension\, and you enter a state of healing. \nSound Healing\, also known as Vibrational Healing\, is a non-invasive alternative therapy that resonates with the wisdom of luminaries like the Buddha\, Einstein\, and Medical Oncologist Mitchell Gaynor M.D. Imagine stepping into a serene oasis where stress melts away\, and your immune system is rejuvenated through the power of sound. \nJoin us for a 2-hour journey into bliss\, wellness\, and healing\, guided by the talented sound therapist Joe Hayes. Bring a friend! Register early to secure your spot for just $25 at uucgl.org/soundhealing \nuucgl.org/soundhealing \n  \nYouth Group (9th-12th graders) *FREE*\nMost 2nd & 4th Sundays of the month (through May) | 6:15-8:30pm\nOpen to all local youth.\nuucgl.org/programs-for-children#older-youth \n  \nChildren & Youth Sunday Morning Programming (preK-12th graders) *FREE*\nWeekly on Sunday Mornings (through May) | 10-11am\nOpen to all local youth.\nuucgl.org/programs-for-children \n  \nHearts & Arts for Youth: Sunday Art Adventures to Benefit the Local Community *FREE*\nFEB 8 & 22 (more dates coming in March and April!)\nOpen to all local youth.\nhttps://www.uucgl.org/heartsandarts \n  \nChoir *FREE*\nWeekly on Thursday Evenings (through May) | 7:30pm\nOpen to anyone who loves to sing!\nuucgl.org/adultprograms#choir \n  \nDrumagic Drum Circle *FREE (Donations appreciated)*\n2nd Sundays of the month (year-round) | 1:30-3:30pm\nOpen to all skill levels and beginners.\nuucgl.org/adultprograms#drumcircle \n  \nQigong Classes\nWeekly on Tuesdays (year-round) | 10-11am\nAll ages and abilities welcome. Join Anytime!\nuucgl.org/taichi \n  \nTai Chi Classes (Beginners)\nWeekly on Tuesdays (year-round) | 11-12pm\nBeginners only. Join Anytime!\nuucgl.org/taichi \n\n\n\n\n\n\n\n\n\nJOIN US! We are located at 101 Forest Avenue in Swampscott. Free parking. \nWe welcome people of any age\, race\, sex\, ethnicity\, national origin\, range of abilities\, sexual orientation\, gender identity\, financial means\, education\, or political perspective. Find out more at uucgl.org.
URL:https://lynntv.org/event/uucgl-all-monthly-events/
LOCATION:UUCGL\, 101 Forest Ave\, Swampscott\, MA\, 01907\, United States
CATEGORIES:Arts and Culture,Community,Entertainment,Groups, Clubs, and Meet-ups,Health and Wellness,Seminars and Workshops,Youth
ATTACH;FMTTYPE=image/jpeg:https://lynntv.org/wp-content/uploads/2026/02/FI-UUCGL-logo.jpg
ORGANIZER;CN="UUCGL":MAILTO:office@uucgl.org
END:VEVENT
BEGIN:VEVENT
DTSTART;VALUE=DATE:20260405
DTEND;VALUE=DATE:20260601
DTSTAMP:20260422T014951
CREATED:20260406T165528Z
LAST-MODIFIED:20260406T165528Z
UID:10017087-1775347200-1780271999@lynntv.org
SUMMARY:5th Annual Greater Lynn Photographic Association Photography Exhibition
DESCRIPTION:From the Greater Lynn Photographic Association: The GLPA is proud to announce its 5th Annual Photography Exhibition at the Demakes Family YMCA in Lynn runs from April 5 – May 31\, 2026. \nThere are fifty beautiful photographs from twenty-seven members of the Greater Lynn Photographic Association currently on display. They range in genre from Abstract to Nature\, to Architectural to Landscapes to People topics. \nA Meet the Photographers reception will be at the Demakes Family YMCA\, 50 Blossom St. Lynn\, MA on Sunday April 19th from 2-4PM. Please stop by to meet the photographers\, other Greater Lynn Photographic Association members and learn more about the Greater Lynn Photographic Association.
URL:https://lynntv.org/event/5th-annual-greater-lynn-photographic-association-photography-exhibition/
LOCATION:Demakes Family YMCA\, 40 Neptune Blvd.\, Lynn\, MA\, 01902\, United States
CATEGORIES:Arts and Culture,Community,Open house,VisitLynnMA
ATTACH;FMTTYPE=image/jpeg:https://lynntv.org/wp-content/uploads/2026/04/FI-Greater-Lynn-Photographic-Association-GLPA.jpg
END:VEVENT
BEGIN:VEVENT
DTSTART;TZID=America/New_York:20260422T070000
DTEND;TZID=America/New_York:20260422T150000
DTSTAMP:20260422T014951
CREATED:20260320T182407Z
LAST-MODIFIED:20260320T182459Z
UID:10017036-1776841200-1776870000@lynntv.org
SUMMARY:Street Sweeping | Spring 2026
DESCRIPTION:The City of Lynn has released the proposed schedule for street sweeping by Millennium Companies throughout Lynn\, starting April 21\, 2026. \n\n\n\nSweeping is conducted from 7am – 3pm. Please note that the schedule is subject to change due to weather\, construction\, or traffic emergencies. Any updates will be shared directly on the City website and official communication outlets\, such as social media and email. \n\n\n\nPlease remove all cars from the streets during the scheduled sweeping dates and keep them off the street until operations are complete. Unmoved vehicles are subject to ticketing. \n\n\n\n\nApril 21 – Ward 7-1\n\n\n\nApril 22 – Ward 7-2\, 7-1\n\n\n\nApril 23 – Ward 7-4\, 7-2\n\n\n\nApril 24 – Ward 7-3\, 7-4\n\n  \n\nApril 27 – Ward 6-4\, 6-2\nApril 28 – Ward 6-1\, 6-3\, 6-4\nApril 29 – Ward 5-2\, 5-1\nApril 30 – Wards 5-4\, 5-3\, 5-2\nMay 1 – Wards 4-2\, 4-1\, 5-4 \n\n  \n\nMay 4 – Wards 4-4\, 4-3\, 4-2\nMay 5 – Wards 3-3\, 3-4\, 4-4\nMay 6 – Wards 3-1\, 3-2\, 3-3\nMay 7 – Wards 2-3\, 2-1\, 3-1\nMay 8 – Wards 2-2\, 2-4\, 2-3\n\n  \n\nMay 11 – Wards 1-3\, 1-4\, 2-2\nMay 12 – Wards 1-2\, 1-2A\, 1-3\nMay 13 – Wards 1-1\, 1-2\nMay 14 – Touch up day\n\n\n\n\n\n\n\n\n\n\n\n\n\n\n\n\n\n\nPlease note that this schedule is subject to change\n\n\n\nIf you have any questions please contact Lynn DPW by calling 781-268-8000.
URL:https://lynntv.org/event/street-sweeping-spring-2026/2026-04-22/
LOCATION:Multiple locations\, please see listing for more info.
CATEGORIES:City of Lynn
ATTACH;FMTTYPE=image/jpeg:https://lynntv.org/wp-content/uploads/2023/10/FI-Street-Sweeper.jpg
END:VEVENT
BEGIN:VEVENT
DTSTART;TZID=America/New_York:20260422T120000
DTEND;TZID=America/New_York:20260422T160000
DTSTAMP:20260422T014951
CREATED:20260401T173129Z
LAST-MODIFIED:20260401T173129Z
UID:10017073-1776859200-1776873600@lynntv.org
SUMMARY:Making Proud Choices!
DESCRIPTION:From LifeScene: Making Proud Choices! is a free program that helps young people make informed decisions\, build healthy relationships\, and reduce risks through prevention and communication strategies. \nSome examples of topics covered include: \n\nConsent\nCommunication skills\nPossible outcomes of sexual activity\nHealthy relationships\nRisk reduction skills\nOnline safety\n\nEligible participants are Lynn\, Revere\, and Chelsea youth ages 14-21 who are available Wednesday 4/22 & Friday 4/24 12:00pm-4:00pm at LifeScene located at 111 North Common St\, Lynn\, MA\, 01902. Participants under 18\, they will need to share the consent with their parent/guardian. \nClick here to register\nIf you have questions please email mdonovan@lifescene.org or call 413-707-0586.
URL:https://lynntv.org/event/making-proud-choices/2026-04-22/
LOCATION:LifeScene (FKA: Family & Children’s Service)\, 111 North Common Street\, Lynn\, MA\, 01902\, United States
CATEGORIES:Seminars and Workshops,Youth
ATTACH;FMTTYPE=image/jpeg:https://lynntv.org/wp-content/uploads/2022/05/FI-LifeScene-logo.jpg
END:VEVENT
BEGIN:VEVENT
DTSTART;TZID=America/New_York:20260422T173000
DTEND;TZID=America/New_York:20260422T193000
DTSTAMP:20260422T014951
CREATED:20250908T190608Z
LAST-MODIFIED:20250912T184049Z
UID:10014923-1776879000-1776886200@lynntv.org
SUMMARY:NAGLY Lynn: Ages 14-23
DESCRIPTION:From NAGLY: NAGLY Lynn also presents our NEW weekly group at Centerboard Family resource center on Wednesdays for ages 14-23 5:30-7:30pm\, also drop-in based! Open to LGBTQ+ youth and young adults. \nFor more information\, contact: Tony@nagly.org.or Younes@nagly.org \n \nLearn more about NAGLY
URL:https://lynntv.org/event/nagly-lynn-ages-14-23/2026-04-22/
LOCATION:Lynn Family Resource Center\, 16 City Hall Square\, Lynn\, MA\, 01901\, United States
CATEGORIES:Community,Groups, Clubs, and Meet-ups,Youth
ATTACH;FMTTYPE=image/jpeg:https://lynntv.org/wp-content/uploads/2025/09/FI-NAGLY-Lynn-logo-2025-update.jpg
END:VEVENT
BEGIN:VEVENT
DTSTART;TZID=America/New_York:20260422T183000
DTEND;TZID=America/New_York:20260422T193000
DTSTAMP:20260422T014951
CREATED:20250113T191226Z
LAST-MODIFIED:20250113T191226Z
UID:10013248-1776882600-1776886200@lynntv.org
SUMMARY:Sahaja Yoga Meditation
DESCRIPTION:Find the calm in the storm. Learn to meditate with a practice called Sahaja Yoga (meditation only). No mat required. Typically the meetings are two 10-15 minute guided meditations with a mid meditation check in or short talk from the founder Shri Mataji. \nSY was founded by Shri Mataji Nirmala Devi in 1970 and has since spread to over 120 countries. SY is always free. Please follow the Recovery Exchange’s Facebook page for updates and cancellations. If you have questions please email michelle.simons24@gmail.com. \nClick here for the Meetup group\n\nThe above information was submitted to us by Michelle Simons.
URL:https://lynntv.org/event/sahaja-yoga-meditation/2026-04-22/
LOCATION:The Recovery Exchange\, 35 Exchange Street\, Lynn\, MA\, 01901\, United States
CATEGORIES:Groups, Clubs, and Meet-ups,Health and Wellness
ATTACH;FMTTYPE=image/jpeg:https://lynntv.org/wp-content/uploads/2025/01/FI-Sahaja-Yoga.jpg
ORGANIZER;CN="The Recovery Exchange":MAILTO:recoveryexchange@spectrumhealthsystems.org
END:VEVENT
BEGIN:VEVENT
DTSTART;TZID=America/New_York:20260422T190000
DTEND;TZID=America/New_York:20260422T203000
DTSTAMP:20260422T014951
CREATED:20260409T191840Z
LAST-MODIFIED:20260409T191840Z
UID:10017101-1776884400-1776889800@lynntv.org
SUMMARY:Info Session | Downtown Parking
DESCRIPTION:From the City of Lynn Planning Department: Starting May 7th\, on-street parking on Union Street\, Munroe Street\, and Oxford Street will have: \n\nNo more time limitations\nA $1/hour fee payable on the PayByPhone app or at a newly installed kiosk\nFree first 20 minutes of parking\n\nReminder: Spaces in municipal lots are $1/hour or $5/day. \nJoin the City of Lynn for a public meeting to learn more about the Downtown Lynn Parking Strategy\, a priority action stemming from Vision. This will be an opportunity for businesses\, residents\, and visitors to learn more about the first phase of implementation. \nPlease click here to register for the virtual info session
URL:https://lynntv.org/event/info-session-downtown-parking/
LOCATION:Virtual
CATEGORIES:City of Lynn,Public meetings,Virtual
ATTACH;FMTTYPE=image/jpeg:https://lynntv.org/wp-content/uploads/2024/05/FI-Vision-Lynn-Downtown-Parking.jpg
END:VEVENT
BEGIN:VEVENT
DTSTART;TZID=America/New_York:20260422T190000
DTEND;TZID=America/New_York:20260422T210000
DTSTAMP:20260422T014951
CREATED:20251114T183229Z
LAST-MODIFIED:20251114T183502Z
UID:10015582-1776884400-1776891600@lynntv.org
SUMMARY:Speak Up Spoken Word Open Mic
DESCRIPTION:From Tony Toledo: Speak Up Spoken Word Open Mic meets every Wednesday at 7 pm at the Walnut Street Cafe. Speak Up welcomes poets\, storytellers\, community activists\, comedians and curmudgeons. This is a free event but a hat is passed for the Featured Speaker. \nSignup starts: 7:00pm\nOpen mic: 7:30-830pm\nFeature: 8:30-9:00pm\nIf you have any questions please reach out to host Call Dave Somerset by emailing CallDave123@gmail.com or calling 978-921-4628. \nTo find out the week’s featured speaker and more please visit their Facebook group.
URL:https://lynntv.org/event/speak-up-spoken-word-open-mic/2026-04-22/
LOCATION:Walnut Street Cafe\, 127 Walnut Street\, Lynn\, MA\, 01905\, United States
CATEGORIES:Arts and Culture,Entertainment,Open mic,VisitLynnMA
ATTACH;FMTTYPE=image/jpeg:https://lynntv.org/wp-content/uploads/2025/11/FI-Walnut-St-Cafe-Open-Mic.jpg
END:VEVENT
END:VCALENDAR