BEGIN:VCALENDAR
VERSION:2.0
PRODID:-//Lynn Community TV - ECPv6.15.20//NONSGML v1.0//EN
CALSCALE:GREGORIAN
METHOD:PUBLISH
X-ORIGINAL-URL:https://lynntv.org
X-WR-CALDESC:Events for Lynn Community TV
REFRESH-INTERVAL;VALUE=DURATION:PT1H
X-Robots-Tag:noindex
X-PUBLISHED-TTL:PT1H
BEGIN:VTIMEZONE
TZID:America/New_York
BEGIN:DAYLIGHT
TZOFFSETFROM:-0500
TZOFFSETTO:-0400
TZNAME:EDT
DTSTART:20240310T070000
END:DAYLIGHT
BEGIN:STANDARD
TZOFFSETFROM:-0400
TZOFFSETTO:-0500
TZNAME:EST
DTSTART:20241103T060000
END:STANDARD
BEGIN:DAYLIGHT
TZOFFSETFROM:-0500
TZOFFSETTO:-0400
TZNAME:EDT
DTSTART:20250309T070000
END:DAYLIGHT
BEGIN:STANDARD
TZOFFSETFROM:-0400
TZOFFSETTO:-0500
TZNAME:EST
DTSTART:20251102T060000
END:STANDARD
BEGIN:DAYLIGHT
TZOFFSETFROM:-0500
TZOFFSETTO:-0400
TZNAME:EDT
DTSTART:20260308T070000
END:DAYLIGHT
BEGIN:STANDARD
TZOFFSETFROM:-0400
TZOFFSETTO:-0500
TZNAME:EST
DTSTART:20261101T060000
END:STANDARD
END:VTIMEZONE
BEGIN:VEVENT
DTSTART;TZID=America/New_York:20250601T150000
DTEND;TZID=America/New_York:20250601T173000
DTSTAMP:20260421T212237
CREATED:20250508T143916Z
LAST-MODIFIED:20250508T143916Z
UID:10014189-1748790000-1748799000@lynntv.org
SUMMARY:2nd Annual CLDA Daddy-Daughter Dance Ball
DESCRIPTION:Cultura Latina Dance Academy are having their second annual Daddy-Daughter Dance Ball on June 1st. Tickets cost $60 and will go to benefit programs at Cultura Latina Dance Academy. \nSpend an evening with your princess. Have some Hors D’oeuvres\, Princess Crowning\, and a Daddy-Daughter Vals Dance. \nRegister & purchase your ticket by clicking here \nAGENDA: \n\n3pm – Arrival\n3:30pm – Vals Dance Class\n4pm -Crowning & Corsage\n3:15pm – Toast\n3:50pm – Val’s Dance\n5pm – Hors D’oeuvres & Beverages Pictures\, Music\, & Dancing\n\n\nThe above information is courtesy of Cultura Latina Dance Academy.
URL:https://lynntv.org/event/2nd-annual-clda-daddy-daughter-dance-ball/
LOCATION:The Studios at Lynn Museum & Arts Center (LynnArts) & The Neal Rantoul Vault Theatre\, 25 Exchange Street\, Lynn\, MA\, 01901\, United States
CATEGORIES:Arts and Culture,Entertainment,Fundraisers,VisitLynnMA,Youth
ATTACH;FMTTYPE=image/jpeg:https://lynntv.org/wp-content/uploads/2025/05/FI-2025-CLDA-Daddy-Daughtwer-Dance-Ball.jpg
ORGANIZER;CN="Cultura Latina Dance Academy Inc":MAILTO:cldalynn@gmail.com
END:VEVENT
BEGIN:VEVENT
DTSTART;TZID=America/New_York:20250601T150000
DTEND;TZID=America/New_York:20250601T190000
DTSTAMP:20260421T212237
CREATED:20241114T150544Z
LAST-MODIFIED:20241114T151134Z
UID:10012629-1748790000-1748804400@lynntv.org
SUMMARY:Poetic Lynnguistics: North Shore Youth Spoken Word
DESCRIPTION:More information will be released soon…stay tuned!\nThis is a youth Event + Admission is FREE. An 18+ Open Mic will begin on the 1st and 3rd Sundays at 7pm. More information on the event series page. \n_________________ \nIf you have any questions please contact Michelle LaPoetica at 662-799-1916 or DENCITYvibes@gmail.com. \n\nThe above information was submitted to us by DENCITY.
URL:https://lynntv.org/event/poetic-lynnguistics-north-shore-youth-spoken-word/2025-06-01/
LOCATION:The Studios at Lynn Museum & Arts Center (LynnArts) & The Neal Rantoul Vault Theatre\, 25 Exchange Street\, Lynn\, MA\, 01901\, United States
CATEGORIES:Arts and Culture,Entertainment,Open mic,VisitLynnMA,Youth
ATTACH;FMTTYPE=image/jpeg:https://lynntv.org/wp-content/uploads/2024/11/FI-DENCITY-2024-North-shore-Youth-Spoken-Word.jpg
END:VEVENT
BEGIN:VEVENT
DTSTART;TZID=America/New_York:20250602T180000
DTEND;TZID=America/New_York:20250602T210000
DTSTAMP:20260421T212237
CREATED:20230327T193208Z
LAST-MODIFIED:20250429T195746Z
UID:10010926-1748887200-1748898000@lynntv.org
SUMMARY:Figure Drawing at GALA
DESCRIPTION:Join the Monday Night Drawing Group at the Galleries at LynnArts\, hosted by Annette Sykes of Paint by the Ocean. This weekly session offers artists of all levels the opportunity to draw from a live\, clothed or unclothed model in a relaxed\, supportive environment. Bring your own art supplies and enjoy an evening of creative exploration.​\n\nThese drawing groups will meet every Monday from 6-9pm at GALA. Fees are $18 for GALA Members\, $20 for Non-Members\, & $18 for Students. No instruction is provided; this is a self-guided session ideal for practicing figure drawing in a community setting.​ \nFor more information visit the GALA website\, follow @paintbytheocean on Instagram\, or email paintbytheocean@gmail.com.\n\n\nIf the flier above is out-of-date please contact GALA \n\nThe above information was submitted to us by the Galleries at LynnArts (GALA).
URL:https://lynntv.org/event/figure-drawing-at-gala/2025-06-02/
LOCATION:The Studios at Lynn Museum & Arts Center (LynnArts) & The Neal Rantoul Vault Theatre\, 25 Exchange Street\, Lynn\, MA\, 01901\, United States
CATEGORIES:Arts and Culture,Groups, Clubs, and Meet-ups,VisitLynnMA
ATTACH;FMTTYPE=image/jpeg:https://lynntv.org/wp-content/uploads/2023/03/FI-Figure-Drawing.jpg
END:VEVENT
BEGIN:VEVENT
DTSTART;TZID=America/New_York:20250604T170000
DTEND;TZID=America/New_York:20250604T200000
DTSTAMP:20260421T212237
CREATED:20250513T231224Z
LAST-MODIFIED:20250708T132304Z
UID:10014202-1749056400-1749067200@lynntv.org
SUMMARY:The Open Vault Jam Sessions
DESCRIPTION:Calling all musicians\, vocalists\, producers\, and music lovers! Whether you’re a seasoned player\, a bedroom beatmaker\, or just starting out—The Open Vault Jam Sessions are your space to create\, collaborate\, and connect. \nJoin us every Wednesday through August 27th at the Vault Theater for a free\, all-levels jam session where the Lynn music community comes together to make something beautiful—no pressure\, just vibes. \n🪩 Instruments and gear provided: Keyboard\, Drums\, Electric Guitar\, Electric Bass\n🎹 All genres and skill levels welcome\n🎤 Open mics\, freestyle moments\, and spontaneous collabs encouraged\n💥 No registration required—just show up and plug in! \nCome build with fellow creatives and help shape the sound of Lynn. Let the Vault be your stage. 🎧🎸🥁 \n\nThe above information was submitted to us by the Lynn Music Foundation.
URL:https://lynntv.org/event/the-open-vault-jam-sessions/2025-06-04/
LOCATION:The Studios at Lynn Museum & Arts Center (LynnArts) & The Neal Rantoul Vault Theatre\, 25 Exchange Street\, Lynn\, MA\, 01901\, United States
CATEGORIES:Arts and Culture,Entertainment,Seminars and Workshops,VisitLynnMA,Youth
ATTACH;FMTTYPE=image/jpeg:https://lynntv.org/wp-content/uploads/2025/05/The-Open-Vault-Jam-Sessions-Summer-2025.jpg
ORGANIZER;CN="Lynn Music Foundation":MAILTO:lynnmusicfoundation@gmail.com
END:VEVENT
BEGIN:VEVENT
DTSTART;VALUE=DATE:20250607
DTEND;VALUE=DATE:20250608
DTSTAMP:20260421T212237
CREATED:20250520T203025Z
LAST-MODIFIED:20250523T171456Z
UID:10014278-1749254400-1749340799@lynntv.org
SUMMARY:Northeast MA Youth Orchestras Auditions for 2025-2026 season
DESCRIPTION:The Northeast Massachusetts Youth Orchestras (NMYO) is looking for young musicians to join its ensembles in the 2025-2026 Concert Season. Are you in search of a great place to play your instrument\, perform in concert\, and socialize with other young musicians who enjoy playing music as much as you? Then NMYO is the place for you! \n\n\n\nAuditions take place on Saturday\, June 7 at Ipswich High School. All musicians must audition\, including returning members. To schedule an audition time and learn more about the audition process\, please click here. If you have any questions please call 978-309-9833 or email auditions@nmyo.org.   \n\n\n\nNMYO provides youth musicians with exceptional ensemble training and opportunities for cognitive\, social\, and personal growth through musical performance and community service. Led by Music Director Michael Coelho\, with an accomplished team of music professionals\, NMYO’s 155 musicians come from 40+ towns throughout northeast Massachusetts and southern New Hampshire and participate in one or more of six ensembles offered. The regular rehearsal and concert schedule is supplemented with master classes\, enrichment days\, chamber music\, and community service outreach concerts to underserved populations. Rehearsals are held weekly just off I-95 and Route 1 in Topsfield/Boxford. NMYO isa 501 (c)(3) non-profit organization. LEARN MORE – nmyo.org · info@nmyo.org · 978-309-9833 \n\n\n\n\n\nThe above press release was submitted to us by Northeast Massachusetts Youth Orchestras (NMYO).
URL:https://lynntv.org/event/northeast-ma-youth-orchestras-auditions-for-2025-2026-season/
LOCATION:Multiple locations\, please see listing for more info.
CATEGORIES:Arts and Culture,Youth
ATTACH;FMTTYPE=image/jpeg:https://lynntv.org/wp-content/uploads/2025/05/FI-2025-NMYO-Auditions.jpg
END:VEVENT
BEGIN:VEVENT
DTSTART;TZID=America/New_York:20250607T100000
DTEND;TZID=America/New_York:20250607T140000
DTSTAMP:20260421T212237
CREATED:20250331T184812Z
LAST-MODIFIED:20250708T132718Z
UID:10014016-1749290400-1749304800@lynntv.org
SUMMARY:Saturday Craft Circle - Spring 2025
DESCRIPTION:All are welcome! UUCGL’s Craft Circle meets on Saturday mornings twice a month (first and third Saturday) through June 21. \nJoin us from 10am to 2pm (you may drop in at any time). All sorts of crafts are welcome. In the past we have had people who knit\, crochet\, weave\, bead\, etc. People sometimes bring their sewing machines (bringing an extension cord is recommended). Feel free to bring a packed lunch. \nFor further details please click here to register. \nFor more information you may email office@uucgl.org or call 781-595-8836. \n\nThe above information was submitted to us by the Unitarian Universalist Church of Greater Lynn.
URL:https://lynntv.org/event/saturday-craft-circle-spring-2025/2025-06-07/
LOCATION:UUCGL\, 101 Forest Ave\, Swampscott\, MA\, 01907\, United States
CATEGORIES:Arts and Culture,Community
ORGANIZER;CN="UUCGL":MAILTO:office@uucgl.org
END:VEVENT
BEGIN:VEVENT
DTSTART;TZID=America/New_York:20250607T170000
DTEND;TZID=America/New_York:20250607T210000
DTSTAMP:20260421T212237
CREATED:20250422T203725Z
LAST-MODIFIED:20250422T203725Z
UID:10014133-1749315600-1749330000@lynntv.org
SUMMARY:Beyond Walls Live: A One Night Event of Art\, Music\, & Community
DESCRIPTION:Join us in Lynn for an unforgettable night of live art\, music\, food\, and community – Beyond Walls style!\n Mural Tour – Start the night exploring the incredible public art around downtown Lynn\n Live Art Battle – Watch artists create in real-time\n Live Music from band Village Revival – A high-energy performance you won’t want to miss\n Food\, Drinks & Community – Celebrate with us and connect with fellow art lovers.\n\nThroughout the night\, you’ll learn more about Beyond Walls\, how to get involved\, and ways to support our mission. Proceeds from ticket sales and event activities will directly fund our Classroom to the Streets education initiative. This is a night you won’t want to miss!\nTickets can be purchased here: www.beyondwallslive.org\n\nSponsorship Opportunities are also available – please inquire!\n\n\n____________________________\n\n\n\nAbout Beyond Walls:\nWe are a non-profit placemaking agency that uses a creative lens to address community needs. Our mission is to activate spaces to strengthen communities. We introduce public art and curated experiences into the fabric of our communities by partnering with local organizations\, municipalities\, community members and experts to design\, produce and manage projects and programs. Find our more about our work here: www.beyondwalls.org/\n\nAbout Classroom to the Streets or “CTTS”:\n“CTTS” is a Fellowship Program that uses the power of public art to transform learning\, deepen community connections\, and inspire change. By bringing students\, educators\, and artists together\, we turn the streets into classrooms– empowering the exploration of identity\, culture\, and community through art. https://beyondwalls.org/projects/ctts/ \n\n\n\n\nThe above information was submitted to us by Beyond Walls.
URL:https://lynntv.org/event/beyond-walls-live-a-one-night-event-of-art-music-community/
LOCATION:Lynn Museum and Arts Center\, 590 Washington Street\, Lynn\, MA\, 01901\, United States
CATEGORIES:Arts and Culture,Community,Entertainment,VisitLynnMA,Youth
ATTACH;FMTTYPE=image/jpeg:https://lynntv.org/wp-content/uploads/2025/04/FI-Beyond-Walls-Live.jpg
END:VEVENT
END:VCALENDAR