BEGIN:VCALENDAR
VERSION:2.0
PRODID:-//Lynn Community TV - ECPv6.15.20//NONSGML v1.0//EN
CALSCALE:GREGORIAN
METHOD:PUBLISH
X-ORIGINAL-URL:https://lynntv.org
X-WR-CALDESC:Events for Lynn Community TV
REFRESH-INTERVAL;VALUE=DURATION:PT1H
X-Robots-Tag:noindex
X-PUBLISHED-TTL:PT1H
BEGIN:VTIMEZONE
TZID:America/New_York
BEGIN:DAYLIGHT
TZOFFSETFROM:-0500
TZOFFSETTO:-0400
TZNAME:EDT
DTSTART:20240310T070000
END:DAYLIGHT
BEGIN:STANDARD
TZOFFSETFROM:-0400
TZOFFSETTO:-0500
TZNAME:EST
DTSTART:20241103T060000
END:STANDARD
BEGIN:DAYLIGHT
TZOFFSETFROM:-0500
TZOFFSETTO:-0400
TZNAME:EDT
DTSTART:20250309T070000
END:DAYLIGHT
BEGIN:STANDARD
TZOFFSETFROM:-0400
TZOFFSETTO:-0500
TZNAME:EST
DTSTART:20251102T060000
END:STANDARD
BEGIN:DAYLIGHT
TZOFFSETFROM:-0500
TZOFFSETTO:-0400
TZNAME:EDT
DTSTART:20260308T070000
END:DAYLIGHT
BEGIN:STANDARD
TZOFFSETFROM:-0400
TZOFFSETTO:-0500
TZNAME:EST
DTSTART:20261101T060000
END:STANDARD
END:VTIMEZONE
BEGIN:VEVENT
DTSTART;TZID=America/New_York:20250810T133000
DTEND;TZID=America/New_York:20250810T153000
DTSTAMP:20260421T210936
CREATED:20250515T172758Z
LAST-MODIFIED:20260211T182417Z
UID:10014215-1754832600-1754839800@lynntv.org
SUMMARY:Community "Drumagic" Drum Circle
DESCRIPTION:All are welcome to join UUCGL for some Drumagic! \nIt is a way to express yourself. You will leave the afternoon feeling inspired and relaxed. Our drum circle is open to hand drummers over the age of 16. Beginners (with drums) are always welcome. We jam to West African and Haitian-inspired rhythms on djembes\, ashikos\, dunduns\, congas\, dumbeks\, and makeshift hand drums. Please no snare drums\, kit drums\, or bucket and stick drums. \nIf you do not own a drum or are unable to borrow one from a friend\, flat-bottomed\, rounded-edge water cooler jugs and flat-bottomed\, rounded edge (not sharp edge) Rubbermaid-type wastebaskets work fine as makeshift drums. \nNever drummed before? No Problem. We will show you the way. Come out and plan to have an afternoon of spiritual awakening\, fun\, and meeting wonderful people. Oh\, and if you like to dance\, drum rhythms are great to move to as well. \nCost: Volunteer donation of $5 to $10 suggested. We usually meet on the second Sunday of each month. \nPlease note: for security reasons the doors will be locked promptly at 1:35pm\, so make sure to be on time! \n\nThe above information was submitted to us by the Unitarian Universalist Church of Greater Lynn
URL:https://lynntv.org/event/community-drumagic-drum-circle/2025-08-10/
LOCATION:UUCGL\, 101 Forest Ave\, Swampscott\, MA\, 01907\, United States
CATEGORIES:Arts and Culture,Community,Entertainment
ATTACH;FMTTYPE=image/jpeg:https://lynntv.org/wp-content/uploads/2023/03/FI-Drums.jpg
ORGANIZER;CN="UUCGL":MAILTO:office@uucgl.org
END:VEVENT
BEGIN:VEVENT
DTSTART;TZID=America/New_York:20250811T180000
DTEND;TZID=America/New_York:20250811T210000
DTSTAMP:20260421T210936
CREATED:20230327T193208Z
LAST-MODIFIED:20250429T195746Z
UID:10010936-1754935200-1754946000@lynntv.org
SUMMARY:Figure Drawing at GALA
DESCRIPTION:Join the Monday Night Drawing Group at the Galleries at LynnArts\, hosted by Annette Sykes of Paint by the Ocean. This weekly session offers artists of all levels the opportunity to draw from a live\, clothed or unclothed model in a relaxed\, supportive environment. Bring your own art supplies and enjoy an evening of creative exploration.​\n\nThese drawing groups will meet every Monday from 6-9pm at GALA. Fees are $18 for GALA Members\, $20 for Non-Members\, & $18 for Students. No instruction is provided; this is a self-guided session ideal for practicing figure drawing in a community setting.​ \nFor more information visit the GALA website\, follow @paintbytheocean on Instagram\, or email paintbytheocean@gmail.com.\n\n\nIf the flier above is out-of-date please contact GALA \n\nThe above information was submitted to us by the Galleries at LynnArts (GALA).
URL:https://lynntv.org/event/figure-drawing-at-gala/2025-08-11/
LOCATION:The Studios at Lynn Museum & Arts Center (LynnArts) & The Neal Rantoul Vault Theatre\, 25 Exchange Street\, Lynn\, MA\, 01901\, United States
CATEGORIES:Arts and Culture,Groups, Clubs, and Meet-ups,VisitLynnMA
ATTACH;FMTTYPE=image/jpeg:https://lynntv.org/wp-content/uploads/2023/03/FI-Figure-Drawing.jpg
END:VEVENT
BEGIN:VEVENT
DTSTART;TZID=America/New_York:20250813T170000
DTEND;TZID=America/New_York:20250813T200000
DTSTAMP:20260421T210936
CREATED:20250513T231224Z
LAST-MODIFIED:20250708T132304Z
UID:10014452-1755104400-1755115200@lynntv.org
SUMMARY:The Open Vault Jam Sessions
DESCRIPTION:Calling all musicians\, vocalists\, producers\, and music lovers! Whether you’re a seasoned player\, a bedroom beatmaker\, or just starting out—The Open Vault Jam Sessions are your space to create\, collaborate\, and connect. \nJoin us every Wednesday through August 27th at the Vault Theater for a free\, all-levels jam session where the Lynn music community comes together to make something beautiful—no pressure\, just vibes. \n🪩 Instruments and gear provided: Keyboard\, Drums\, Electric Guitar\, Electric Bass\n🎹 All genres and skill levels welcome\n🎤 Open mics\, freestyle moments\, and spontaneous collabs encouraged\n💥 No registration required—just show up and plug in! \nCome build with fellow creatives and help shape the sound of Lynn. Let the Vault be your stage. 🎧🎸🥁 \n\nThe above information was submitted to us by the Lynn Music Foundation.
URL:https://lynntv.org/event/the-open-vault-jam-sessions/2025-08-13/
LOCATION:The Studios at Lynn Museum & Arts Center (LynnArts) & The Neal Rantoul Vault Theatre\, 25 Exchange Street\, Lynn\, MA\, 01901\, United States
CATEGORIES:Arts and Culture,Entertainment,Seminars and Workshops,VisitLynnMA,Youth
ATTACH;FMTTYPE=image/jpeg:https://lynntv.org/wp-content/uploads/2025/05/The-Open-Vault-Jam-Sessions-Summer-2025.jpg
ORGANIZER;CN="Lynn Music Foundation":MAILTO:lynnmusicfoundation@gmail.com
END:VEVENT
BEGIN:VEVENT
DTSTART;TZID=America/New_York:20250815T173000
DTEND;TZID=America/New_York:20250815T213000
DTSTAMP:20260421T210936
CREATED:20250625T180414Z
LAST-MODIFIED:20250625T180451Z
UID:10014442-1755279000-1755293400@lynntv.org
SUMMARY:Teen Drop-in Center - Summer 2025
DESCRIPTION:The Lynn Teen Drop-In Center is hosted weekly for our youth ages 13-18 to engage in recreational activities during after-school and evening hours. Activities include playing sports\, listening to music\, and hearing from guest speakers. \nMusic * Pizza * Cornhole * Volleyball * Basketball\nDates subject to change due to school scheduled sporting events or inclement weather. \nSupported by the Mayor’s office\, Lynn Parks and Recreation Department\, Lynn Police Department\, Shannon Grant\, & Community Development. For more information\, please call Lisa Nerich 781-286-8000 \n____________________________ \nClick images below for full-resolution fliers. \n \n\nThe above information was submitted to us by Lynn Parks & Rec.
URL:https://lynntv.org/event/teen-drop-in-center-summer-2025/2025-08-15/
LOCATION:Lynn Tech – Field House\, 80 Neptune Blvd\, Lynn\, MA\, 01902\, United States
CATEGORIES:Arts and Culture,Community,Entertainment,Groups, Clubs, and Meet-ups,Youth
ATTACH;FMTTYPE=image/jpeg:https://lynntv.org/wp-content/uploads/2022/09/FI-Teen-Drop-In-Center.jpg
END:VEVENT
END:VCALENDAR