BEGIN:VCALENDAR
VERSION:2.0
PRODID:-//Lynn Community TV - ECPv6.15.20//NONSGML v1.0//EN
CALSCALE:GREGORIAN
METHOD:PUBLISH
X-WR-CALNAME:Lynn Community TV
X-ORIGINAL-URL:https://lynntv.org
X-WR-CALDESC:Events for Lynn Community TV
REFRESH-INTERVAL;VALUE=DURATION:PT1H
X-Robots-Tag:noindex
X-PUBLISHED-TTL:PT1H
BEGIN:VTIMEZONE
TZID:America/New_York
BEGIN:DAYLIGHT
TZOFFSETFROM:-0500
TZOFFSETTO:-0400
TZNAME:EDT
DTSTART:20240310T070000
END:DAYLIGHT
BEGIN:STANDARD
TZOFFSETFROM:-0400
TZOFFSETTO:-0500
TZNAME:EST
DTSTART:20241103T060000
END:STANDARD
BEGIN:DAYLIGHT
TZOFFSETFROM:-0500
TZOFFSETTO:-0400
TZNAME:EDT
DTSTART:20250309T070000
END:DAYLIGHT
BEGIN:STANDARD
TZOFFSETFROM:-0400
TZOFFSETTO:-0500
TZNAME:EST
DTSTART:20251102T060000
END:STANDARD
BEGIN:DAYLIGHT
TZOFFSETFROM:-0500
TZOFFSETTO:-0400
TZNAME:EDT
DTSTART:20260308T070000
END:DAYLIGHT
BEGIN:STANDARD
TZOFFSETFROM:-0400
TZOFFSETTO:-0500
TZNAME:EST
DTSTART:20261101T060000
END:STANDARD
END:VTIMEZONE
BEGIN:VEVENT
DTSTART;VALUE=DATE:20250913
DTEND;VALUE=DATE:20250928
DTSTAMP:20260421T175341
CREATED:20250828T185401Z
LAST-MODIFIED:20250828T194224Z
UID:10014744-1757721600-1759017599@lynntv.org
SUMMARY:2025 Trails & Sails
DESCRIPTION:From the Essex National Heritage Area:  Trails & Sails is an event series that brings awareness and appreciation for heritage resources around Essex County\, Massachusetts\, which is a federally designated National Heritage Area. \nHistorically\, Trails & Sails has focused on outdoor activities such as guided hikes and excursions on the water\, but over the years it has grown to include historic house tours\, lectures\, community celebrations\, special exhibitions\, craft demonstrations\, and many other diverse activities. \nClick here for more information on events throughout the Essex National Heritage Area\, download the guidebook\, and more\nBelow are snippets from the guidebook for the events happening in Lynn:\nClick for full resolution images
URL:https://lynntv.org/event/2025-trails-sails/
LOCATION:Multiple locations\, please see listing for more info.
CATEGORIES:Arts and Culture,City of Lynn,Community,Entertainment,Seminars and Workshops,Talks and Panel Discussions,VisitLynnMA,Youth
ATTACH;FMTTYPE=image/jpeg:https://lynntv.org/wp-content/uploads/2022/09/Trails-Sails-logo.jpg
ORGANIZER;CN="Essex National Heritage Area":MAILTO:Info@EssexHeritage.org
END:VEVENT
BEGIN:VEVENT
DTSTART;VALUE=DATE:20250914
DTEND;VALUE=DATE:20250915
DTSTAMP:20260421T175341
CREATED:20250912T160634Z
LAST-MODIFIED:20250912T160634Z
UID:10015171-1757808000-1757894399@lynntv.org
SUMMARY:Children's Programs at UUCGL
DESCRIPTION:From the UUCGL: The Unitarian Universalist Church of Greater Lynn (UUCGL) offers programs for children and youth under 18 years of age for the school year 2025-2026\, and registration is now open.\n\n \n\nYou don’t need to go it alone. Parents and caregivers come to Unitarian Universalist (UU) congregations because our communities help raise children to be kind\, respectful\, caring\, to celebrate diversity\, and be spiritually strong enough to side with love in an increasingly divisive world. Check out our programs at uucgl.org/programs-for-children\n\n \n\nSOME THINGS OUR KIDS HAVE BEEN DOING:\n\n \n\n 	Learning about native plants & care for the Earth\n \n 	Acting\, designing sets\, & making our own video productions\n \n 	Visiting neighboring churches & learning about the world’s faith traditions\n \n 	Making meals for families facing food insecurity\n \n 	Exploring the world through art\n \n 	Embarking on field trips & active learning projects\n\n \n\nProgramming is offered every Sunday morning at 10am\, plus afternoon & evening programming for 5th grade & up on select Sundays\, September–June.\n\n \n\nYour family is invited to join in the exploration and celebration. We’re delighted to have you with us!\nPlease click here to register \nQuestions? Call 781-595-8836
URL:https://lynntv.org/event/childrens-programs-at-uucgl/2025-09-14/
LOCATION:UUCGL\, 101 Forest Ave\, Swampscott\, MA\, 01907\, United States
CATEGORIES:Arts and Culture,Groups, Clubs, and Meet-ups,Seminars and Workshops,Youth
ORGANIZER;CN="UUCGL":MAILTO:office@uucgl.org
END:VEVENT
BEGIN:VEVENT
DTSTART;TZID=America/New_York:20250915T180000
DTEND;TZID=America/New_York:20250915T210000
DTSTAMP:20260421T175341
CREATED:20230327T193208Z
LAST-MODIFIED:20250429T195746Z
UID:10010941-1757959200-1757970000@lynntv.org
SUMMARY:Figure Drawing at GALA
DESCRIPTION:Join the Monday Night Drawing Group at the Galleries at LynnArts\, hosted by Annette Sykes of Paint by the Ocean. This weekly session offers artists of all levels the opportunity to draw from a live\, clothed or unclothed model in a relaxed\, supportive environment. Bring your own art supplies and enjoy an evening of creative exploration.​\n\nThese drawing groups will meet every Monday from 6-9pm at GALA. Fees are $18 for GALA Members\, $20 for Non-Members\, & $18 for Students. No instruction is provided; this is a self-guided session ideal for practicing figure drawing in a community setting.​ \nFor more information visit the GALA website\, follow @paintbytheocean on Instagram\, or email paintbytheocean@gmail.com.\n\n\nIf the flier above is out-of-date please contact GALA \n\nThe above information was submitted to us by the Galleries at LynnArts (GALA).
URL:https://lynntv.org/event/figure-drawing-at-gala/2025-09-15/
LOCATION:The Studios at Lynn Museum & Arts Center (LynnArts) & The Neal Rantoul Vault Theatre\, 25 Exchange Street\, Lynn\, MA\, 01901\, United States
CATEGORIES:Arts and Culture,Groups, Clubs, and Meet-ups,VisitLynnMA
ATTACH;FMTTYPE=image/jpeg:https://lynntv.org/wp-content/uploads/2023/03/FI-Figure-Drawing.jpg
END:VEVENT
BEGIN:VEVENT
DTSTART;VALUE=DATE:20250918
DTEND;VALUE=DATE:20250929
DTSTAMP:20260421T175341
CREATED:20250915T193130Z
LAST-MODIFIED:20250915T193133Z
UID:10015311-1758153600-1759103999@lynntv.org
SUMMARY:Lynn Carnival - September 2025
DESCRIPTION:From the City of Lynn: The carnival is returning to Lynn! Join us for rides\, games\, food\, and family fun to benefit the City of Lynn!\n\nOpen Thursday/Friday at 6pm\nOpen Saturday/Sunday at 1pm\nClosed Mon-Wed\n\nUnlimited ride specials daily\n$5 Admission Fee per person\, Children 12 or under are free\nUse code “LYNN2025” to save on MegaPasses (online only)\n\n\n\n\n\n\nTo purchase tickets or wristbands online\, visit fiestashows.com
URL:https://lynntv.org/event/lynn-carnival-september-2025/
LOCATION:40 Federal Street\, 40 Federal Street\, Lynn\, 01905\, United States
CATEGORIES:Arts and Culture,City of Lynn,Community,Entertainment,Festivals and Fairs,Fundraisers,VisitLynnMA,Youth
ATTACH;FMTTYPE=image/jpeg:https://lynntv.org/wp-content/uploads/2022/06/FI-Carnival-3.jpg
ORGANIZER;CN="Fiesta Shows":MAILTO:customersupport@fiestashows.com
END:VEVENT
BEGIN:VEVENT
DTSTART;TZID=America/New_York:20250920T120000
DTEND;TZID=America/New_York:20250920T160000
DTSTAMP:20260421T175341
CREATED:20250919T181410Z
LAST-MODIFIED:20250919T181410Z
UID:10015322-1758369600-1758384000@lynntv.org
SUMMARY:2025 Agora Market
DESCRIPTION:From LifeScene: This will be a vendor market in our Lynn Common focused on youth entrepreneurs with a DJ\, photo booth\, face painting\, food vendors\, and more! Featuring up to 20 local young artists and self-made business owners\, this is a free community event open to all and ADA accessible. Hope to see you September 20th! \nFor more information please email lifescene.events@gmail.com
URL:https://lynntv.org/event/2025-agora-market/
LOCATION:Lynn Common\, North & South Common Street\, Lynn\, MA\, 01905\, United States
CATEGORIES:Arts and Culture,Community,Entertainment,Festivals and Fairs,VisitLynnMA
ATTACH;FMTTYPE=image/jpeg:https://lynntv.org/wp-content/uploads/2025/09/2025-Agora-Market.jpg
END:VEVENT
BEGIN:VEVENT
DTSTART;TZID=America/New_York:20250920T130000
DTEND;TZID=America/New_York:20250920T180000
DTSTAMP:20260421T175341
CREATED:20250815T133029Z
LAST-MODIFIED:20250815T141409Z
UID:10014576-1758373200-1758391200@lynntv.org
SUMMARY:La Cultura Fest 2025
DESCRIPTION:From the Millennium Latino Project: September marks our one-year anniversary\, and since it falls right in the heart of Hispanic Heritage Month\, we thought… why not celebrate with the community? \nThis year\, we’re embracing our culture and bringing everyone together at Lynn’s brand new Lynn Harbor Park\, specifically at the Activity Terrace! Offering a day full of live performances\, local vendors\, family fun\, and powerful cultural expression. \nTo be announced: Run of Show\, Entertainment\, Sponsors and Vendors.\nWe need YOUR support to bring this to life! We’re looking for:\nSponsors – to help us make a big impact\nVendors – to showcase amazing products & food\nVolunteers – to help make the day unforgettable\n \nClick here to fill out the interest form. \nInterested in Sponsoring or have more questions? Please email cf@millenniumlatinoproject.com
URL:https://lynntv.org/event/la-cultura-fest-2025/
LOCATION:Lynn Harbor Park\, 14 Hanson St\, Lynn\, MA\, 01905\, United States
CATEGORIES:Arts and Culture,Community,Entertainment,Festivals and Fairs,VisitLynnMA
ATTACH;FMTTYPE=image/jpeg:https://lynntv.org/wp-content/uploads/2025/08/La-Cultura-Fest-2025.jpg
ORGANIZER;CN="Millennium Latino Project":MAILTO:nfo@millenniumlatinoproject.com
END:VEVENT
END:VCALENDAR