BEGIN:VCALENDAR
VERSION:2.0
PRODID:-//Lynn Community TV - ECPv6.15.20//NONSGML v1.0//EN
CALSCALE:GREGORIAN
METHOD:PUBLISH
X-ORIGINAL-URL:https://lynntv.org
X-WR-CALDESC:Events for Lynn Community TV
REFRESH-INTERVAL;VALUE=DURATION:PT1H
X-Robots-Tag:noindex
X-PUBLISHED-TTL:PT1H
BEGIN:VTIMEZONE
TZID:America/New_York
BEGIN:DAYLIGHT
TZOFFSETFROM:-0500
TZOFFSETTO:-0400
TZNAME:EDT
DTSTART:20240310T070000
END:DAYLIGHT
BEGIN:STANDARD
TZOFFSETFROM:-0400
TZOFFSETTO:-0500
TZNAME:EST
DTSTART:20241103T060000
END:STANDARD
BEGIN:DAYLIGHT
TZOFFSETFROM:-0500
TZOFFSETTO:-0400
TZNAME:EDT
DTSTART:20250309T070000
END:DAYLIGHT
BEGIN:STANDARD
TZOFFSETFROM:-0400
TZOFFSETTO:-0500
TZNAME:EST
DTSTART:20251102T060000
END:STANDARD
BEGIN:DAYLIGHT
TZOFFSETFROM:-0500
TZOFFSETTO:-0400
TZNAME:EDT
DTSTART:20260308T070000
END:DAYLIGHT
BEGIN:STANDARD
TZOFFSETFROM:-0400
TZOFFSETTO:-0500
TZNAME:EST
DTSTART:20261101T060000
END:STANDARD
END:VTIMEZONE
BEGIN:VEVENT
DTSTART;VALUE=DATE:20250913
DTEND;VALUE=DATE:20250928
DTSTAMP:20260421T161653
CREATED:20250828T185401Z
LAST-MODIFIED:20250828T194224Z
UID:10014744-1757721600-1759017599@lynntv.org
SUMMARY:2025 Trails & Sails
DESCRIPTION:From the Essex National Heritage Area:  Trails & Sails is an event series that brings awareness and appreciation for heritage resources around Essex County\, Massachusetts\, which is a federally designated National Heritage Area. \nHistorically\, Trails & Sails has focused on outdoor activities such as guided hikes and excursions on the water\, but over the years it has grown to include historic house tours\, lectures\, community celebrations\, special exhibitions\, craft demonstrations\, and many other diverse activities. \nClick here for more information on events throughout the Essex National Heritage Area\, download the guidebook\, and more\nBelow are snippets from the guidebook for the events happening in Lynn:\nClick for full resolution images
URL:https://lynntv.org/event/2025-trails-sails/
LOCATION:Multiple locations\, please see listing for more info.
CATEGORIES:Arts and Culture,City of Lynn,Community,Entertainment,Seminars and Workshops,Talks and Panel Discussions,VisitLynnMA,Youth
ATTACH;FMTTYPE=image/jpeg:https://lynntv.org/wp-content/uploads/2022/09/Trails-Sails-logo.jpg
ORGANIZER;CN="Essex National Heritage Area":MAILTO:Info@EssexHeritage.org
END:VEVENT
BEGIN:VEVENT
DTSTART;VALUE=DATE:20250918
DTEND;VALUE=DATE:20250929
DTSTAMP:20260421T161653
CREATED:20250915T193130Z
LAST-MODIFIED:20250915T193133Z
UID:10015311-1758153600-1759103999@lynntv.org
SUMMARY:Lynn Carnival - September 2025
DESCRIPTION:From the City of Lynn: The carnival is returning to Lynn! Join us for rides\, games\, food\, and family fun to benefit the City of Lynn!\n\nOpen Thursday/Friday at 6pm\nOpen Saturday/Sunday at 1pm\nClosed Mon-Wed\n\nUnlimited ride specials daily\n$5 Admission Fee per person\, Children 12 or under are free\nUse code “LYNN2025” to save on MegaPasses (online only)\n\n\n\n\n\n\nTo purchase tickets or wristbands online\, visit fiestashows.com
URL:https://lynntv.org/event/lynn-carnival-september-2025/
LOCATION:40 Federal Street\, 40 Federal Street\, Lynn\, 01905\, United States
CATEGORIES:Arts and Culture,City of Lynn,Community,Entertainment,Festivals and Fairs,Fundraisers,VisitLynnMA,Youth
ATTACH;FMTTYPE=image/jpeg:https://lynntv.org/wp-content/uploads/2022/06/FI-Carnival-3.jpg
ORGANIZER;CN="Fiesta Shows":MAILTO:customersupport@fiestashows.com
END:VEVENT
BEGIN:VEVENT
DTSTART;VALUE=DATE:20250921
DTEND;VALUE=DATE:20250922
DTSTAMP:20260421T161653
CREATED:20250912T160634Z
LAST-MODIFIED:20250912T160634Z
UID:10015172-1758412800-1758499199@lynntv.org
SUMMARY:Children's Programs at UUCGL
DESCRIPTION:From the UUCGL: The Unitarian Universalist Church of Greater Lynn (UUCGL) offers programs for children and youth under 18 years of age for the school year 2025-2026\, and registration is now open.\n\n \n\nYou don’t need to go it alone. Parents and caregivers come to Unitarian Universalist (UU) congregations because our communities help raise children to be kind\, respectful\, caring\, to celebrate diversity\, and be spiritually strong enough to side with love in an increasingly divisive world. Check out our programs at uucgl.org/programs-for-children\n\n \n\nSOME THINGS OUR KIDS HAVE BEEN DOING:\n\n \n\n 	Learning about native plants & care for the Earth\n \n 	Acting\, designing sets\, & making our own video productions\n \n 	Visiting neighboring churches & learning about the world’s faith traditions\n \n 	Making meals for families facing food insecurity\n \n 	Exploring the world through art\n \n 	Embarking on field trips & active learning projects\n\n \n\nProgramming is offered every Sunday morning at 10am\, plus afternoon & evening programming for 5th grade & up on select Sundays\, September–June.\n\n \n\nYour family is invited to join in the exploration and celebration. We’re delighted to have you with us!\nPlease click here to register \nQuestions? Call 781-595-8836
URL:https://lynntv.org/event/childrens-programs-at-uucgl/2025-09-21/
LOCATION:UUCGL\, 101 Forest Ave\, Swampscott\, MA\, 01907\, United States
CATEGORIES:Arts and Culture,Groups, Clubs, and Meet-ups,Seminars and Workshops,Youth
ORGANIZER;CN="UUCGL":MAILTO:office@uucgl.org
END:VEVENT
BEGIN:VEVENT
DTSTART;TZID=America/New_York:20250921T150000
DTEND;TZID=America/New_York:20250921T190000
DTSTAMP:20260421T161653
CREATED:20241114T151311Z
LAST-MODIFIED:20241114T151311Z
UID:10012692-1758466800-1758481200@lynntv.org
SUMMARY:Poetic Lynnguistics: North Shore Youth Spoken Word
DESCRIPTION:More information will be released soon…stay tuned!\nThis is a youth Event + Admission is FREE. An 18+ Open Mic will begin on the 1st and 3rd Sundays at 7pm. More information on the event series page. \n_________________ \nIf you have any questions please contact Michelle LaPoetica at 662-799-1916 or DENCITYvibes@gmail.com. \n\nThe above information was submitted to us by DENCITY.
URL:https://lynntv.org/event/poetic-lynnguistics-north-shore-youth-spoken-word-2/2025-09-21/
LOCATION:The Studios at Lynn Museum & Arts Center (LynnArts) & The Neal Rantoul Vault Theatre\, 25 Exchange Street\, Lynn\, MA\, 01901\, United States
CATEGORIES:Arts and Culture,Entertainment,Open mic,VisitLynnMA,Youth
ATTACH;FMTTYPE=image/jpeg:https://lynntv.org/wp-content/uploads/2024/11/FI-DENCITY-2024-North-shore-Youth-Spoken-Word.jpg
END:VEVENT
BEGIN:VEVENT
DTSTART;TZID=America/New_York:20250921T190000
DTEND;TZID=America/New_York:20250921T220000
DTSTAMP:20260421T161653
CREATED:20241114T145118Z
LAST-MODIFIED:20250820T203513Z
UID:10012513-1758481200-1758492000@lynntv.org
SUMMARY:DENCITY International Soulcase + Open Mic
DESCRIPTION:DENCITY International Soulcase + Open Mic is where the soul speaks and truths echo. A sanctuary for expression\, a community of creatives\, and a celebration of raw\, unfiltered storytelling through spoken word\, music\, and performance. \nThis is a brave\, healing\, and SOBER space — a judgment-free zone where you are welcome as you are. \n_________________ \nIf you have any questions please contact Michelle LaPoetica at 662-799-1916 or DENCITYvibes@gmail.com. \n\nThe above information was submitted to us by DENCITY.
URL:https://lynntv.org/event/dencity-international-soulcase-open-mic/2025-09-21/
LOCATION:The Studios at Lynn Museum & Arts Center (LynnArts) & The Neal Rantoul Vault Theatre\, 25 Exchange Street\, Lynn\, MA\, 01901\, United States
CATEGORIES:Arts and Culture,Entertainment,Open mic,VisitLynnMA
ATTACH;FMTTYPE=image/jpeg:https://lynntv.org/wp-content/uploads/2024/11/FI-2025-DENCITY-International-Soulcase-Open-Mic.jpg
END:VEVENT
BEGIN:VEVENT
DTSTART;TZID=America/New_York:20250922T180000
DTEND;TZID=America/New_York:20250922T210000
DTSTAMP:20260421T161653
CREATED:20230327T193208Z
LAST-MODIFIED:20250429T195746Z
UID:10010942-1758564000-1758574800@lynntv.org
SUMMARY:Figure Drawing at GALA
DESCRIPTION:Join the Monday Night Drawing Group at the Galleries at LynnArts\, hosted by Annette Sykes of Paint by the Ocean. This weekly session offers artists of all levels the opportunity to draw from a live\, clothed or unclothed model in a relaxed\, supportive environment. Bring your own art supplies and enjoy an evening of creative exploration.​\n\nThese drawing groups will meet every Monday from 6-9pm at GALA. Fees are $18 for GALA Members\, $20 for Non-Members\, & $18 for Students. No instruction is provided; this is a self-guided session ideal for practicing figure drawing in a community setting.​ \nFor more information visit the GALA website\, follow @paintbytheocean on Instagram\, or email paintbytheocean@gmail.com.\n\n\nIf the flier above is out-of-date please contact GALA \n\nThe above information was submitted to us by the Galleries at LynnArts (GALA).
URL:https://lynntv.org/event/figure-drawing-at-gala/2025-09-22/
LOCATION:The Studios at Lynn Museum & Arts Center (LynnArts) & The Neal Rantoul Vault Theatre\, 25 Exchange Street\, Lynn\, MA\, 01901\, United States
CATEGORIES:Arts and Culture,Groups, Clubs, and Meet-ups,VisitLynnMA
ATTACH;FMTTYPE=image/jpeg:https://lynntv.org/wp-content/uploads/2023/03/FI-Figure-Drawing.jpg
END:VEVENT
BEGIN:VEVENT
DTSTART;TZID=America/New_York:20250925T193000
DTEND;TZID=America/New_York:20250925T233000
DTSTAMP:20260421T161653
CREATED:20250115T204713Z
LAST-MODIFIED:20260409T184430Z
UID:10013450-1758828600-1758843000@lynntv.org
SUMMARY:Stand Up Stick Up @ The Vault
DESCRIPTION:From Steven Foley Media Productions: Stand Up Stick Up – Comedy @ The Vault Theatre is a monthly standup comedy show in a former historic bank\, now The Neal Rantoul Vault Blackbox Theatre\, inside the storied LynnArts building. \nEvery fourth Thursday\, we bring a lineup of New England’s freshest local talent and the best national headliners to Lynn for a night of hilarious standup comedy in an intimate\, unique setting. Finally\, something fun to do in Lynn! Check out the website below to see more upcoming shows\, join our mailing list for exclusive promotions\, and learn more about the show! \nDon’t miss out on this rare chance to enjoy a night of laughter\, fun\, and live performance in f*cking Lynn! Doors at 7:30pm\, show at 8! \n\n\nPlease click here for more info & tickets\nProceeds benefit the Lynn Music Foundation.\nPresented by the Lynn Music Foundation and Steven Foley Media Productions. \n\n\n\n\nAPRIL LINEUP:\n\n \n\nTHREE YEAR ANNIVERSARY SHOW \nMusical guest – Nandini \nHost – Jamie Aird \nHeadliner – Alex Cureau \nGuest Comics – Nic Sugiarto / Maddie Kelley / Dutchess / Mark McGwin \n\n\n______________________ \n\nIf the previous month’s flier is above that means we haven’t been sent updated information. If you have any questions about this event please contact the LMF via email  by clicking here.
URL:https://lynntv.org/event/stand-up-stick-up-the-vault/2025-09-25/
LOCATION:The Studios at Lynn Museum & Arts Center (LynnArts) & The Neal Rantoul Vault Theatre\, 25 Exchange Street\, Lynn\, MA\, 01901\, United States
CATEGORIES:Arts and Culture,Entertainment,Fundraisers,VisitLynnMA
ATTACH;FMTTYPE=image/jpeg:https://lynntv.org/wp-content/uploads/2023/06/FI-Stand-Up-Stick-Up-Comedy-show.jpg
ORGANIZER;CN="Lynn Music Foundation":MAILTO:lynnmusicfoundation@gmail.com
END:VEVENT
BEGIN:VEVENT
DTSTART;TZID=America/New_York:20250927T073000
DTEND;TZID=America/New_York:20250927T083000
DTSTAMP:20260421T161653
CREATED:20250916T144048Z
LAST-MODIFIED:20250916T144048Z
UID:10015312-1758958200-1758961800@lynntv.org
SUMMARY:Beyond Walls Mural Tours - Fall 2025
DESCRIPTION:From Beyond Walls:Lynn is home to over 65+ murals created in collaboration with Beyond Walls and local\, regional\, national\, and international artists\, including Golden305\, Smug One\, Bordalo II\, BKFoxx\, Helen Bur\, and many more! \nJoin Beyond Walls for the ‘Early Bird’ tour at 7:30 AM\, or catch the 10:00 AM tour before your Saturday brunch on September 27\, October 4\, & October 18. \nYou’ll explore the symbolism\, culture\, identity\, and artistic techniques featured in the murals. Each tour lasts about one hour and covers approximately 20 murals (including 7 brand new murals). \nLet Beyond Walls show you around Lynn and\, afterwards\, spend some time in the area visiting their local favorite breakfast or lunch spots\, and discovering some of your own! Check out our video series Tour Lynn. \nPlease RSVP by clicking here\nLearn more about Beyond Walls\, their offerings\, and upcoming events: https://beyondwalls.org/
URL:https://lynntv.org/event/beyond-walls-mural-tours-fall-2025/2025-09-27/1/
LOCATION:Multiple locations\, please see listing for more info.
CATEGORIES:Arts and Culture,Community,Talks and Panel Discussions,VisitLynnMA
ATTACH;FMTTYPE=image/jpeg:https://lynntv.org/wp-content/uploads/2025/09/Beyond-Walls-Mural-Tours-Fall-2025.jpg
END:VEVENT
BEGIN:VEVENT
DTSTART;TZID=America/New_York:20250927T100000
DTEND;TZID=America/New_York:20250927T110000
DTSTAMP:20260421T161653
CREATED:20250916T144048Z
LAST-MODIFIED:20250916T144048Z
UID:10015313-1758967200-1758970800@lynntv.org
SUMMARY:Beyond Walls Mural Tours - Fall 2025
DESCRIPTION:From Beyond Walls:Lynn is home to over 65+ murals created in collaboration with Beyond Walls and local\, regional\, national\, and international artists\, including Golden305\, Smug One\, Bordalo II\, BKFoxx\, Helen Bur\, and many more! \nJoin Beyond Walls for the ‘Early Bird’ tour at 7:30 AM\, or catch the 10:00 AM tour before your Saturday brunch on September 27\, October 4\, & October 18. \nYou’ll explore the symbolism\, culture\, identity\, and artistic techniques featured in the murals. Each tour lasts about one hour and covers approximately 20 murals (including 7 brand new murals). \nLet Beyond Walls show you around Lynn and\, afterwards\, spend some time in the area visiting their local favorite breakfast or lunch spots\, and discovering some of your own! Check out our video series Tour Lynn. \nPlease RSVP by clicking here\nLearn more about Beyond Walls\, their offerings\, and upcoming events: https://beyondwalls.org/
URL:https://lynntv.org/event/beyond-walls-mural-tours-fall-2025/2025-09-27/2/
LOCATION:Multiple locations\, please see listing for more info.
CATEGORIES:Arts and Culture,Community,Talks and Panel Discussions,VisitLynnMA
ATTACH;FMTTYPE=image/jpeg:https://lynntv.org/wp-content/uploads/2025/09/Beyond-Walls-Mural-Tours-Fall-2025.jpg
END:VEVENT
END:VCALENDAR