BEGIN:VCALENDAR
VERSION:2.0
PRODID:-//Lynn Community TV - ECPv6.15.20//NONSGML v1.0//EN
CALSCALE:GREGORIAN
METHOD:PUBLISH
X-ORIGINAL-URL:https://lynntv.org
X-WR-CALDESC:Events for Lynn Community TV
REFRESH-INTERVAL;VALUE=DURATION:PT1H
X-Robots-Tag:noindex
X-PUBLISHED-TTL:PT1H
BEGIN:VTIMEZONE
TZID:America/New_York
BEGIN:DAYLIGHT
TZOFFSETFROM:-0500
TZOFFSETTO:-0400
TZNAME:EDT
DTSTART:20240310T070000
END:DAYLIGHT
BEGIN:STANDARD
TZOFFSETFROM:-0400
TZOFFSETTO:-0500
TZNAME:EST
DTSTART:20241103T060000
END:STANDARD
BEGIN:DAYLIGHT
TZOFFSETFROM:-0500
TZOFFSETTO:-0400
TZNAME:EDT
DTSTART:20250309T070000
END:DAYLIGHT
BEGIN:STANDARD
TZOFFSETFROM:-0400
TZOFFSETTO:-0500
TZNAME:EST
DTSTART:20251102T060000
END:STANDARD
BEGIN:DAYLIGHT
TZOFFSETFROM:-0500
TZOFFSETTO:-0400
TZNAME:EDT
DTSTART:20260308T070000
END:DAYLIGHT
BEGIN:STANDARD
TZOFFSETFROM:-0400
TZOFFSETTO:-0500
TZNAME:EST
DTSTART:20261101T060000
END:STANDARD
END:VTIMEZONE
BEGIN:VEVENT
DTSTART;VALUE=DATE:20250918
DTEND;VALUE=DATE:20250929
DTSTAMP:20260421T175521
CREATED:20250915T193130Z
LAST-MODIFIED:20250915T193133Z
UID:10015311-1758153600-1759103999@lynntv.org
SUMMARY:Lynn Carnival - September 2025
DESCRIPTION:From the City of Lynn: The carnival is returning to Lynn! Join us for rides\, games\, food\, and family fun to benefit the City of Lynn!\n\nOpen Thursday/Friday at 6pm\nOpen Saturday/Sunday at 1pm\nClosed Mon-Wed\n\nUnlimited ride specials daily\n$5 Admission Fee per person\, Children 12 or under are free\nUse code “LYNN2025” to save on MegaPasses (online only)\n\n\n\n\n\n\nTo purchase tickets or wristbands online\, visit fiestashows.com
URL:https://lynntv.org/event/lynn-carnival-september-2025/
LOCATION:40 Federal Street\, 40 Federal Street\, Lynn\, 01905\, United States
CATEGORIES:Arts and Culture,City of Lynn,Community,Entertainment,Festivals and Fairs,Fundraisers,VisitLynnMA,Youth
ATTACH;FMTTYPE=image/jpeg:https://lynntv.org/wp-content/uploads/2022/06/FI-Carnival-3.jpg
ORGANIZER;CN="Fiesta Shows":MAILTO:customersupport@fiestashows.com
END:VEVENT
BEGIN:VEVENT
DTSTART;VALUE=DATE:20250928
DTEND;VALUE=DATE:20250929
DTSTAMP:20260421T175521
CREATED:20250912T160634Z
LAST-MODIFIED:20250912T160634Z
UID:10015173-1759017600-1759103999@lynntv.org
SUMMARY:Children's Programs at UUCGL
DESCRIPTION:From the UUCGL: The Unitarian Universalist Church of Greater Lynn (UUCGL) offers programs for children and youth under 18 years of age for the school year 2025-2026\, and registration is now open.\n\n \n\nYou don’t need to go it alone. Parents and caregivers come to Unitarian Universalist (UU) congregations because our communities help raise children to be kind\, respectful\, caring\, to celebrate diversity\, and be spiritually strong enough to side with love in an increasingly divisive world. Check out our programs at uucgl.org/programs-for-children\n\n \n\nSOME THINGS OUR KIDS HAVE BEEN DOING:\n\n \n\n 	Learning about native plants & care for the Earth\n \n 	Acting\, designing sets\, & making our own video productions\n \n 	Visiting neighboring churches & learning about the world’s faith traditions\n \n 	Making meals for families facing food insecurity\n \n 	Exploring the world through art\n \n 	Embarking on field trips & active learning projects\n\n \n\nProgramming is offered every Sunday morning at 10am\, plus afternoon & evening programming for 5th grade & up on select Sundays\, September–June.\n\n \n\nYour family is invited to join in the exploration and celebration. We’re delighted to have you with us!\nPlease click here to register \nQuestions? Call 781-595-8836
URL:https://lynntv.org/event/childrens-programs-at-uucgl/2025-09-28/
LOCATION:UUCGL\, 101 Forest Ave\, Swampscott\, MA\, 01907\, United States
CATEGORIES:Arts and Culture,Groups, Clubs, and Meet-ups,Seminars and Workshops,Youth
ORGANIZER;CN="UUCGL":MAILTO:office@uucgl.org
END:VEVENT
BEGIN:VEVENT
DTSTART;TZID=America/New_York:20250929T180000
DTEND;TZID=America/New_York:20250929T210000
DTSTAMP:20260421T175521
CREATED:20230327T193208Z
LAST-MODIFIED:20250429T195746Z
UID:10010943-1759168800-1759179600@lynntv.org
SUMMARY:Figure Drawing at GALA
DESCRIPTION:Join the Monday Night Drawing Group at the Galleries at LynnArts\, hosted by Annette Sykes of Paint by the Ocean. This weekly session offers artists of all levels the opportunity to draw from a live\, clothed or unclothed model in a relaxed\, supportive environment. Bring your own art supplies and enjoy an evening of creative exploration.​\n\nThese drawing groups will meet every Monday from 6-9pm at GALA. Fees are $18 for GALA Members\, $20 for Non-Members\, & $18 for Students. No instruction is provided; this is a self-guided session ideal for practicing figure drawing in a community setting.​ \nFor more information visit the GALA website\, follow @paintbytheocean on Instagram\, or email paintbytheocean@gmail.com.\n\n\nIf the flier above is out-of-date please contact GALA \n\nThe above information was submitted to us by the Galleries at LynnArts (GALA).
URL:https://lynntv.org/event/figure-drawing-at-gala/2025-09-29/
LOCATION:The Studios at Lynn Museum & Arts Center (LynnArts) & The Neal Rantoul Vault Theatre\, 25 Exchange Street\, Lynn\, MA\, 01901\, United States
CATEGORIES:Arts and Culture,Groups, Clubs, and Meet-ups,VisitLynnMA
ATTACH;FMTTYPE=image/jpeg:https://lynntv.org/wp-content/uploads/2023/03/FI-Figure-Drawing.jpg
END:VEVENT
BEGIN:VEVENT
DTSTART;VALUE=DATE:20251001
DTEND;VALUE=DATE:20251006
DTSTAMP:20260421T175521
CREATED:20250911T180635Z
LAST-MODIFIED:20250911T180635Z
UID:10015166-1759276800-1759708799@lynntv.org
SUMMARY:2025 Lynn Film Festival
DESCRIPTION:The 2025 Lynn Film Festival\, running October 1–5 at The Neal Rantoul Vault Theater\, celebrates the power of music and community through film. This year’s lineup features a diverse mix of documentaries and stories—from youth films created by local students\, to global spotlights on punk\, hip hop\, new wave\, and hardcore movements\, to brunch performances and closing tributes to Lynn’s own WFNX legacy. Blending screenings\, live music\, and cultural celebrations\, the festival showcases Lynn’s creative spirit while connecting audiences to the rich history and vibrant energy of music communities in Lynn\, Massachusetts\, and beyond. \nDay 1: Youth Films from Raw Art Works & FC Academy \nDay 2: The Process + The Lynn Hip Hop Documentary \nDay 3: Punk in Africa + Godfathers of Hardcore \nDay 4: Don’t Think I’ve Forgotten + New Wave \nDay 5: Sly Lives + We Want The Airwaves \nLearn more details about the Lynn Film Festival\n 
URL:https://lynntv.org/event/2025-lynn-film-festival/
LOCATION:Multiple locations\, please see listing for more info.
CATEGORIES:Arts and Culture,Community,Entertainment,Festivals and Fairs,VisitLynnMA
ATTACH;FMTTYPE=image/jpeg:https://lynntv.org/wp-content/uploads/2025/09/2025-Lynn-Film-Festival.jpg
ORGANIZER;CN="Lynn Music Foundation":MAILTO:lynnmusicfoundation@gmail.com
END:VEVENT
BEGIN:VEVENT
DTSTART;TZID=America/New_York:20251003T173000
DTEND;TZID=America/New_York:20251003T213000
DTSTAMP:20260421T175521
CREATED:20250911T174028Z
LAST-MODIFIED:20251020T200947Z
UID:10015158-1759512600-1759527000@lynntv.org
SUMMARY:Teen Drop-in Center - Fall 2025
DESCRIPTION:From Lynn Parks & Recreation: The Lynn Teen Drop-In Center is hosted weekly for our youth ages 13-18 to engage in recreational activities during after-school and evening hours. Activities include playing sports\, listening to music\, and hearing from guest speakers. \nMusic * Pizza * Cornhole * Volleyball * Basketball\nDates subject to change due to school scheduled sporting events or inclement weather. \nSupported by the Mayor’s office\, Lynn Parks and Recreation Department\, Lynn Police Department\, Shannon Grant\, & Community Development. For more information\, please call Lisa Nerich 781-286-8000 \nPlease be advised that the Teen Drop-In Center will be closed Friday\, October 24th\, due to Senior Night at LVTI. It will reopen on October 31 – Halloween night!\n \n 
URL:https://lynntv.org/event/teen-drop-in-center-fall-2025/2025-10-03/
LOCATION:Lynn Tech – Field House\, 80 Neptune Blvd\, Lynn\, MA\, 01902\, United States
CATEGORIES:Arts and Culture,Community,Entertainment,Groups, Clubs, and Meet-ups,Health and Wellness,Youth
ATTACH;FMTTYPE=image/jpeg:https://lynntv.org/wp-content/uploads/2022/09/FI-Teen-Drop-In-Center.jpg
END:VEVENT
BEGIN:VEVENT
DTSTART;TZID=America/New_York:20251004T073000
DTEND;TZID=America/New_York:20251004T083000
DTSTAMP:20260421T175521
CREATED:20250916T144048Z
LAST-MODIFIED:20250916T144048Z
UID:10015314-1759563000-1759566600@lynntv.org
SUMMARY:Beyond Walls Mural Tours - Fall 2025
DESCRIPTION:From Beyond Walls:Lynn is home to over 65+ murals created in collaboration with Beyond Walls and local\, regional\, national\, and international artists\, including Golden305\, Smug One\, Bordalo II\, BKFoxx\, Helen Bur\, and many more! \nJoin Beyond Walls for the ‘Early Bird’ tour at 7:30 AM\, or catch the 10:00 AM tour before your Saturday brunch on September 27\, October 4\, & October 18. \nYou’ll explore the symbolism\, culture\, identity\, and artistic techniques featured in the murals. Each tour lasts about one hour and covers approximately 20 murals (including 7 brand new murals). \nLet Beyond Walls show you around Lynn and\, afterwards\, spend some time in the area visiting their local favorite breakfast or lunch spots\, and discovering some of your own! Check out our video series Tour Lynn. \nPlease RSVP by clicking here\nLearn more about Beyond Walls\, their offerings\, and upcoming events: https://beyondwalls.org/
URL:https://lynntv.org/event/beyond-walls-mural-tours-fall-2025/2025-10-04/1/
LOCATION:Multiple locations\, please see listing for more info.
CATEGORIES:Arts and Culture,Community,Talks and Panel Discussions,VisitLynnMA
ATTACH;FMTTYPE=image/jpeg:https://lynntv.org/wp-content/uploads/2025/09/Beyond-Walls-Mural-Tours-Fall-2025.jpg
END:VEVENT
BEGIN:VEVENT
DTSTART;TZID=America/New_York:20251004T100000
DTEND;TZID=America/New_York:20251004T110000
DTSTAMP:20260421T175521
CREATED:20250916T144048Z
LAST-MODIFIED:20250916T144048Z
UID:10015315-1759572000-1759575600@lynntv.org
SUMMARY:Beyond Walls Mural Tours - Fall 2025
DESCRIPTION:From Beyond Walls:Lynn is home to over 65+ murals created in collaboration with Beyond Walls and local\, regional\, national\, and international artists\, including Golden305\, Smug One\, Bordalo II\, BKFoxx\, Helen Bur\, and many more! \nJoin Beyond Walls for the ‘Early Bird’ tour at 7:30 AM\, or catch the 10:00 AM tour before your Saturday brunch on September 27\, October 4\, & October 18. \nYou’ll explore the symbolism\, culture\, identity\, and artistic techniques featured in the murals. Each tour lasts about one hour and covers approximately 20 murals (including 7 brand new murals). \nLet Beyond Walls show you around Lynn and\, afterwards\, spend some time in the area visiting their local favorite breakfast or lunch spots\, and discovering some of your own! Check out our video series Tour Lynn. \nPlease RSVP by clicking here\nLearn more about Beyond Walls\, their offerings\, and upcoming events: https://beyondwalls.org/
URL:https://lynntv.org/event/beyond-walls-mural-tours-fall-2025/2025-10-04/2/
LOCATION:Multiple locations\, please see listing for more info.
CATEGORIES:Arts and Culture,Community,Talks and Panel Discussions,VisitLynnMA
ATTACH;FMTTYPE=image/jpeg:https://lynntv.org/wp-content/uploads/2025/09/Beyond-Walls-Mural-Tours-Fall-2025.jpg
END:VEVENT
END:VCALENDAR