BEGIN:VCALENDAR
VERSION:2.0
PRODID:-//Lynn Community TV - ECPv6.15.20//NONSGML v1.0//EN
CALSCALE:GREGORIAN
METHOD:PUBLISH
X-ORIGINAL-URL:https://lynntv.org
X-WR-CALDESC:Events for Lynn Community TV
REFRESH-INTERVAL;VALUE=DURATION:PT1H
X-Robots-Tag:noindex
X-PUBLISHED-TTL:PT1H
BEGIN:VTIMEZONE
TZID:America/New_York
BEGIN:DAYLIGHT
TZOFFSETFROM:-0500
TZOFFSETTO:-0400
TZNAME:EDT
DTSTART:20240310T070000
END:DAYLIGHT
BEGIN:STANDARD
TZOFFSETFROM:-0400
TZOFFSETTO:-0500
TZNAME:EST
DTSTART:20241103T060000
END:STANDARD
BEGIN:DAYLIGHT
TZOFFSETFROM:-0500
TZOFFSETTO:-0400
TZNAME:EDT
DTSTART:20250309T070000
END:DAYLIGHT
BEGIN:STANDARD
TZOFFSETFROM:-0400
TZOFFSETTO:-0500
TZNAME:EST
DTSTART:20251102T060000
END:STANDARD
BEGIN:DAYLIGHT
TZOFFSETFROM:-0500
TZOFFSETTO:-0400
TZNAME:EDT
DTSTART:20260308T070000
END:DAYLIGHT
BEGIN:STANDARD
TZOFFSETFROM:-0400
TZOFFSETTO:-0500
TZNAME:EST
DTSTART:20261101T060000
END:STANDARD
END:VTIMEZONE
BEGIN:VEVENT
DTSTART;VALUE=DATE:20251019
DTEND;VALUE=DATE:20251020
DTSTAMP:20260421T144140
CREATED:20250912T160634Z
LAST-MODIFIED:20250912T160634Z
UID:10015176-1760832000-1760918399@lynntv.org
SUMMARY:Children's Programs at UUCGL
DESCRIPTION:From the UUCGL: The Unitarian Universalist Church of Greater Lynn (UUCGL) offers programs for children and youth under 18 years of age for the school year 2025-2026\, and registration is now open.\n\n \n\nYou don’t need to go it alone. Parents and caregivers come to Unitarian Universalist (UU) congregations because our communities help raise children to be kind\, respectful\, caring\, to celebrate diversity\, and be spiritually strong enough to side with love in an increasingly divisive world. Check out our programs at uucgl.org/programs-for-children\n\n \n\nSOME THINGS OUR KIDS HAVE BEEN DOING:\n\n \n\n 	Learning about native plants & care for the Earth\n \n 	Acting\, designing sets\, & making our own video productions\n \n 	Visiting neighboring churches & learning about the world’s faith traditions\n \n 	Making meals for families facing food insecurity\n \n 	Exploring the world through art\n \n 	Embarking on field trips & active learning projects\n\n \n\nProgramming is offered every Sunday morning at 10am\, plus afternoon & evening programming for 5th grade & up on select Sundays\, September–June.\n\n \n\nYour family is invited to join in the exploration and celebration. We’re delighted to have you with us!\nPlease click here to register \nQuestions? Call 781-595-8836
URL:https://lynntv.org/event/childrens-programs-at-uucgl/2025-10-19/
LOCATION:UUCGL\, 101 Forest Ave\, Swampscott\, MA\, 01907\, United States
CATEGORIES:Arts and Culture,Groups, Clubs, and Meet-ups,Seminars and Workshops,Youth
ORGANIZER;CN="UUCGL":MAILTO:office@uucgl.org
END:VEVENT
BEGIN:VEVENT
DTSTART;TZID=America/New_York:20251019T150000
DTEND;TZID=America/New_York:20251019T190000
DTSTAMP:20260421T144140
CREATED:20241114T151311Z
LAST-MODIFIED:20241114T151311Z
UID:10012693-1760886000-1760900400@lynntv.org
SUMMARY:Poetic Lynnguistics: North Shore Youth Spoken Word
DESCRIPTION:More information will be released soon…stay tuned!\nThis is a youth Event + Admission is FREE. An 18+ Open Mic will begin on the 1st and 3rd Sundays at 7pm. More information on the event series page. \n_________________ \nIf you have any questions please contact Michelle LaPoetica at 662-799-1916 or DENCITYvibes@gmail.com. \n\nThe above information was submitted to us by DENCITY.
URL:https://lynntv.org/event/poetic-lynnguistics-north-shore-youth-spoken-word-2/2025-10-19/
LOCATION:The Studios at Lynn Museum & Arts Center (LynnArts) & The Neal Rantoul Vault Theatre\, 25 Exchange Street\, Lynn\, MA\, 01901\, United States
CATEGORIES:Arts and Culture,Entertainment,Open mic,VisitLynnMA,Youth
ATTACH;FMTTYPE=image/jpeg:https://lynntv.org/wp-content/uploads/2024/11/FI-DENCITY-2024-North-shore-Youth-Spoken-Word.jpg
END:VEVENT
BEGIN:VEVENT
DTSTART;TZID=America/New_York:20251019T190000
DTEND;TZID=America/New_York:20251019T220000
DTSTAMP:20260421T144140
CREATED:20241114T145118Z
LAST-MODIFIED:20250820T203513Z
UID:10012514-1760900400-1760911200@lynntv.org
SUMMARY:DENCITY International Soulcase + Open Mic
DESCRIPTION:DENCITY International Soulcase + Open Mic is where the soul speaks and truths echo. A sanctuary for expression\, a community of creatives\, and a celebration of raw\, unfiltered storytelling through spoken word\, music\, and performance. \nThis is a brave\, healing\, and SOBER space — a judgment-free zone where you are welcome as you are. \n_________________ \nIf you have any questions please contact Michelle LaPoetica at 662-799-1916 or DENCITYvibes@gmail.com. \n\nThe above information was submitted to us by DENCITY.
URL:https://lynntv.org/event/dencity-international-soulcase-open-mic/2025-10-19/
LOCATION:The Studios at Lynn Museum & Arts Center (LynnArts) & The Neal Rantoul Vault Theatre\, 25 Exchange Street\, Lynn\, MA\, 01901\, United States
CATEGORIES:Arts and Culture,Entertainment,Open mic,VisitLynnMA
ATTACH;FMTTYPE=image/jpeg:https://lynntv.org/wp-content/uploads/2024/11/FI-2025-DENCITY-International-Soulcase-Open-Mic.jpg
END:VEVENT
BEGIN:VEVENT
DTSTART;TZID=America/New_York:20251020T180000
DTEND;TZID=America/New_York:20251020T210000
DTSTAMP:20260421T144140
CREATED:20230327T193208Z
LAST-MODIFIED:20250429T195746Z
UID:10010946-1760983200-1760994000@lynntv.org
SUMMARY:Figure Drawing at GALA
DESCRIPTION:Join the Monday Night Drawing Group at the Galleries at LynnArts\, hosted by Annette Sykes of Paint by the Ocean. This weekly session offers artists of all levels the opportunity to draw from a live\, clothed or unclothed model in a relaxed\, supportive environment. Bring your own art supplies and enjoy an evening of creative exploration.​\n\nThese drawing groups will meet every Monday from 6-9pm at GALA. Fees are $18 for GALA Members\, $20 for Non-Members\, & $18 for Students. No instruction is provided; this is a self-guided session ideal for practicing figure drawing in a community setting.​ \nFor more information visit the GALA website\, follow @paintbytheocean on Instagram\, or email paintbytheocean@gmail.com.\n\n\nIf the flier above is out-of-date please contact GALA \n\nThe above information was submitted to us by the Galleries at LynnArts (GALA).
URL:https://lynntv.org/event/figure-drawing-at-gala/2025-10-20/
LOCATION:The Studios at Lynn Museum & Arts Center (LynnArts) & The Neal Rantoul Vault Theatre\, 25 Exchange Street\, Lynn\, MA\, 01901\, United States
CATEGORIES:Arts and Culture,Groups, Clubs, and Meet-ups,VisitLynnMA
ATTACH;FMTTYPE=image/jpeg:https://lynntv.org/wp-content/uploads/2023/03/FI-Figure-Drawing.jpg
END:VEVENT
BEGIN:VEVENT
DTSTART;TZID=America/New_York:20251020T190000
DTEND;TZID=America/New_York:20251020T200000
DTSTAMP:20260421T144140
CREATED:20250930T172547Z
LAST-MODIFIED:20250930T172547Z
UID:10015339-1760986800-1760990400@lynntv.org
SUMMARY:Taylor Swift Virtual Programs - Fall 2025
DESCRIPTION:From the Lynn Public Library: Join the Tewksbury Public Library & Lynn Public Library for a series of virtual programs revolving around Taylor Swift. \nPLEASE NOTE: THIS IS A VIRTUAL PROGRAM THAT WILL TAKE PLACE VIA ZOOM. Registrants will receive a link to access the Zoom Webinar via email. All registrants will receive recordings via email within 48 hours of the program. \nThank you to the Tewksbury Public Library for inviting Lynn Public Library patrons to these virtual events. \n\nThe Poetic and Musical Genius of Taylor Swift\nThursday\, October 16 from 7—8PM \n\nHarvard professor Stephanie Burt will deliver a fascinating presentation based on her brand new book\, Taylor’s Version: The Poetic and Musical Genius of Taylor Swift. Burt\, who is a poet and literary scholar\, will offer an insightful and heartfelt critical appreciation of Taylor Swift\, her body of work\, and the community that her art has fostered. Drawing from her 2024 Harvard course\, Taylor Swift and Her World\, as well as from her years as a Swiftie\, Burt will examine Swift’s particular form of genius – not the destructive genius of tortured poets\, but the collaborative and joyful genius of an artist who has mastered her craft. Burt is the Donald P. and Katherine B. Loker Professor of English at Harvard University. Her work appears in the New York Times Book Review\, the New Yorker\, and the London Review of Books\, among others. Her other books of poetry and literary criticism — fourteen in all — include We Are Mermaids\, Advice from the Lights\, and Don’t Read Poetry: A Book About How to Read Poems. \nRegister directly on Zoom HERE.\n______________________________________________ \nTaylor Swift Style: Fashion Through the Eras\nMonday\, October 20 from 7—8PM \n\nAuthor Sarah Chapelle will deliver a fascinating presentation based on her recent bestselling book\, Taylor Swift Style: Fashion Through the Eras. For Taylor Swift\, fashion and music go hand-in-hand — each playing a powerful role in shaping the narrative of this generation’s most prolific storyteller. From cowboy boots to teetering heels\, fairytale dresses to bleach-tinged tresses\, and the many memorable moments in between\, learn the fashion story behind every single Taylor Swift album\, tracing Swift’s musical evolution along with her ever-changing personal style. Chapelle\, creator of the successful Instagram and blog Taylor Swift Style\, has spent more than a decade documenting Swift’s fashion choices and the intention behind each ensemble. \nRegister directly on Zoom HERE.\n______________________________________________ \nTaylor Swift By the Book: Literature Behind the Lyrics\nThursday\, October 30 from 7—8PM \n\nAuthors Rachel Feder and Tiffany Tatreau will deliver a fascinating presentation based on their recent book\, Taylor Swift by the Book: The Literature Behind the Lyrics\, from Fairy Tales to Tortured Poets. Taylor Swift’s lyrics are filled with literary connections. Learn about the novels\, poems\, and plays that influence her songwriting. Let a literature professor and a musical theater artist guide you through the Taylor Swift canon—from Shakespeare to the Brontë sisters to Daphne du Maurier! Feder\, the author of five books\, is an associate professor of English and literary arts at the University of Denver. Tatreau is an actor\, singer\, and teaching artist who has starred in various musicals across the country and is best known for her portrayal of Ocean O’Connell Rosenberg in the musical and original cast album Ride the Cyclone. \nRegister directly on Zoom HERE.
URL:https://lynntv.org/event/taylor-swift-virtual-programs-fall-2025/2025-10-20/
LOCATION:Virtual
CATEGORIES:Arts and Culture,Talks and Panel Discussions,Virtual,VisitLynnMA
ATTACH;FMTTYPE=image/jpeg:https://lynntv.org/wp-content/uploads/2025/09/Taylor-Swift-Virtual-Programs.jpg
END:VEVENT
BEGIN:VEVENT
DTSTART;TZID=America/New_York:20251022T173000
DTEND;TZID=America/New_York:20251022T210000
DTSTAMP:20260421T144140
CREATED:20250918T193940Z
LAST-MODIFIED:20251001T202105Z
UID:10015321-1761154200-1761166800@lynntv.org
SUMMARY:2025 Register to Vote & Halloween Event
DESCRIPTION:From Lynners Against Drug Abuse: On October 22nd 2025 LADA is having our Annual register to vote costume contest for all Lynn Residents! This is a  free event! There will be food refreshments\, raffles and prizes available for the  winners of our contest . This year we will  be having celebrity guest judges!
URL:https://lynntv.org/event/2025-register-to-vote-halloween-event/
LOCATION:Trios Mexican Grill\, 70 Market Street\, Lynn\, MA\, United States
CATEGORIES:Arts and Culture,Community,Entertainment,Politics,VisitLynnMA,Youth
ATTACH;FMTTYPE=image/jpeg:https://lynntv.org/wp-content/uploads/2025/09/FI-2025-Register-to-Vote-Halloween-Event-for-LADA.jpg
END:VEVENT
BEGIN:VEVENT
DTSTART;TZID=America/New_York:20251023T180000
DTEND;TZID=America/New_York:20251023T220000
DTSTAMP:20260421T144140
CREATED:20250911T133144Z
LAST-MODIFIED:20251014T125356Z
UID:10015153-1761242400-1761256800@lynntv.org
SUMMARY:A Night of Dreams: Unidos for Education - Gala
DESCRIPTION:From the Lynn Hispanic Scholarship Fund: This past spring the Lynn Hispanic Scholarship Fund changed our traditional Scholarship Awards Gala to a Scholarship Reception. Our decision was intentional. We wanted to create an opportunity to honor our 2025 LHSF Scholars in a more intimate setting where the focus was on the students. The event was a celebration where students’ families\, friends and close supporters came together in familia. \n \nAs a growing organization\, the LHSF aims to offer more opportunities for the youth in our community. For this reason\, we have decided to create a new fall gala where we plan to highlight our alumni\, showcase our Latino/a/x culture and have some fun while raising the funds to expand our programs and scholarships. \n \nThe LHSF is excited to invite you to A Night of Dreams: Unidos for Education on Thursday\, October 23 at 6:00pm at Spinelli’s in Peabody. Our hope is that you can join us for an evening dedicated to celebrating the power of education and the dreams it makes possible. \nPlease click here to purchase tickets\, become a sponsor\, & for more information
URL:https://lynntv.org/event/a-night-of-dreams-unidos-for-education-gala/
LOCATION:Spinelli’s Function Facility\, 10 Newbury St.\, Peabody\, MA\, 01960\, United States
CATEGORIES:Arts and Culture,Community,Fundraisers,VisitLynnMA
ATTACH;FMTTYPE=image/jpeg:https://lynntv.org/wp-content/uploads/2025/09/2025-LHSF-Gala.jpg
ORGANIZER;CN="Lynn Hispanic Scholarship Fund":MAILTO:contact@lynnhispanicscholarshipfund.org
END:VEVENT
BEGIN:VEVENT
DTSTART;TZID=America/New_York:20251023T193000
DTEND;TZID=America/New_York:20251023T233000
DTSTAMP:20260421T144140
CREATED:20250115T204713Z
LAST-MODIFIED:20260409T184430Z
UID:10013451-1761247800-1761262200@lynntv.org
SUMMARY:Stand Up Stick Up @ The Vault
DESCRIPTION:From Steven Foley Media Productions: Stand Up Stick Up – Comedy @ The Vault Theatre is a monthly standup comedy show in a former historic bank\, now The Neal Rantoul Vault Blackbox Theatre\, inside the storied LynnArts building. \nEvery fourth Thursday\, we bring a lineup of New England’s freshest local talent and the best national headliners to Lynn for a night of hilarious standup comedy in an intimate\, unique setting. Finally\, something fun to do in Lynn! Check out the website below to see more upcoming shows\, join our mailing list for exclusive promotions\, and learn more about the show! \nDon’t miss out on this rare chance to enjoy a night of laughter\, fun\, and live performance in f*cking Lynn! Doors at 7:30pm\, show at 8! \n\n\nPlease click here for more info & tickets\nProceeds benefit the Lynn Music Foundation.\nPresented by the Lynn Music Foundation and Steven Foley Media Productions. \n\n\n\n\nAPRIL LINEUP:\n\n \n\nTHREE YEAR ANNIVERSARY SHOW \nMusical guest – Nandini \nHost – Jamie Aird \nHeadliner – Alex Cureau \nGuest Comics – Nic Sugiarto / Maddie Kelley / Dutchess / Mark McGwin \n\n\n______________________ \n\nIf the previous month’s flier is above that means we haven’t been sent updated information. If you have any questions about this event please contact the LMF via email  by clicking here.
URL:https://lynntv.org/event/stand-up-stick-up-the-vault/2025-10-23/
LOCATION:The Studios at Lynn Museum & Arts Center (LynnArts) & The Neal Rantoul Vault Theatre\, 25 Exchange Street\, Lynn\, MA\, 01901\, United States
CATEGORIES:Arts and Culture,Entertainment,Fundraisers,VisitLynnMA
ATTACH;FMTTYPE=image/jpeg:https://lynntv.org/wp-content/uploads/2023/06/FI-Stand-Up-Stick-Up-Comedy-show.jpg
ORGANIZER;CN="Lynn Music Foundation":MAILTO:lynnmusicfoundation@gmail.com
END:VEVENT
BEGIN:VEVENT
DTSTART;TZID=America/New_York:20251024T150000
DTEND;TZID=America/New_York:20251024T170000
DTSTAMP:20260421T144140
CREATED:20251014T141959Z
LAST-MODIFIED:20251014T142404Z
UID:10015352-1761318000-1761325200@lynntv.org
SUMMARY:Community Costume Party
DESCRIPTION:From Centerboard: Families are invited to the Lynn Family Resource Center\, We Rise\, and the TRUE Mentorship program for our annual Community Costume Party! \nJoin us during the spooky season for fun games\, delicious treats\, and a fun safe place for kids to show off their favorite costumes!! Families will have the chance to meet with our teams as well as other local community resources.
URL:https://lynntv.org/event/community-costume-party/
LOCATION:Palette Function Room\, 16a City Hall Square\, Lynn\, 01901\, United States
CATEGORIES:Arts and Culture,Community,Entertainment,VisitLynnMA,Youth
ATTACH;FMTTYPE=image/jpeg:https://lynntv.org/wp-content/uploads/2023/10/FI-Halloween-4.jpg
END:VEVENT
END:VCALENDAR