BEGIN:VCALENDAR
VERSION:2.0
PRODID:-//Lynn Community TV - ECPv6.15.20//NONSGML v1.0//EN
CALSCALE:GREGORIAN
METHOD:PUBLISH
X-WR-CALNAME:Lynn Community TV
X-ORIGINAL-URL:https://lynntv.org
X-WR-CALDESC:Events for Lynn Community TV
REFRESH-INTERVAL;VALUE=DURATION:PT1H
X-Robots-Tag:noindex
X-PUBLISHED-TTL:PT1H
BEGIN:VTIMEZONE
TZID:America/New_York
BEGIN:DAYLIGHT
TZOFFSETFROM:-0500
TZOFFSETTO:-0400
TZNAME:EDT
DTSTART:20240310T070000
END:DAYLIGHT
BEGIN:STANDARD
TZOFFSETFROM:-0400
TZOFFSETTO:-0500
TZNAME:EST
DTSTART:20241103T060000
END:STANDARD
BEGIN:DAYLIGHT
TZOFFSETFROM:-0500
TZOFFSETTO:-0400
TZNAME:EDT
DTSTART:20250309T070000
END:DAYLIGHT
BEGIN:STANDARD
TZOFFSETFROM:-0400
TZOFFSETTO:-0500
TZNAME:EST
DTSTART:20251102T060000
END:STANDARD
BEGIN:DAYLIGHT
TZOFFSETFROM:-0500
TZOFFSETTO:-0400
TZNAME:EDT
DTSTART:20260308T070000
END:DAYLIGHT
BEGIN:STANDARD
TZOFFSETFROM:-0400
TZOFFSETTO:-0500
TZNAME:EST
DTSTART:20261101T060000
END:STANDARD
END:VTIMEZONE
BEGIN:VEVENT
DTSTART;TZID=America/New_York:20251102T150000
DTEND;TZID=America/New_York:20251102T190000
DTSTAMP:20260421T144000
CREATED:20241114T150544Z
LAST-MODIFIED:20241114T151134Z
UID:10012634-1762095600-1762110000@lynntv.org
SUMMARY:Poetic Lynnguistics: North Shore Youth Spoken Word
DESCRIPTION:More information will be released soon…stay tuned!\nThis is a youth Event + Admission is FREE. An 18+ Open Mic will begin on the 1st and 3rd Sundays at 7pm. More information on the event series page. \n_________________ \nIf you have any questions please contact Michelle LaPoetica at 662-799-1916 or DENCITYvibes@gmail.com. \n\nThe above information was submitted to us by DENCITY.
URL:https://lynntv.org/event/poetic-lynnguistics-north-shore-youth-spoken-word/2025-11-02/
LOCATION:The Studios at Lynn Museum & Arts Center (LynnArts) & The Neal Rantoul Vault Theatre\, 25 Exchange Street\, Lynn\, MA\, 01901\, United States
CATEGORIES:Arts and Culture,Entertainment,Open mic,VisitLynnMA,Youth
ATTACH;FMTTYPE=image/jpeg:https://lynntv.org/wp-content/uploads/2024/11/FI-DENCITY-2024-North-shore-Youth-Spoken-Word.jpg
END:VEVENT
BEGIN:VEVENT
DTSTART;TZID=America/New_York:20251102T190000
DTEND;TZID=America/New_York:20251102T220000
DTSTAMP:20260421T144000
CREATED:20250820T203640Z
LAST-MODIFIED:20250820T203640Z
UID:10014669-1762110000-1762120800@lynntv.org
SUMMARY:DENCITY International Soulcase + Open Mic
DESCRIPTION:DENCITY International Soulcase + Open Mic is where the soul speaks and truths echo. A sanctuary for expression\, a community of creatives\, and a celebration of raw\, unfiltered storytelling through spoken word\, music\, and performance. \nThis is a brave\, healing\, and SOBER space — a judgment-free zone where you are welcome as you are. \n_________________ \nIf you have any questions please contact Michelle LaPoetica at 662-799-1916 or DENCITYvibes@gmail.com. \n\nThe above information was submitted to us by DENCITY.
URL:https://lynntv.org/event/dencity-international-soulcase-open-mic-2/2025-11-02/
LOCATION:The Studios at Lynn Museum & Arts Center (LynnArts) & The Neal Rantoul Vault Theatre\, 25 Exchange Street\, Lynn\, MA\, 01901\, United States
CATEGORIES:Arts and Culture,Entertainment,Open mic,VisitLynnMA
ATTACH;FMTTYPE=image/jpeg:https://lynntv.org/wp-content/uploads/2024/11/FI-2025-DENCITY-International-Soulcase-Open-Mic.jpg
END:VEVENT
BEGIN:VEVENT
DTSTART;TZID=America/New_York:20251103T170000
DTEND;TZID=America/New_York:20251103T193000
DTSTAMP:20260421T144000
CREATED:20251001T203402Z
LAST-MODIFIED:20251001T203428Z
UID:10015344-1762189200-1762198200@lynntv.org
SUMMARY:Shining A Light: Youth Homelessness In Focus\, A Community Forum & Youth Art Exhibit
DESCRIPTION:From The Haven Project: Hosted by The Haven Project\, this community forum brings together youth with lived experience\, service providers\, and local leaders to shine a light on the crisis of youth homelessness in Lynn and beyond. \nWe’ll explore the systemic barriers young people face — and what we can all do to change them. Youth homelessness isn’t a distant issue; it’s a growing crisis right here in our community. Many young people are working or in school\, yet trapped in systems that weren’t built for them. \n\nYouth and Adult Panels\nRoundtable Dialogues\nCommunity Commitments\nYouth Artwork Exhibition\nLight Refreshments & Networking\n\nClick here for more details & to RSVP
URL:https://lynntv.org/event/shining-a-light-youth-homelessness-in-focus-a-community-forum-youth-art-exhibit/
LOCATION:Land of A Thousand Hills Coffee Co.\, 61 Munroe Street\, Lynn\, MA\, United States
CATEGORIES:Arts and Culture,Community,Health and Wellness,Talks and Panel Discussions,VisitLynnMA
ATTACH;FMTTYPE=image/jpeg:https://lynntv.org/wp-content/uploads/2025/10/2025-Youth-Homelessness-Forum-Art-Exhibit.jpg
END:VEVENT
BEGIN:VEVENT
DTSTART;TZID=America/New_York:20251103T180000
DTEND;TZID=America/New_York:20251103T210000
DTSTAMP:20260421T144000
CREATED:20230327T193208Z
LAST-MODIFIED:20250429T195746Z
UID:10010948-1762192800-1762203600@lynntv.org
SUMMARY:Figure Drawing at GALA
DESCRIPTION:Join the Monday Night Drawing Group at the Galleries at LynnArts\, hosted by Annette Sykes of Paint by the Ocean. This weekly session offers artists of all levels the opportunity to draw from a live\, clothed or unclothed model in a relaxed\, supportive environment. Bring your own art supplies and enjoy an evening of creative exploration.​\n\nThese drawing groups will meet every Monday from 6-9pm at GALA. Fees are $18 for GALA Members\, $20 for Non-Members\, & $18 for Students. No instruction is provided; this is a self-guided session ideal for practicing figure drawing in a community setting.​ \nFor more information visit the GALA website\, follow @paintbytheocean on Instagram\, or email paintbytheocean@gmail.com.\n\n\nIf the flier above is out-of-date please contact GALA \n\nThe above information was submitted to us by the Galleries at LynnArts (GALA).
URL:https://lynntv.org/event/figure-drawing-at-gala/2025-11-03/
LOCATION:The Studios at Lynn Museum & Arts Center (LynnArts) & The Neal Rantoul Vault Theatre\, 25 Exchange Street\, Lynn\, MA\, 01901\, United States
CATEGORIES:Arts and Culture,Groups, Clubs, and Meet-ups,VisitLynnMA
ATTACH;FMTTYPE=image/jpeg:https://lynntv.org/wp-content/uploads/2023/03/FI-Figure-Drawing.jpg
END:VEVENT
BEGIN:VEVENT
DTSTART;TZID=America/New_York:20251106T190000
DTEND;TZID=America/New_York:20251106T203000
DTSTAMP:20260421T144000
CREATED:20250401T201631Z
LAST-MODIFIED:20250919T162641Z
UID:10014087-1762455600-1762461000@lynntv.org
SUMMARY:Thursday Poets Reading Series - Spring & Fall 2025
DESCRIPTION:The Thursday Poets Reading Series Returns! \nWe’re excited to kick off Season 2 of the Thursday Poets Reading Series\, celebrating the talent and diversity of Lynn\, MA. Join us for a powerful lineup of poets and an open mic where you can share your own work. \nTime: 7–8:30 PM (Open mic sign-up at 6:45 PM)\nFree and open to all. This event is accessible \nSpring & Fall 2025 Lineup:\n\n\n\nApril 10 – Charles Coe & Jean Monahan\nMay 8 – Michelle de la Poetica (City of Lynn’s Inaugural Poet Laureate) & Matthew Henry\nOctober 9 – Jenny Factor & Kali Lightfoot\nNovember 6 – Meg Kearney & Linda McCarriston\n\n\n\nWe’re grateful for this growing community of poets and poetry lovers. Come be part of it. \nQuestions? Email thursdaypoets11@gmail.com \n\nThe above information was submitted to us by January O’Neil
URL:https://lynntv.org/event/thursday-poets-reading-series-spring-fall-2025/2025-11-06/
LOCATION:The Studios at Lynn Museum & Arts Center (LynnArts) & The Neal Rantoul Vault Theatre\, 25 Exchange Street\, Lynn\, MA\, 01901\, United States
CATEGORIES:Arts and Culture,Entertainment,Open mic,VisitLynnMA
ATTACH;FMTTYPE=image/jpeg:https://lynntv.org/wp-content/uploads/2023/06/Microphone-2.jpg
ORGANIZER;CN="January O%E2%80%99Neil":MAILTO:thursdaypoets11@gmail.com
END:VEVENT
BEGIN:VEVENT
DTSTART;TZID=America/New_York:20251107T173000
DTEND;TZID=America/New_York:20251107T213000
DTSTAMP:20260421T144000
CREATED:20250911T174028Z
LAST-MODIFIED:20251020T200947Z
UID:10015163-1762536600-1762551000@lynntv.org
SUMMARY:Teen Drop-in Center - Fall 2025
DESCRIPTION:From Lynn Parks & Recreation: The Lynn Teen Drop-In Center is hosted weekly for our youth ages 13-18 to engage in recreational activities during after-school and evening hours. Activities include playing sports\, listening to music\, and hearing from guest speakers. \nMusic * Pizza * Cornhole * Volleyball * Basketball\nDates subject to change due to school scheduled sporting events or inclement weather. \nSupported by the Mayor’s office\, Lynn Parks and Recreation Department\, Lynn Police Department\, Shannon Grant\, & Community Development. For more information\, please call Lisa Nerich 781-286-8000 \nPlease be advised that the Teen Drop-In Center will be closed Friday\, October 24th\, due to Senior Night at LVTI. It will reopen on October 31 – Halloween night!\n \n 
URL:https://lynntv.org/event/teen-drop-in-center-fall-2025/2025-11-07/
LOCATION:Lynn Tech – Field House\, 80 Neptune Blvd\, Lynn\, MA\, 01902\, United States
CATEGORIES:Arts and Culture,Community,Entertainment,Groups, Clubs, and Meet-ups,Health and Wellness,Youth
ATTACH;FMTTYPE=image/jpeg:https://lynntv.org/wp-content/uploads/2022/09/FI-Teen-Drop-In-Center.jpg
END:VEVENT
BEGIN:VEVENT
DTSTART;TZID=America/New_York:20251108T080000
DTEND;TZID=America/New_York:20251108T130000
DTSTAMP:20260421T144000
CREATED:20251104T215344Z
LAST-MODIFIED:20251104T215344Z
UID:10015529-1762588800-1762606800@lynntv.org
SUMMARY:2025 St. Stephen’s Rummage Sale and Bake Sale
DESCRIPTION:From St. Stephen’s Memorial Episcopal Church: Something for everyone! \nAntique glassware\, Kirby vacuum with all attachments\, end tables\, area to large oriental rugs\, CDs $1\, Bells $1\, lots of dishes\, scarves/headwraps. Adult horse saddle. Youth horse saddle. \nLamps\, books\, nicknacks. Clothes (men’s women’s large and extra large)\, T-shirts $1. Home goods\, Collectibles\, Kitchen\, CDs\, DVDs\, VHS\, books\, cookbooks\, electronics\, coffee cups\,Christmas decorations\, wall art\, hand painted metal trays\, many pictures and paintings\, lamps\, pool cue\, oven. \nHosted by Billy Mulcahy Moser\, proceeds will benefit programs at St. Stephen’s Memorial Episcopal Church.
URL:https://lynntv.org/event/2025-st-stephens-rummage-sale-and-bake-sale/2025-11-08/
LOCATION:St. Stephen’s Church\, 74 South Common St.\, Lynn\, MA\, 01902\, United States
CATEGORIES:Arts and Culture,Community,Entertainment,Festivals and Fairs,VisitLynnMA
ATTACH;FMTTYPE=image/jpeg:https://lynntv.org/wp-content/uploads/2025/11/FI-St.-Stephens-Rummage-Sale-and-Bake-Sale.jpg
END:VEVENT
END:VCALENDAR