BEGIN:VCALENDAR
VERSION:2.0
PRODID:-//Lynn Community TV - ECPv6.15.20//NONSGML v1.0//EN
CALSCALE:GREGORIAN
METHOD:PUBLISH
X-ORIGINAL-URL:https://lynntv.org
X-WR-CALDESC:Events for Lynn Community TV
REFRESH-INTERVAL;VALUE=DURATION:PT1H
X-Robots-Tag:noindex
X-PUBLISHED-TTL:PT1H
BEGIN:VTIMEZONE
TZID:America/New_York
BEGIN:DAYLIGHT
TZOFFSETFROM:-0500
TZOFFSETTO:-0400
TZNAME:EDT
DTSTART:20240310T070000
END:DAYLIGHT
BEGIN:STANDARD
TZOFFSETFROM:-0400
TZOFFSETTO:-0500
TZNAME:EST
DTSTART:20241103T060000
END:STANDARD
BEGIN:DAYLIGHT
TZOFFSETFROM:-0500
TZOFFSETTO:-0400
TZNAME:EDT
DTSTART:20250309T070000
END:DAYLIGHT
BEGIN:STANDARD
TZOFFSETFROM:-0400
TZOFFSETTO:-0500
TZNAME:EST
DTSTART:20251102T060000
END:STANDARD
BEGIN:DAYLIGHT
TZOFFSETFROM:-0500
TZOFFSETTO:-0400
TZNAME:EDT
DTSTART:20260308T070000
END:DAYLIGHT
BEGIN:STANDARD
TZOFFSETFROM:-0400
TZOFFSETTO:-0500
TZNAME:EST
DTSTART:20261101T060000
END:STANDARD
END:VTIMEZONE
BEGIN:VEVENT
DTSTART;TZID=America/New_York:20251123T110000
DTEND;TZID=America/New_York:20251123T160000
DTSTAMP:20260421T130857
CREATED:20251107T153148Z
LAST-MODIFIED:20251117T200321Z
UID:10015535-1763895600-1763913600@lynntv.org
SUMMARY:20th Annual Lydia Pinkham Open Studios
DESCRIPTION:Win a one-night class for two at The Clay School! \n\n\n\nQuestions? Email lp.openstudios@gmail.com. \n\n\n\n\nWebsite\nOpen Studios Instagram\nFacebook event page\n\n\n\n\n\n\n \nCome see Paint by the Ocean:Annette Sykes and the Tuesday Artists Group  on the 4th Floor of the Lydia Pinkham Building Saturday from 10-5 and Sunday from 11-4!!\n \nFeatured artists from the Tuesday Artists Group:\n \n Polyvios Christoforos \nArlene Albanese\nAudrey Phelps \nKaren Johnson \nSheila Golden \nBarbara Golden \nMaris Prost\n \n\n\nPlein air painting from the 2025 series by Annette Sykes
URL:https://lynntv.org/event/20th-annual-lydia-pinkham-open-studios/2025-11-23/
LOCATION:Lydia Pinkham Building\, 271 Western Ave.\, Lynn\, 01904\, United States
CATEGORIES:Arts and Culture,Community,Festivals and Fairs,VisitLynnMA
ATTACH;FMTTYPE=image/jpeg:https://lynntv.org/wp-content/uploads/2025/11/FI-20th-Annual-Lydia-Pinkham-Open-Studios.jpg
END:VEVENT
BEGIN:VEVENT
DTSTART;TZID=America/New_York:20251124T180000
DTEND;TZID=America/New_York:20251124T210000
DTSTAMP:20260421T130857
CREATED:20230327T193208Z
LAST-MODIFIED:20250429T195746Z
UID:10010951-1764007200-1764018000@lynntv.org
SUMMARY:Figure Drawing at GALA
DESCRIPTION:Join the Monday Night Drawing Group at the Galleries at LynnArts\, hosted by Annette Sykes of Paint by the Ocean. This weekly session offers artists of all levels the opportunity to draw from a live\, clothed or unclothed model in a relaxed\, supportive environment. Bring your own art supplies and enjoy an evening of creative exploration.​\n\nThese drawing groups will meet every Monday from 6-9pm at GALA. Fees are $18 for GALA Members\, $20 for Non-Members\, & $18 for Students. No instruction is provided; this is a self-guided session ideal for practicing figure drawing in a community setting.​ \nFor more information visit the GALA website\, follow @paintbytheocean on Instagram\, or email paintbytheocean@gmail.com.\n\n\nIf the flier above is out-of-date please contact GALA \n\nThe above information was submitted to us by the Galleries at LynnArts (GALA).
URL:https://lynntv.org/event/figure-drawing-at-gala/2025-11-24/
LOCATION:The Studios at Lynn Museum & Arts Center (LynnArts) & The Neal Rantoul Vault Theatre\, 25 Exchange Street\, Lynn\, MA\, 01901\, United States
CATEGORIES:Arts and Culture,Groups, Clubs, and Meet-ups,VisitLynnMA
ATTACH;FMTTYPE=image/jpeg:https://lynntv.org/wp-content/uploads/2023/03/FI-Figure-Drawing.jpg
END:VEVENT
BEGIN:VEVENT
DTSTART;TZID=America/New_York:20251126T190000
DTEND;TZID=America/New_York:20251126T210000
DTSTAMP:20260421T130857
CREATED:20251114T183229Z
LAST-MODIFIED:20251114T183502Z
UID:10015561-1764183600-1764190800@lynntv.org
SUMMARY:Speak Up Spoken Word Open Mic
DESCRIPTION:From Tony Toledo: Speak Up Spoken Word Open Mic meets every Wednesday at 7 pm at the Walnut Street Cafe. Speak Up welcomes poets\, storytellers\, community activists\, comedians and curmudgeons. This is a free event but a hat is passed for the Featured Speaker. \nSignup starts: 7:00pm\nOpen mic: 7:30-830pm\nFeature: 8:30-9:00pm\nIf you have any questions please reach out to host Call Dave Somerset by emailing CallDave123@gmail.com or calling 978-921-4628. \nTo find out the week’s featured speaker and more please visit their Facebook group.
URL:https://lynntv.org/event/speak-up-spoken-word-open-mic/2025-11-26/
LOCATION:Walnut Street Cafe\, 127 Walnut Street\, Lynn\, MA\, 01905\, United States
CATEGORIES:Arts and Culture,Entertainment,Open mic,VisitLynnMA
ATTACH;FMTTYPE=image/jpeg:https://lynntv.org/wp-content/uploads/2025/11/FI-Walnut-St-Cafe-Open-Mic.jpg
END:VEVENT
BEGIN:VEVENT
DTSTART;TZID=America/New_York:20251129T100000
DTEND;TZID=America/New_York:20251129T140000
DTSTAMP:20260421T130857
CREATED:20251120T214933Z
LAST-MODIFIED:20251120T214933Z
UID:10016108-1764410400-1764424800@lynntv.org
SUMMARY:Annual Holiday Fair
DESCRIPTION:First Church of Chris in Lynn: The First Church of Christ in Lynn\, Congregational will once again host our Annual Holiday Fair featuring local crafters\, baked goods\, jams\, raffles\, and special lunch menu.  Something for Everyone!\n\nCrafters – Vendors ~ Raffles – Eatery\n\nCome by and see us\, Saturday\, November 29th from 10a -2p\, 678 Lynnfield Street\, we look forward to seeing you!
URL:https://lynntv.org/event/annual-holiday-fair/
LOCATION:First Church of Christ in Lynn\, Congregational\, 678 Lynnfield Street\, Lynn\, 01904\, United States
CATEGORIES:Arts and Culture,Festivals and Fairs,VisitLynnMA
ATTACH;FMTTYPE=image/jpeg:https://lynntv.org/wp-content/uploads/2023/02/Craft-Fair-1.jpg
ORGANIZER;CN="First Church of Christ in Lynn%2C Congregational":MAILTO:Contact Us: firstchurchlynn@gmail.com
END:VEVENT
END:VCALENDAR