BEGIN:VCALENDAR
VERSION:2.0
PRODID:-//Lynn Community TV - ECPv6.15.20//NONSGML v1.0//EN
CALSCALE:GREGORIAN
METHOD:PUBLISH
X-ORIGINAL-URL:https://lynntv.org
X-WR-CALDESC:Events for Lynn Community TV
REFRESH-INTERVAL;VALUE=DURATION:PT1H
X-Robots-Tag:noindex
X-PUBLISHED-TTL:PT1H
BEGIN:VTIMEZONE
TZID:America/New_York
BEGIN:DAYLIGHT
TZOFFSETFROM:-0500
TZOFFSETTO:-0400
TZNAME:EDT
DTSTART:20250309T070000
END:DAYLIGHT
BEGIN:STANDARD
TZOFFSETFROM:-0400
TZOFFSETTO:-0500
TZNAME:EST
DTSTART:20251102T060000
END:STANDARD
BEGIN:DAYLIGHT
TZOFFSETFROM:-0500
TZOFFSETTO:-0400
TZNAME:EDT
DTSTART:20260308T070000
END:DAYLIGHT
BEGIN:STANDARD
TZOFFSETFROM:-0400
TZOFFSETTO:-0500
TZNAME:EST
DTSTART:20261101T060000
END:STANDARD
BEGIN:DAYLIGHT
TZOFFSETFROM:-0500
TZOFFSETTO:-0400
TZNAME:EDT
DTSTART:20270314T070000
END:DAYLIGHT
BEGIN:STANDARD
TZOFFSETFROM:-0400
TZOFFSETTO:-0500
TZNAME:EST
DTSTART:20271107T060000
END:STANDARD
END:VTIMEZONE
BEGIN:VEVENT
DTSTART;TZID=America/New_York:20260323T180000
DTEND;TZID=America/New_York:20260323T210000
DTSTAMP:20260421T091328
CREATED:20230327T193208Z
LAST-MODIFIED:20250429T195746Z
UID:10010968-1774288800-1774299600@lynntv.org
SUMMARY:Figure Drawing at GALA
DESCRIPTION:Join the Monday Night Drawing Group at the Galleries at LynnArts\, hosted by Annette Sykes of Paint by the Ocean. This weekly session offers artists of all levels the opportunity to draw from a live\, clothed or unclothed model in a relaxed\, supportive environment. Bring your own art supplies and enjoy an evening of creative exploration.​\n\nThese drawing groups will meet every Monday from 6-9pm at GALA. Fees are $18 for GALA Members\, $20 for Non-Members\, & $18 for Students. No instruction is provided; this is a self-guided session ideal for practicing figure drawing in a community setting.​ \nFor more information visit the GALA website\, follow @paintbytheocean on Instagram\, or email paintbytheocean@gmail.com.\n\n\nIf the flier above is out-of-date please contact GALA \n\nThe above information was submitted to us by the Galleries at LynnArts (GALA).
URL:https://lynntv.org/event/figure-drawing-at-gala/2026-03-23/
LOCATION:The Studios at Lynn Museum & Arts Center (LynnArts) & The Neal Rantoul Vault Theatre\, 25 Exchange Street\, Lynn\, MA\, 01901\, United States
CATEGORIES:Arts and Culture,Groups, Clubs, and Meet-ups,VisitLynnMA
ATTACH;FMTTYPE=image/jpeg:https://lynntv.org/wp-content/uploads/2023/03/FI-Figure-Drawing.jpg
END:VEVENT
BEGIN:VEVENT
DTSTART;TZID=America/New_York:20260325T160000
DTEND;TZID=America/New_York:20260325T180000
DTSTAMP:20260421T091328
CREATED:20260324T201323Z
LAST-MODIFIED:20260324T201323Z
UID:10017056-1774454400-1774461600@lynntv.org
SUMMARY:2026 LPS All-City Art Exhibit
DESCRIPTION:From Beyond Walls: Head down to GALA for the annual Lynn Public Schools All-City Art Exhibit’s opening reception on March 25th from 4-6pm! \nMany of the pieces were created through Beyond Walls’ educational initiative\, Classroom to the Streets\, which is run in partnership with St. Mary’s and Lynn Public Schools. Classroom to the Streets brings professional artists and real-world creative experiences directly into the classroom\, empowering students to explore their voices\, build confidence\, and see themselves as contributors to their communities through public art. \nThis work and the impact you will see reflected in these pieces would not be possible without the incredible partnership and leadership of Dr. Patty Klibansky from Lynn Public Schools and Nadine Desiderio from St. Mary’s. Their shared commitment to collaboration is truly at the heart of Beyond Walls and what makes this initiative so meaningful. \nBoth school systems will be participating in this colorful\, annual LPS citywide event\, and while many works are inspired by Classroom to the Streets\, there will also be a wide range of additional\, outstanding student artwork on display from Lynn Public Schools. \nThe images below are based off murals in Downtown Lynn by Bordalo II\, created by students at Sisson Elementary School.
URL:https://lynntv.org/event/2026-lps-all-city-art-exhibit/2026-03-25/
LOCATION:The Studios at Lynn Museum & Arts Center (LynnArts) & The Neal Rantoul Vault Theatre\, 25 Exchange Street\, Lynn\, MA\, 01901\, United States
CATEGORIES:Arts and Culture,Community,Entertainment,VisitLynnMA,Youth
ATTACH;FMTTYPE=image/jpeg:https://lynntv.org/wp-content/uploads/2026/03/2026-LPS-All-City-Art-Exhibit-Flier.jpg
END:VEVENT
BEGIN:VEVENT
DTSTART;TZID=America/New_York:20260325T190000
DTEND;TZID=America/New_York:20260325T210000
DTSTAMP:20260421T091328
CREATED:20251114T183229Z
LAST-MODIFIED:20251114T183502Z
UID:10015578-1774465200-1774472400@lynntv.org
SUMMARY:Speak Up Spoken Word Open Mic
DESCRIPTION:From Tony Toledo: Speak Up Spoken Word Open Mic meets every Wednesday at 7 pm at the Walnut Street Cafe. Speak Up welcomes poets\, storytellers\, community activists\, comedians and curmudgeons. This is a free event but a hat is passed for the Featured Speaker. \nSignup starts: 7:00pm\nOpen mic: 7:30-830pm\nFeature: 8:30-9:00pm\nIf you have any questions please reach out to host Call Dave Somerset by emailing CallDave123@gmail.com or calling 978-921-4628. \nTo find out the week’s featured speaker and more please visit their Facebook group.
URL:https://lynntv.org/event/speak-up-spoken-word-open-mic/2026-03-25/
LOCATION:Walnut Street Cafe\, 127 Walnut Street\, Lynn\, MA\, 01905\, United States
CATEGORIES:Arts and Culture,Entertainment,Open mic,VisitLynnMA
ATTACH;FMTTYPE=image/jpeg:https://lynntv.org/wp-content/uploads/2025/11/FI-Walnut-St-Cafe-Open-Mic.jpg
END:VEVENT
BEGIN:VEVENT
DTSTART;TZID=America/New_York:20260326T120000
DTEND;TZID=America/New_York:20260326T130000
DTSTAMP:20260421T091328
CREATED:20260302T200558Z
LAST-MODIFIED:20260302T200558Z
UID:10016964-1774526400-1774530000@lynntv.org
SUMMARY:“Downtown in Color” Banner Unveiling
DESCRIPTION:From Lynn Main Streets: Lynn Main Streets\, in partnership with the City of Lynn\, invites the community to “Downtown in Color\,” a special unveiling ceremony celebrating Downtown Lynn’s newest public art installation and banner series. \nThe event will take place on Thursday\, March 26 at 12:00 PM at the Laces of Lynn Structure\, Exchange Street at the Mt. Vernon intersection. \n“Downtown in Color” honors the talented artist behind Lynn’s newest banner series\, whose work now lines the streets of downtown. The project reflects Lynn Main Streets’ continued commitment to public art\, placemaking\, and celebrating the creativity that defines the city’s identity. \nThe new banners add vibrancy and visual storytelling to the district\, reinforcing Downtown Lynn as a dynamic hub for small businesses\, culture\, and community pride. The unveiling ceremony will include brief remarks from Lynn Main Streets and City leaders\, followed by an opportunity for attendees to view the banners and connect with fellow community members. \nThis project is part of Lynn Main Streets’ ongoing efforts to strengthen Downtown Lynn through public art initiatives that uplift local artists and create welcoming\, engaging spaces for residents and visitors alike. \nCommunity members\, business owners\, and media representatives are encouraged to attend. \nFor more information\, please email Samantha Wheeler McHugh at info@lynnmainstreets.org
URL:https://lynntv.org/event/downtown-in-color-banner-unveiling/
LOCATION:Central Square\, Central Square\, Lynn\, MA\, United States
CATEGORIES:Arts and Culture,Community,VisitLynnMA
ATTACH;FMTTYPE=image/jpeg:https://lynntv.org/wp-content/uploads/2026/03/Downtown-in-Color-March-2026.jpg
END:VEVENT
BEGIN:VEVENT
DTSTART;TZID=America/New_York:20260326T120000
DTEND;TZID=America/New_York:20260326T140000
DTSTAMP:20260421T091328
CREATED:20260324T201323Z
LAST-MODIFIED:20260324T201323Z
UID:10017057-1774526400-1774533600@lynntv.org
SUMMARY:2026 LPS All-City Art Exhibit
DESCRIPTION:From Beyond Walls: Head down to GALA for the annual Lynn Public Schools All-City Art Exhibit’s opening reception on March 25th from 4-6pm! \nMany of the pieces were created through Beyond Walls’ educational initiative\, Classroom to the Streets\, which is run in partnership with St. Mary’s and Lynn Public Schools. Classroom to the Streets brings professional artists and real-world creative experiences directly into the classroom\, empowering students to explore their voices\, build confidence\, and see themselves as contributors to their communities through public art. \nThis work and the impact you will see reflected in these pieces would not be possible without the incredible partnership and leadership of Dr. Patty Klibansky from Lynn Public Schools and Nadine Desiderio from St. Mary’s. Their shared commitment to collaboration is truly at the heart of Beyond Walls and what makes this initiative so meaningful. \nBoth school systems will be participating in this colorful\, annual LPS citywide event\, and while many works are inspired by Classroom to the Streets\, there will also be a wide range of additional\, outstanding student artwork on display from Lynn Public Schools. \nThe images below are based off murals in Downtown Lynn by Bordalo II\, created by students at Sisson Elementary School.
URL:https://lynntv.org/event/2026-lps-all-city-art-exhibit/2026-03-26/
LOCATION:The Studios at Lynn Museum & Arts Center (LynnArts) & The Neal Rantoul Vault Theatre\, 25 Exchange Street\, Lynn\, MA\, 01901\, United States
CATEGORIES:Arts and Culture,Community,Entertainment,VisitLynnMA,Youth
ATTACH;FMTTYPE=image/jpeg:https://lynntv.org/wp-content/uploads/2026/03/2026-LPS-All-City-Art-Exhibit-Flier.jpg
END:VEVENT
BEGIN:VEVENT
DTSTART;TZID=America/New_York:20260326T193000
DTEND;TZID=America/New_York:20260326T233000
DTSTAMP:20260421T091328
CREATED:20250115T204713Z
LAST-MODIFIED:20260409T184430Z
UID:10013456-1774553400-1774567800@lynntv.org
SUMMARY:Stand Up Stick Up @ The Vault
DESCRIPTION:From Steven Foley Media Productions: Stand Up Stick Up – Comedy @ The Vault Theatre is a monthly standup comedy show in a former historic bank\, now The Neal Rantoul Vault Blackbox Theatre\, inside the storied LynnArts building. \nEvery fourth Thursday\, we bring a lineup of New England’s freshest local talent and the best national headliners to Lynn for a night of hilarious standup comedy in an intimate\, unique setting. Finally\, something fun to do in Lynn! Check out the website below to see more upcoming shows\, join our mailing list for exclusive promotions\, and learn more about the show! \nDon’t miss out on this rare chance to enjoy a night of laughter\, fun\, and live performance in f*cking Lynn! Doors at 7:30pm\, show at 8! \n\n\nPlease click here for more info & tickets\nProceeds benefit the Lynn Music Foundation.\nPresented by the Lynn Music Foundation and Steven Foley Media Productions. \n\n\n\n\nAPRIL LINEUP:\n\n \n\nTHREE YEAR ANNIVERSARY SHOW \nMusical guest – Nandini \nHost – Jamie Aird \nHeadliner – Alex Cureau \nGuest Comics – Nic Sugiarto / Maddie Kelley / Dutchess / Mark McGwin \n\n\n______________________ \n\nIf the previous month’s flier is above that means we haven’t been sent updated information. If you have any questions about this event please contact the LMF via email  by clicking here.
URL:https://lynntv.org/event/stand-up-stick-up-the-vault/2026-03-26/
LOCATION:The Studios at Lynn Museum & Arts Center (LynnArts) & The Neal Rantoul Vault Theatre\, 25 Exchange Street\, Lynn\, MA\, 01901\, United States
CATEGORIES:Arts and Culture,Entertainment,Fundraisers,VisitLynnMA
ATTACH;FMTTYPE=image/jpeg:https://lynntv.org/wp-content/uploads/2023/06/FI-Stand-Up-Stick-Up-Comedy-show.jpg
ORGANIZER;CN="Lynn Music Foundation":MAILTO:lynnmusicfoundation@gmail.com
END:VEVENT
BEGIN:VEVENT
DTSTART;TZID=America/New_York:20260327T120000
DTEND;TZID=America/New_York:20260327T140000
DTSTAMP:20260421T091328
CREATED:20260324T201323Z
LAST-MODIFIED:20260324T201323Z
UID:10017058-1774612800-1774620000@lynntv.org
SUMMARY:2026 LPS All-City Art Exhibit
DESCRIPTION:From Beyond Walls: Head down to GALA for the annual Lynn Public Schools All-City Art Exhibit’s opening reception on March 25th from 4-6pm! \nMany of the pieces were created through Beyond Walls’ educational initiative\, Classroom to the Streets\, which is run in partnership with St. Mary’s and Lynn Public Schools. Classroom to the Streets brings professional artists and real-world creative experiences directly into the classroom\, empowering students to explore their voices\, build confidence\, and see themselves as contributors to their communities through public art. \nThis work and the impact you will see reflected in these pieces would not be possible without the incredible partnership and leadership of Dr. Patty Klibansky from Lynn Public Schools and Nadine Desiderio from St. Mary’s. Their shared commitment to collaboration is truly at the heart of Beyond Walls and what makes this initiative so meaningful. \nBoth school systems will be participating in this colorful\, annual LPS citywide event\, and while many works are inspired by Classroom to the Streets\, there will also be a wide range of additional\, outstanding student artwork on display from Lynn Public Schools. \nThe images below are based off murals in Downtown Lynn by Bordalo II\, created by students at Sisson Elementary School.
URL:https://lynntv.org/event/2026-lps-all-city-art-exhibit/2026-03-27/
LOCATION:The Studios at Lynn Museum & Arts Center (LynnArts) & The Neal Rantoul Vault Theatre\, 25 Exchange Street\, Lynn\, MA\, 01901\, United States
CATEGORIES:Arts and Culture,Community,Entertainment,VisitLynnMA,Youth
ATTACH;FMTTYPE=image/jpeg:https://lynntv.org/wp-content/uploads/2026/03/2026-LPS-All-City-Art-Exhibit-Flier.jpg
END:VEVENT
BEGIN:VEVENT
DTSTART;TZID=America/New_York:20260327T180000
DTEND;TZID=America/New_York:20260327T210000
DTSTAMP:20260421T091328
CREATED:20260312T160441Z
LAST-MODIFIED:20260312T160530Z
UID:10016990-1774634400-1774645200@lynntv.org
SUMMARY:Teen Drop-in Center - Spring 2025
DESCRIPTION:From Lynn Parks & Recreation: The Lynn Teen Drop-In Center is hosted weekly for our youth ages 13-18 to engage in recreational activities during after-school and evening hours. Activities include playing sports\, listening to music\, and hearing from guest speakers. \nMusic * Pizza * Cornhole * Volleyball * Basketball\nDates subject to change due to school scheduled sporting events or inclement weather. \nSupported by the Mayor’s office\, Lynn Parks and Recreation Department\, Lynn Police Department\, Shannon Grant\, & Community Development. For more information\, please call Lisa Nerich 781-286-8000
URL:https://lynntv.org/event/teen-drop-in-center-spring-2025/2026-03-27/
LOCATION:Lynn Tech – Field House\, 80 Neptune Blvd\, Lynn\, MA\, 01902\, United States
CATEGORIES:Arts and Culture,City of Lynn,Entertainment,Groups, Clubs, and Meet-ups,Health and Wellness,Sports,Talks and Panel Discussions,Youth
ATTACH;FMTTYPE=image/jpeg:https://lynntv.org/wp-content/uploads/2022/09/FI-Teen-Drop-In-Center.jpg
END:VEVENT
BEGIN:VEVENT
DTSTART;TZID=America/New_York:20260328T120000
DTEND;TZID=America/New_York:20260328T140000
DTSTAMP:20260421T091328
CREATED:20260324T201323Z
LAST-MODIFIED:20260324T201323Z
UID:10017059-1774699200-1774706400@lynntv.org
SUMMARY:2026 LPS All-City Art Exhibit
DESCRIPTION:From Beyond Walls: Head down to GALA for the annual Lynn Public Schools All-City Art Exhibit’s opening reception on March 25th from 4-6pm! \nMany of the pieces were created through Beyond Walls’ educational initiative\, Classroom to the Streets\, which is run in partnership with St. Mary’s and Lynn Public Schools. Classroom to the Streets brings professional artists and real-world creative experiences directly into the classroom\, empowering students to explore their voices\, build confidence\, and see themselves as contributors to their communities through public art. \nThis work and the impact you will see reflected in these pieces would not be possible without the incredible partnership and leadership of Dr. Patty Klibansky from Lynn Public Schools and Nadine Desiderio from St. Mary’s. Their shared commitment to collaboration is truly at the heart of Beyond Walls and what makes this initiative so meaningful. \nBoth school systems will be participating in this colorful\, annual LPS citywide event\, and while many works are inspired by Classroom to the Streets\, there will also be a wide range of additional\, outstanding student artwork on display from Lynn Public Schools. \nThe images below are based off murals in Downtown Lynn by Bordalo II\, created by students at Sisson Elementary School.
URL:https://lynntv.org/event/2026-lps-all-city-art-exhibit/2026-03-28/
LOCATION:The Studios at Lynn Museum & Arts Center (LynnArts) & The Neal Rantoul Vault Theatre\, 25 Exchange Street\, Lynn\, MA\, 01901\, United States
CATEGORIES:Arts and Culture,Community,Entertainment,VisitLynnMA,Youth
ATTACH;FMTTYPE=image/jpeg:https://lynntv.org/wp-content/uploads/2026/03/2026-LPS-All-City-Art-Exhibit-Flier.jpg
END:VEVENT
END:VCALENDAR