BEGIN:VCALENDAR
VERSION:2.0
PRODID:-//Lynn Community TV - ECPv6.15.20//NONSGML v1.0//EN
CALSCALE:GREGORIAN
METHOD:PUBLISH
X-ORIGINAL-URL:https://lynntv.org
X-WR-CALDESC:Events for Lynn Community TV
REFRESH-INTERVAL;VALUE=DURATION:PT1H
X-Robots-Tag:noindex
X-PUBLISHED-TTL:PT1H
BEGIN:VTIMEZONE
TZID:America/New_York
BEGIN:DAYLIGHT
TZOFFSETFROM:-0500
TZOFFSETTO:-0400
TZNAME:EDT
DTSTART:20250309T070000
END:DAYLIGHT
BEGIN:STANDARD
TZOFFSETFROM:-0400
TZOFFSETTO:-0500
TZNAME:EST
DTSTART:20251102T060000
END:STANDARD
BEGIN:DAYLIGHT
TZOFFSETFROM:-0500
TZOFFSETTO:-0400
TZNAME:EDT
DTSTART:20260308T070000
END:DAYLIGHT
BEGIN:STANDARD
TZOFFSETFROM:-0400
TZOFFSETTO:-0500
TZNAME:EST
DTSTART:20261101T060000
END:STANDARD
BEGIN:DAYLIGHT
TZOFFSETFROM:-0500
TZOFFSETTO:-0400
TZNAME:EDT
DTSTART:20270314T070000
END:DAYLIGHT
BEGIN:STANDARD
TZOFFSETFROM:-0400
TZOFFSETTO:-0500
TZNAME:EST
DTSTART:20271107T060000
END:STANDARD
END:VTIMEZONE
BEGIN:VEVENT
DTSTART;VALUE=DATE:20260401
DTEND;VALUE=DATE:20260501
DTSTAMP:20260421T050249
CREATED:20220505T153902Z
LAST-MODIFIED:20260401T164733Z
UID:10006015-1775001600-1777593599@lynntv.org
SUMMARY:Lynn Public Library | All monthly events
DESCRIPTION:From the Lynn Public Library: Below are the monthly activities\, events\, etc from the Lynn Public Library. This list will be updated monthly as we receive updates from the Library. \nVisit lynnpubliclibrary.org/calendar for more details and to register for these programs. \nPlease click for full-resolution images \nPLEASE NOTE: The Friends have once again been selected to benefit from Stop & Shop’s Community Bag program. For every $2.50 Community Bag sold at the Lynn Stop & Shop in the month of April\, the Friends will receive $1.
URL:https://lynntv.org/event/lynn-public-library-all-monthly-events/
LOCATION:Lynn Public Library\, 5 North Common Street\, Lynn\, MA\, United States
CATEGORIES:Arts and Culture,City of Lynn,Entertainment,Groups, Clubs, and Meet-ups,Seminars and Workshops,VisitLynnMA,Youth
ATTACH;FMTTYPE=image/jpeg:https://lynntv.org/wp-content/uploads/2021/09/Lynn-Public-Library.jpg
END:VEVENT
BEGIN:VEVENT
DTSTART;VALUE=DATE:20260401
DTEND;VALUE=DATE:20260601
DTSTAMP:20260421T050249
CREATED:20260211T182604Z
LAST-MODIFIED:20260401T160724Z
UID:10016402-1775001600-1780271999@lynntv.org
SUMMARY:UUCGL | All monthly events
DESCRIPTION:From UUCGL: This entry will be updated monthly. \nIf the previous month is listed\, it means we haven’t yet received the next month’s programming. \nClick for full-resolution flier\nONE-OFF EVENTS:\n“Have I Got a Story for You!” — A Live Story Sharing Night\nSaturday\, April 11 at 7pm\nJoin us for a lively\, laughter-filled evening of storytelling! Whether you’re a seasoned storyteller or someone who simply loves hearing great tales\, this night is for you. All adults 18+ are warmly invited.\nLearn more by clicking here \nPondside Chorus: A Vernal Pool Experience\nMonday\, April 13 at 6:30pm\nA free\, family-friendly exploration of vernal ponds and the amazing creatures that depend on them.\nLearn more by clicking here \nOpen House: Free Tai Chi and Qigong Lessons!\nTuesday\, April 21 from 9 – 11am\nCurious about Tai Chi or Qigong? Come experience these calming\, energizing practices for yourself at our free\, no‑obligation lessons.\nLearn more by clicking here \nHearts & Arts for Youth\nMarch 1\, March 15\, April 12\, May 3\, May 10\nA new hands‑on art series led by local artist and educator Bruce Orr\, designed for youth of all ages through high school.\nLearn more by clicking here \n_________________________________ \nRECURRING PROGRAMS:\n\n\n\nPlant-Based Cooking Group *$5*\n1st & 3rd Thursdays of the month (through May)  | 5-7pm\nAll ages welcome; anyone can join!\nuucgl.org/adultprograms#cooking \n  \nSaturday Craft Circle *FREE*\n1st & 3rd Saturdays of the month (through May) | 10am-2pm\nOpen to all kinds of crafters!\nuucgl.org/adultprograms#craft \n  \nSunday Evening Meditations *FREE*\n2nd & 4th Sundays (through April) | 5:15-6pm\nNo prior experience required.\nuucgl.org/adultprograms#sundaymeditations\n(2/22 session will be on Zoom) \n  \n\n\n\n\n\nSound Healing *$25*\n3rd Sundays\, every other month (year-round) | 2-4pm\nLimited capacity — advanced registration required. \nIn these turbulent times\, many of us could use some self-care. Did you know that sound has the power to shift your nervous system from stress to deep relaxation? When you experience a sound bath\, your brainwaves slow down\, your body releases tension\, and you enter a state of healing. \nSound Healing\, also known as Vibrational Healing\, is a non-invasive alternative therapy that resonates with the wisdom of luminaries like the Buddha\, Einstein\, and Medical Oncologist Mitchell Gaynor M.D. Imagine stepping into a serene oasis where stress melts away\, and your immune system is rejuvenated through the power of sound. \nJoin us for a 2-hour journey into bliss\, wellness\, and healing\, guided by the talented sound therapist Joe Hayes. Bring a friend! Register early to secure your spot for just $25 at uucgl.org/soundhealing \nuucgl.org/soundhealing \n  \nYouth Group (9th-12th graders) *FREE*\nMost 2nd & 4th Sundays of the month (through May) | 6:15-8:30pm\nOpen to all local youth.\nuucgl.org/programs-for-children#older-youth \n  \nChildren & Youth Sunday Morning Programming (preK-12th graders) *FREE*\nWeekly on Sunday Mornings (through May) | 10-11am\nOpen to all local youth.\nuucgl.org/programs-for-children \n  \nHearts & Arts for Youth: Sunday Art Adventures to Benefit the Local Community *FREE*\nFEB 8 & 22 (more dates coming in March and April!)\nOpen to all local youth.\nhttps://www.uucgl.org/heartsandarts \n  \nChoir *FREE*\nWeekly on Thursday Evenings (through May) | 7:30pm\nOpen to anyone who loves to sing!\nuucgl.org/adultprograms#choir \n  \nDrumagic Drum Circle *FREE (Donations appreciated)*\n2nd Sundays of the month (year-round) | 1:30-3:30pm\nOpen to all skill levels and beginners.\nuucgl.org/adultprograms#drumcircle \n  \nQigong Classes\nWeekly on Tuesdays (year-round) | 10-11am\nAll ages and abilities welcome. Join Anytime!\nuucgl.org/taichi \n  \nTai Chi Classes (Beginners)\nWeekly on Tuesdays (year-round) | 11-12pm\nBeginners only. Join Anytime!\nuucgl.org/taichi \n\n\n\n\n\n\n\n\n\nJOIN US! We are located at 101 Forest Avenue in Swampscott. Free parking. \nWe welcome people of any age\, race\, sex\, ethnicity\, national origin\, range of abilities\, sexual orientation\, gender identity\, financial means\, education\, or political perspective. Find out more at uucgl.org.
URL:https://lynntv.org/event/uucgl-all-monthly-events/
LOCATION:UUCGL\, 101 Forest Ave\, Swampscott\, MA\, 01907\, United States
CATEGORIES:Arts and Culture,Community,Entertainment,Groups, Clubs, and Meet-ups,Health and Wellness,Seminars and Workshops,Youth
ATTACH;FMTTYPE=image/jpeg:https://lynntv.org/wp-content/uploads/2026/02/FI-UUCGL-logo.jpg
ORGANIZER;CN="UUCGL":MAILTO:office@uucgl.org
END:VEVENT
BEGIN:VEVENT
DTSTART;VALUE=DATE:20260405
DTEND;VALUE=DATE:20260601
DTSTAMP:20260421T050249
CREATED:20260406T165528Z
LAST-MODIFIED:20260406T165528Z
UID:10017087-1775347200-1780271999@lynntv.org
SUMMARY:5th Annual Greater Lynn Photographic Association Photography Exhibition
DESCRIPTION:From the Greater Lynn Photographic Association: The GLPA is proud to announce its 5th Annual Photography Exhibition at the Demakes Family YMCA in Lynn runs from April 5 – May 31\, 2026. \nThere are fifty beautiful photographs from twenty-seven members of the Greater Lynn Photographic Association currently on display. They range in genre from Abstract to Nature\, to Architectural to Landscapes to People topics. \nA Meet the Photographers reception will be at the Demakes Family YMCA\, 50 Blossom St. Lynn\, MA on Sunday April 19th from 2-4PM. Please stop by to meet the photographers\, other Greater Lynn Photographic Association members and learn more about the Greater Lynn Photographic Association.
URL:https://lynntv.org/event/5th-annual-greater-lynn-photographic-association-photography-exhibition/
LOCATION:Demakes Family YMCA\, 40 Neptune Blvd.\, Lynn\, MA\, 01902\, United States
CATEGORIES:Arts and Culture,Community,Open house,VisitLynnMA
ATTACH;FMTTYPE=image/jpeg:https://lynntv.org/wp-content/uploads/2026/04/FI-Greater-Lynn-Photographic-Association-GLPA.jpg
END:VEVENT
BEGIN:VEVENT
DTSTART;TZID=America/New_York:20260412T100000
DTEND;TZID=America/New_York:20260412T110000
DTSTAMP:20260421T050249
CREATED:20260226T183851Z
LAST-MODIFIED:20260226T183851Z
UID:10016949-1775988000-1775991600@lynntv.org
SUMMARY:Hearts & Arts for Youth: Sunday Art Adventures to Benefit the Local Community
DESCRIPTION:From the Unitarian Universalist Church of Greater Lynn: Looking for meaningful\, creative Sunday programming for your kids? \n\nUUCGL is offering a new hands‑on art series led by local artist and educator Bruce Orr\, designed for youth of all ages through high school. Each session blends creativity with compassion—kids make uplifting art for neighbors\, community organizations\, and causes they care about. No experience needed\, and all materials are provided. \nWhy parents love it: \n\nA safe\, supportive environment\nA trusted\, experienced arts educator\nProjects that build empathy\, confidence\, and self‑expression\nEasy Sunday‑morning timing (10–11am)\nFree; no registration necessary\nOpen to friends and all local youth (spread the word!)\n\nPlease click here for more information\nUpcoming sessions: \nMarch 1 – Printmaking: Cards for My Brother’s Table\nMarch 15 – Eco-Mosaic Portraits: 3D Self-Portraits from Reclaimed Materials\nApril 12 – Zine-Making: Creating a Handmade Book of UU Values for Our Community\nMay 3 – Memory Cards: Designing a Card Game Where Everyone’s Voice Matters\nMay 10 – Mother’s Day Accordion Books: Surprise Messages of Love
URL:https://lynntv.org/event/hearts-arts-for-youth-sunday-art-adventures-to-benefit-the-local-community/2026-04-12/
LOCATION:UUCGL\, 101 Forest Ave\, Swampscott\, MA\, 01907\, United States
CATEGORIES:Arts and Culture,Seminars and Workshops,Youth
ATTACH;FMTTYPE=image/jpeg:https://lynntv.org/wp-content/uploads/2026/02/Hearts-Arts-for-Youth-with-Bruce-Orr.jpg
ORGANIZER;CN="UUCGL":MAILTO:office@uucgl.org
END:VEVENT
BEGIN:VEVENT
DTSTART;VALUE=DATE:20260413
DTEND;VALUE=DATE:20260418
DTSTAMP:20260421T050249
CREATED:20260401T171345Z
LAST-MODIFIED:20260401T171345Z
UID:10017071-1776038400-1776470399@lynntv.org
SUMMARY:2026 Public Health Week
DESCRIPTION:From the Lynn Public Health Department: Lynn Public Health Week 2026 is April 13 – 17! Please see the flyers below (English/Spanish) with the schedule. We encourage you to share with your networks.
URL:https://lynntv.org/event/2026-public-health-week/
LOCATION:Multiple locations\, please see listing for more info.
CATEGORIES:Arts and Culture,City of Lynn,Community,Talks and Panel Discussions,VisitLynnMA
ATTACH;FMTTYPE=image/jpeg:https://lynntv.org/wp-content/uploads/2023/02/FI-Health-3.jpg
END:VEVENT
BEGIN:VEVENT
DTSTART;TZID=America/New_York:20260413T143000
DTEND;TZID=America/New_York:20260413T173000
DTSTAMP:20260421T050249
CREATED:20260409T203153Z
LAST-MODIFIED:20260409T203153Z
UID:10017106-1776090600-1776101400@lynntv.org
SUMMARY:Middle School Hub | 2025-26 School Year
DESCRIPTION:From the City of Lynn: The City of Lynn and Lynn Public Schools are launching a new\, exciting after-school program designed to provide engaging activities and a safe\, supportive space for youth ages 10-14 to learn and grow. \n\nEngaging Activities\nSupportive Hangout Space\nOpen Gym\nFree Pizza and Water\n\nUPCOMING HOLIDAY HOURS: \nPatriots’ Day (April 20) | 10am-1pm\nMemorial Day (May 25) | 10am-1pm \nThis program is sponsored by Mayor Jared Nicholson’s Office\, Lynn Police Department\, Public Health Department\, and Parks and Recreation Department. \nQuestions? Please contact Lisa Nerich at 781-586-8012 or lnerich@lynnma.gov.
URL:https://lynntv.org/event/middle-school-hub-2025-26-school-year/2026-04-13/
LOCATION:Breed Middle School\, 90 O'Callaghan Way in Lynn\, Lynn\, MA\, 01905\, United States
CATEGORIES:Arts and Culture,City of Lynn,Community,Entertainment,Groups, Clubs, and Meet-ups,Health and Wellness,Youth
ATTACH;FMTTYPE=image/jpeg:https://lynntv.org/wp-content/uploads/2026/04/FI-Middle-School-Hub.jpg
END:VEVENT
BEGIN:VEVENT
DTSTART;TZID=America/New_York:20260413T173000
DTEND;TZID=America/New_York:20260413T193000
DTSTAMP:20260421T050249
CREATED:20250908T185033Z
LAST-MODIFIED:20250912T184027Z
UID:10014891-1776101400-1776108600@lynntv.org
SUMMARY:NAGLY Lynn: Ages 11-17  |  2025-26 School Year
DESCRIPTION:From NAGLY: NAGLY Lynn at RAW is on the 2nd Monday of each month for ages 11-17 from 5:30-7:30pm\, drop-in based and open to LGBTQ+ youth! \nFor more information\, contact: Tony@nagly.org.or Younes@nagly.org \n \nLearn more about NAGLY
URL:https://lynntv.org/event/nagly-lynn-ages-11-17-2025-26-school-year/2026-04-13/
LOCATION:Raw Art Works\, 37 Central Square\, Lynn\, MA\, United States
CATEGORIES:Arts and Culture,Community,Groups, Clubs, and Meet-ups,Youth
ATTACH;FMTTYPE=image/jpeg:https://lynntv.org/wp-content/uploads/2025/09/FI-NAGLY-Lynn-logo-2025-update.jpg
END:VEVENT
BEGIN:VEVENT
DTSTART;TZID=America/New_York:20260413T173000
DTEND;TZID=America/New_York:20260413T213000
DTSTAMP:20260421T050249
CREATED:20260413T152655Z
LAST-MODIFIED:20260413T152655Z
UID:10017193-1776101400-1776115800@lynntv.org
SUMMARY:2026 LHSF Scholarship Reception
DESCRIPTION:From the Lynn Hispanic Scholarship Fund: Join us for an evening dedicated to celebrating achievement\, community\, and the power of education. \nAt this year’s Scholarship Reception\, we will honor our Latino/Hispanic scholars and the families who support them every step of the way. Guests will hear inspiring stories from LHSF alumni\, enjoy a special Latino cultural performance\, and come together as a community united in uplifting student success. \nThis special night is an opportunity to stand alongside our scholars\, celebrate their hard work\, and show our collective commitment to their dreams and future achievements.  \nTogether\, we rise—juntos—by investing in education and the next generation of leaders. \nWe invite the community to join us in supporting and celebrating our scholars during this meaningful evening. Mark your calendars\, share the excitement\, and prepare to be inspired. \nPurchase ticket(s) here\nSponsorship Opportunities\nProgram Book Opportunities
URL:https://lynntv.org/event/2026-lhsf-scholarship-reception/
LOCATION:Knights of Columbus\, 177 Lynnfield Street\, Lynn\, MA\, United States
CATEGORIES:Arts and Culture,Community,Entertainment,Fundraisers,Talks and Panel Discussions,VisitLynnMA,Youth
ATTACH;FMTTYPE=image/jpeg:https://lynntv.org/wp-content/uploads/2026/04/2026-LHSF-Scholarship-Reception.jpg
ORGANIZER;CN="Lynn Hispanic Scholarship Fund":MAILTO:contact@lynnhispanicscholarshipfund.org
END:VEVENT
BEGIN:VEVENT
DTSTART;TZID=America/New_York:20260413T180000
DTEND;TZID=America/New_York:20260413T210000
DTSTAMP:20260421T050249
CREATED:20230327T193208Z
LAST-MODIFIED:20250429T195746Z
UID:10010971-1776103200-1776114000@lynntv.org
SUMMARY:Figure Drawing at GALA
DESCRIPTION:Join the Monday Night Drawing Group at the Galleries at LynnArts\, hosted by Annette Sykes of Paint by the Ocean. This weekly session offers artists of all levels the opportunity to draw from a live\, clothed or unclothed model in a relaxed\, supportive environment. Bring your own art supplies and enjoy an evening of creative exploration.​\n\nThese drawing groups will meet every Monday from 6-9pm at GALA. Fees are $18 for GALA Members\, $20 for Non-Members\, & $18 for Students. No instruction is provided; this is a self-guided session ideal for practicing figure drawing in a community setting.​ \nFor more information visit the GALA website\, follow @paintbytheocean on Instagram\, or email paintbytheocean@gmail.com.\n\n\nIf the flier above is out-of-date please contact GALA \n\nThe above information was submitted to us by the Galleries at LynnArts (GALA).
URL:https://lynntv.org/event/figure-drawing-at-gala/2026-04-13/
LOCATION:The Studios at Lynn Museum & Arts Center (LynnArts) & The Neal Rantoul Vault Theatre\, 25 Exchange Street\, Lynn\, MA\, 01901\, United States
CATEGORIES:Arts and Culture,Groups, Clubs, and Meet-ups,VisitLynnMA
ATTACH;FMTTYPE=image/jpeg:https://lynntv.org/wp-content/uploads/2023/03/FI-Figure-Drawing.jpg
END:VEVENT
BEGIN:VEVENT
DTSTART;TZID=America/New_York:20260413T183000
DTEND;TZID=America/New_York:20260413T200000
DTSTAMP:20260421T050249
CREATED:20260225T201316Z
LAST-MODIFIED:20260225T201316Z
UID:10016945-1776105000-1776110400@lynntv.org
SUMMARY:Pondside Chorus: A Vernal Pool Experience
DESCRIPTION:From the Unitarian Universalist Church of Greater Lynn: A Presentation\, Live Animal Exhibit\, and Vernal Pool Exploration being held on Monday\, April 13th at 6:30pm. \nEver wonder what makes those “BLEEP-BLEEP-BLEEP” and “CHIRP-CHIRP-CHIRP” sounds in the woods? On warm\, rainy spring days\, the forest comes alive with mysterious calls. Are they birds? Bugs? Frogs? Something else entirely? \nCome find out at a free\, family-friendly exploration of vernal ponds and the amazing creatures that depend on them. Vernal ponds are temporary\, fishless wetlands that fill with rainfall and snow melt. They’re essential breeding grounds for amphibians and other species and they can be found right here in Swampscott! \n🎥 The Adventure Begins Indoors  \nWe’ll kick things off with “Vernal Ponds\,” a 15‑minute film created by the Cape Ann Vernal Pond Team and shot entirely on Cape Ann. The video offers a fascinating introduction to vernal pond ecology and the hidden world these temporary wetlands support. \n🐸 Meet the Experts (and the Wildlife!)  \nRick Roth from the Cape Ann Vernal Pond Team will share why vernal pond certification and protection matter\, answer your questions\, and introduce you to a few live frogs\, salamanders\, and other critters up close. \n🌲 Then We Head Into the Woods*  \nAfter the indoor program\, we’ll venture outside together for a guided walk to a certified vernal pool in the woods surrounding the building. Experience firsthand the sights and sounds of these seasonal habitats and the wildlife that rely on them. \n*Rain or Shine! If participating in the exploration\, we recommend you wear waterproof footwear and bring a flashlight. \n\nClick here to register for free
URL:https://lynntv.org/event/pondside-chorus-a-vernal-pool-experience/
LOCATION:UUCGL\, 101 Forest Ave\, Swampscott\, MA\, 01907\, United States
CATEGORIES:Arts and Culture,Community,Entertainment,Talks and Panel Discussions
ATTACH;FMTTYPE=image/jpeg:https://lynntv.org/wp-content/uploads/2026/02/spotted-salamander.jpg
ORGANIZER;CN="UUCGL":MAILTO:office@uucgl.org
END:VEVENT
BEGIN:VEVENT
DTSTART;TZID=America/New_York:20260415T190000
DTEND;TZID=America/New_York:20260415T210000
DTSTAMP:20260421T050249
CREATED:20251114T183229Z
LAST-MODIFIED:20251114T183502Z
UID:10015581-1776279600-1776286800@lynntv.org
SUMMARY:Speak Up Spoken Word Open Mic
DESCRIPTION:From Tony Toledo: Speak Up Spoken Word Open Mic meets every Wednesday at 7 pm at the Walnut Street Cafe. Speak Up welcomes poets\, storytellers\, community activists\, comedians and curmudgeons. This is a free event but a hat is passed for the Featured Speaker. \nSignup starts: 7:00pm\nOpen mic: 7:30-830pm\nFeature: 8:30-9:00pm\nIf you have any questions please reach out to host Call Dave Somerset by emailing CallDave123@gmail.com or calling 978-921-4628. \nTo find out the week’s featured speaker and more please visit their Facebook group.
URL:https://lynntv.org/event/speak-up-spoken-word-open-mic/2026-04-15/
LOCATION:Walnut Street Cafe\, 127 Walnut Street\, Lynn\, MA\, 01905\, United States
CATEGORIES:Arts and Culture,Entertainment,Open mic,VisitLynnMA
ATTACH;FMTTYPE=image/jpeg:https://lynntv.org/wp-content/uploads/2025/11/FI-Walnut-St-Cafe-Open-Mic.jpg
END:VEVENT
BEGIN:VEVENT
DTSTART;TZID=America/New_York:20260417T180000
DTEND;TZID=America/New_York:20260417T210000
DTSTAMP:20260421T050249
CREATED:20260312T160441Z
LAST-MODIFIED:20260312T160530Z
UID:10016992-1776448800-1776459600@lynntv.org
SUMMARY:Teen Drop-in Center - Spring 2025
DESCRIPTION:From Lynn Parks & Recreation: The Lynn Teen Drop-In Center is hosted weekly for our youth ages 13-18 to engage in recreational activities during after-school and evening hours. Activities include playing sports\, listening to music\, and hearing from guest speakers. \nMusic * Pizza * Cornhole * Volleyball * Basketball\nDates subject to change due to school scheduled sporting events or inclement weather. \nSupported by the Mayor’s office\, Lynn Parks and Recreation Department\, Lynn Police Department\, Shannon Grant\, & Community Development. For more information\, please call Lisa Nerich 781-286-8000
URL:https://lynntv.org/event/teen-drop-in-center-spring-2025/2026-04-17/
LOCATION:Lynn Tech – Field House\, 80 Neptune Blvd\, Lynn\, MA\, 01902\, United States
CATEGORIES:Arts and Culture,City of Lynn,Entertainment,Groups, Clubs, and Meet-ups,Health and Wellness,Sports,Talks and Panel Discussions,Youth
ATTACH;FMTTYPE=image/jpeg:https://lynntv.org/wp-content/uploads/2022/09/FI-Teen-Drop-In-Center.jpg
END:VEVENT
BEGIN:VEVENT
DTSTART;TZID=America/New_York:20260418T110000
DTEND;TZID=America/New_York:20260418T150000
DTSTAMP:20260421T050249
CREATED:20260401T185051Z
LAST-MODIFIED:20260401T185051Z
UID:10017076-1776510000-1776524400@lynntv.org
SUMMARY:Blazing the Trail: Hats\, Heels\, Bow Ties & Blazers Tea 2026
DESCRIPTION:From North Shore Juneteenth Association: Gather with us to connect\, be inspired\, and recommit to blazing trails that create opportunity\, access\, and impact. \nPut on your favorite hat\, slip into your heels\, rock a sharp blazer\, or add a bold bow tie — however you express your style\, you’re invited. \nBlazing the Trail is more than this year’s theme — it’s a reflection of the leaders\, visionaries\, and community members who blaze the trail making it bright enough for others to follow. \nJoin us for a thoughtfully curated tea experience featuring: \n\nLive artistic and cultural expression\nMeaningful conversation and reflection\nA welcoming\, stylish atmosphere\nCommunity leaders and change-makers from across the region\n\nGather with us to connect\, be inspired\, and recommit to blazing trails that create opportunity\, access\, and impact. \nTickets cost $80 each or a table seating 8 for $700. Please click here to register. \nFor more information please email nsjuneteenth@gmail.com or call 781-315-2077.
URL:https://lynntv.org/event/blazing-the-trail-hats-heels-bow-ties-blazers-tea-2026/
LOCATION:Spinelli’s Function Facility\, 10 Newbury St.\, Peabody\, MA\, 01960\, United States
CATEGORIES:Arts and Culture,Entertainment,Fundraisers,Talks and Panel Discussions,VisitLynnMA
ATTACH;FMTTYPE=image/jpeg:https://lynntv.org/wp-content/uploads/2026/04/Hats-Heels-Bow-Ties-Blazers-Tea-2026.jpg
ORGANIZER;CN="North Shore Juneteenth Association":MAILTO:info@nsjuneteenth.com
END:VEVENT
END:VCALENDAR