BEGIN:VCALENDAR
VERSION:2.0
PRODID:-//Lynn Community TV - ECPv6.15.20//NONSGML v1.0//EN
CALSCALE:GREGORIAN
METHOD:PUBLISH
X-WR-CALNAME:Lynn Community TV
X-ORIGINAL-URL:https://lynntv.org
X-WR-CALDESC:Events for Lynn Community TV
REFRESH-INTERVAL;VALUE=DURATION:PT1H
X-Robots-Tag:noindex
X-PUBLISHED-TTL:PT1H
BEGIN:VTIMEZONE
TZID:America/New_York
BEGIN:DAYLIGHT
TZOFFSETFROM:-0500
TZOFFSETTO:-0400
TZNAME:EDT
DTSTART:20250309T070000
END:DAYLIGHT
BEGIN:STANDARD
TZOFFSETFROM:-0400
TZOFFSETTO:-0500
TZNAME:EST
DTSTART:20251102T060000
END:STANDARD
BEGIN:DAYLIGHT
TZOFFSETFROM:-0500
TZOFFSETTO:-0400
TZNAME:EDT
DTSTART:20260308T070000
END:DAYLIGHT
BEGIN:STANDARD
TZOFFSETFROM:-0400
TZOFFSETTO:-0500
TZNAME:EST
DTSTART:20261101T060000
END:STANDARD
BEGIN:DAYLIGHT
TZOFFSETFROM:-0500
TZOFFSETTO:-0400
TZNAME:EDT
DTSTART:20270314T070000
END:DAYLIGHT
BEGIN:STANDARD
TZOFFSETFROM:-0400
TZOFFSETTO:-0500
TZNAME:EST
DTSTART:20271107T060000
END:STANDARD
END:VTIMEZONE
BEGIN:VEVENT
DTSTART;VALUE=DATE:20260401
DTEND;VALUE=DATE:20260501
DTSTAMP:20260421T050008
CREATED:20220505T153902Z
LAST-MODIFIED:20260401T164733Z
UID:10006015-1775001600-1777593599@lynntv.org
SUMMARY:Lynn Public Library | All monthly events
DESCRIPTION:From the Lynn Public Library: Below are the monthly activities\, events\, etc from the Lynn Public Library. This list will be updated monthly as we receive updates from the Library. \nVisit lynnpubliclibrary.org/calendar for more details and to register for these programs. \nPlease click for full-resolution images \nPLEASE NOTE: The Friends have once again been selected to benefit from Stop & Shop’s Community Bag program. For every $2.50 Community Bag sold at the Lynn Stop & Shop in the month of April\, the Friends will receive $1.
URL:https://lynntv.org/event/lynn-public-library-all-monthly-events/
LOCATION:Lynn Public Library\, 5 North Common Street\, Lynn\, MA\, United States
CATEGORIES:Arts and Culture,City of Lynn,Entertainment,Groups, Clubs, and Meet-ups,Seminars and Workshops,VisitLynnMA,Youth
ATTACH;FMTTYPE=image/jpeg:https://lynntv.org/wp-content/uploads/2021/09/Lynn-Public-Library.jpg
END:VEVENT
BEGIN:VEVENT
DTSTART;VALUE=DATE:20260401
DTEND;VALUE=DATE:20260601
DTSTAMP:20260421T050008
CREATED:20260211T182604Z
LAST-MODIFIED:20260401T160724Z
UID:10016402-1775001600-1780271999@lynntv.org
SUMMARY:UUCGL | All monthly events
DESCRIPTION:From UUCGL: This entry will be updated monthly. \nIf the previous month is listed\, it means we haven’t yet received the next month’s programming. \nClick for full-resolution flier\nONE-OFF EVENTS:\n“Have I Got a Story for You!” — A Live Story Sharing Night\nSaturday\, April 11 at 7pm\nJoin us for a lively\, laughter-filled evening of storytelling! Whether you’re a seasoned storyteller or someone who simply loves hearing great tales\, this night is for you. All adults 18+ are warmly invited.\nLearn more by clicking here \nPondside Chorus: A Vernal Pool Experience\nMonday\, April 13 at 6:30pm\nA free\, family-friendly exploration of vernal ponds and the amazing creatures that depend on them.\nLearn more by clicking here \nOpen House: Free Tai Chi and Qigong Lessons!\nTuesday\, April 21 from 9 – 11am\nCurious about Tai Chi or Qigong? Come experience these calming\, energizing practices for yourself at our free\, no‑obligation lessons.\nLearn more by clicking here \nHearts & Arts for Youth\nMarch 1\, March 15\, April 12\, May 3\, May 10\nA new hands‑on art series led by local artist and educator Bruce Orr\, designed for youth of all ages through high school.\nLearn more by clicking here \n_________________________________ \nRECURRING PROGRAMS:\n\n\n\nPlant-Based Cooking Group *$5*\n1st & 3rd Thursdays of the month (through May)  | 5-7pm\nAll ages welcome; anyone can join!\nuucgl.org/adultprograms#cooking \n  \nSaturday Craft Circle *FREE*\n1st & 3rd Saturdays of the month (through May) | 10am-2pm\nOpen to all kinds of crafters!\nuucgl.org/adultprograms#craft \n  \nSunday Evening Meditations *FREE*\n2nd & 4th Sundays (through April) | 5:15-6pm\nNo prior experience required.\nuucgl.org/adultprograms#sundaymeditations\n(2/22 session will be on Zoom) \n  \n\n\n\n\n\nSound Healing *$25*\n3rd Sundays\, every other month (year-round) | 2-4pm\nLimited capacity — advanced registration required. \nIn these turbulent times\, many of us could use some self-care. Did you know that sound has the power to shift your nervous system from stress to deep relaxation? When you experience a sound bath\, your brainwaves slow down\, your body releases tension\, and you enter a state of healing. \nSound Healing\, also known as Vibrational Healing\, is a non-invasive alternative therapy that resonates with the wisdom of luminaries like the Buddha\, Einstein\, and Medical Oncologist Mitchell Gaynor M.D. Imagine stepping into a serene oasis where stress melts away\, and your immune system is rejuvenated through the power of sound. \nJoin us for a 2-hour journey into bliss\, wellness\, and healing\, guided by the talented sound therapist Joe Hayes. Bring a friend! Register early to secure your spot for just $25 at uucgl.org/soundhealing \nuucgl.org/soundhealing \n  \nYouth Group (9th-12th graders) *FREE*\nMost 2nd & 4th Sundays of the month (through May) | 6:15-8:30pm\nOpen to all local youth.\nuucgl.org/programs-for-children#older-youth \n  \nChildren & Youth Sunday Morning Programming (preK-12th graders) *FREE*\nWeekly on Sunday Mornings (through May) | 10-11am\nOpen to all local youth.\nuucgl.org/programs-for-children \n  \nHearts & Arts for Youth: Sunday Art Adventures to Benefit the Local Community *FREE*\nFEB 8 & 22 (more dates coming in March and April!)\nOpen to all local youth.\nhttps://www.uucgl.org/heartsandarts \n  \nChoir *FREE*\nWeekly on Thursday Evenings (through May) | 7:30pm\nOpen to anyone who loves to sing!\nuucgl.org/adultprograms#choir \n  \nDrumagic Drum Circle *FREE (Donations appreciated)*\n2nd Sundays of the month (year-round) | 1:30-3:30pm\nOpen to all skill levels and beginners.\nuucgl.org/adultprograms#drumcircle \n  \nQigong Classes\nWeekly on Tuesdays (year-round) | 10-11am\nAll ages and abilities welcome. Join Anytime!\nuucgl.org/taichi \n  \nTai Chi Classes (Beginners)\nWeekly on Tuesdays (year-round) | 11-12pm\nBeginners only. Join Anytime!\nuucgl.org/taichi \n\n\n\n\n\n\n\n\n\nJOIN US! We are located at 101 Forest Avenue in Swampscott. Free parking. \nWe welcome people of any age\, race\, sex\, ethnicity\, national origin\, range of abilities\, sexual orientation\, gender identity\, financial means\, education\, or political perspective. Find out more at uucgl.org.
URL:https://lynntv.org/event/uucgl-all-monthly-events/
LOCATION:UUCGL\, 101 Forest Ave\, Swampscott\, MA\, 01907\, United States
CATEGORIES:Arts and Culture,Community,Entertainment,Groups, Clubs, and Meet-ups,Health and Wellness,Seminars and Workshops,Youth
ATTACH;FMTTYPE=image/jpeg:https://lynntv.org/wp-content/uploads/2026/02/FI-UUCGL-logo.jpg
ORGANIZER;CN="UUCGL":MAILTO:office@uucgl.org
END:VEVENT
BEGIN:VEVENT
DTSTART;VALUE=DATE:20260405
DTEND;VALUE=DATE:20260601
DTSTAMP:20260421T050008
CREATED:20260406T165528Z
LAST-MODIFIED:20260406T165528Z
UID:10017087-1775347200-1780271999@lynntv.org
SUMMARY:5th Annual Greater Lynn Photographic Association Photography Exhibition
DESCRIPTION:From the Greater Lynn Photographic Association: The GLPA is proud to announce its 5th Annual Photography Exhibition at the Demakes Family YMCA in Lynn runs from April 5 – May 31\, 2026. \nThere are fifty beautiful photographs from twenty-seven members of the Greater Lynn Photographic Association currently on display. They range in genre from Abstract to Nature\, to Architectural to Landscapes to People topics. \nA Meet the Photographers reception will be at the Demakes Family YMCA\, 50 Blossom St. Lynn\, MA on Sunday April 19th from 2-4PM. Please stop by to meet the photographers\, other Greater Lynn Photographic Association members and learn more about the Greater Lynn Photographic Association.
URL:https://lynntv.org/event/5th-annual-greater-lynn-photographic-association-photography-exhibition/
LOCATION:Demakes Family YMCA\, 40 Neptune Blvd.\, Lynn\, MA\, 01902\, United States
CATEGORIES:Arts and Culture,Community,Open house,VisitLynnMA
ATTACH;FMTTYPE=image/jpeg:https://lynntv.org/wp-content/uploads/2026/04/FI-Greater-Lynn-Photographic-Association-GLPA.jpg
END:VEVENT
BEGIN:VEVENT
DTSTART;TZID=America/New_York:20260427T143000
DTEND;TZID=America/New_York:20260427T173000
DTSTAMP:20260421T050008
CREATED:20260409T203153Z
LAST-MODIFIED:20260409T203153Z
UID:10017107-1777300200-1777311000@lynntv.org
SUMMARY:Middle School Hub | 2025-26 School Year
DESCRIPTION:From the City of Lynn: The City of Lynn and Lynn Public Schools are launching a new\, exciting after-school program designed to provide engaging activities and a safe\, supportive space for youth ages 10-14 to learn and grow. \n\nEngaging Activities\nSupportive Hangout Space\nOpen Gym\nFree Pizza and Water\n\nUPCOMING HOLIDAY HOURS: \nPatriots’ Day (April 20) | 10am-1pm\nMemorial Day (May 25) | 10am-1pm \nThis program is sponsored by Mayor Jared Nicholson’s Office\, Lynn Police Department\, Public Health Department\, and Parks and Recreation Department. \nQuestions? Please contact Lisa Nerich at 781-586-8012 or lnerich@lynnma.gov.
URL:https://lynntv.org/event/middle-school-hub-2025-26-school-year/2026-04-27/
LOCATION:Breed Middle School\, 90 O'Callaghan Way in Lynn\, Lynn\, MA\, 01905\, United States
CATEGORIES:Arts and Culture,City of Lynn,Community,Entertainment,Groups, Clubs, and Meet-ups,Health and Wellness,Youth
ATTACH;FMTTYPE=image/jpeg:https://lynntv.org/wp-content/uploads/2026/04/FI-Middle-School-Hub.jpg
END:VEVENT
BEGIN:VEVENT
DTSTART;TZID=America/New_York:20260427T180000
DTEND;TZID=America/New_York:20260427T210000
DTSTAMP:20260421T050008
CREATED:20230327T193208Z
LAST-MODIFIED:20250429T195746Z
UID:10010973-1777312800-1777323600@lynntv.org
SUMMARY:Figure Drawing at GALA
DESCRIPTION:Join the Monday Night Drawing Group at the Galleries at LynnArts\, hosted by Annette Sykes of Paint by the Ocean. This weekly session offers artists of all levels the opportunity to draw from a live\, clothed or unclothed model in a relaxed\, supportive environment. Bring your own art supplies and enjoy an evening of creative exploration.​\n\nThese drawing groups will meet every Monday from 6-9pm at GALA. Fees are $18 for GALA Members\, $20 for Non-Members\, & $18 for Students. No instruction is provided; this is a self-guided session ideal for practicing figure drawing in a community setting.​ \nFor more information visit the GALA website\, follow @paintbytheocean on Instagram\, or email paintbytheocean@gmail.com.\n\n\nIf the flier above is out-of-date please contact GALA \n\nThe above information was submitted to us by the Galleries at LynnArts (GALA).
URL:https://lynntv.org/event/figure-drawing-at-gala/2026-04-27/
LOCATION:The Studios at Lynn Museum & Arts Center (LynnArts) & The Neal Rantoul Vault Theatre\, 25 Exchange Street\, Lynn\, MA\, 01901\, United States
CATEGORIES:Arts and Culture,Groups, Clubs, and Meet-ups,VisitLynnMA
ATTACH;FMTTYPE=image/jpeg:https://lynntv.org/wp-content/uploads/2023/03/FI-Figure-Drawing.jpg
END:VEVENT
BEGIN:VEVENT
DTSTART;TZID=America/New_York:20260429T190000
DTEND;TZID=America/New_York:20260429T210000
DTSTAMP:20260421T050008
CREATED:20251114T183229Z
LAST-MODIFIED:20251114T183502Z
UID:10015583-1777489200-1777496400@lynntv.org
SUMMARY:Speak Up Spoken Word Open Mic
DESCRIPTION:From Tony Toledo: Speak Up Spoken Word Open Mic meets every Wednesday at 7 pm at the Walnut Street Cafe. Speak Up welcomes poets\, storytellers\, community activists\, comedians and curmudgeons. This is a free event but a hat is passed for the Featured Speaker. \nSignup starts: 7:00pm\nOpen mic: 7:30-830pm\nFeature: 8:30-9:00pm\nIf you have any questions please reach out to host Call Dave Somerset by emailing CallDave123@gmail.com or calling 978-921-4628. \nTo find out the week’s featured speaker and more please visit their Facebook group.
URL:https://lynntv.org/event/speak-up-spoken-word-open-mic/2026-04-29/
LOCATION:Walnut Street Cafe\, 127 Walnut Street\, Lynn\, MA\, 01905\, United States
CATEGORIES:Arts and Culture,Entertainment,Open mic,VisitLynnMA
ATTACH;FMTTYPE=image/jpeg:https://lynntv.org/wp-content/uploads/2025/11/FI-Walnut-St-Cafe-Open-Mic.jpg
END:VEVENT
BEGIN:VEVENT
DTSTART;TZID=America/New_York:20260430T143000
DTEND;TZID=America/New_York:20260430T160000
DTSTAMP:20260421T050008
CREATED:20260319T171119Z
LAST-MODIFIED:20260319T171119Z
UID:10017030-1777559400-1777564800@lynntv.org
SUMMARY:“Glitter Road”: A Reading and Conversation with January Gill O’Neil
DESCRIPTION:Click for full-resolution flier\nFrom Massachusetts Center for the Book: Join the North Shore Community College Lynn Campus Library for an afternoon with January Gill O’Neil\, author of Glitter Road\, a Massachusetts Book Awards Honors title in poetry. O’Neil will read from her celebrated collection\, speak about her writing process\, and share insights into her approach to crafting poems before opening the floor for an audience Q&A. She will also lead a brief writing prompt for anyone who would like to participate. \nGlitter Road opens in the wake of loss\, deep pain\, and anger\, yet the poems insist on finding flashes of celebration and joy—even if that joy is simply\, in the spirit of Lucille Clifton\, “what i have shaped into / a kind of life\,” the triumph of survival and self-recognition. With formal dexterity and richly charged syntax\, O’Neil’s poems resist the silences of fear\, grief\, desire\, and anxiety\, speaking aloud what is so often left unspoken in both private and public life. Her interrogations of race thread through the collection\, shaping a speaker whose history—personal and collective—unfolds with carefully rendered detail. \nThis program is sponsored by the Mass Book Awards Speakers Bureau and is presented in collaboration with the Massachusetts Center for the Book. \nJANUARY GILL O’NEIL is a poet and author of Glitter Road\, Rewilding\, Misery Islands\, and Underlife. Her work has been featured in The New York Times Magazine\, American Poetry Review\, and Poetry\, among other publications. She has received fellowships from Cave Canem\, the American Academy of Arts and Sciences\, and the Barbara Deming Memorial Fund\, among others. O’Neil is an associate professor at Salem State University and lives in Massachusetts. \nMore about the event by clicking here.\nTo learn more please email info@massbook.org
URL:https://lynntv.org/event/glitter-road-a-reading-and-conversation-with-january-gill-oneil/
LOCATION:North Shore Community College\, 300 Broad Street\, Lynn\, MA\, 01901\, United States
CATEGORIES:Arts and Culture,Community,Talks and Panel Discussions,VisitLynnMA
ATTACH;FMTTYPE=image/jpeg:https://lynntv.org/wp-content/uploads/2026/03/FI-Glitter-Road-Reading-April-2026.jpg
ORGANIZER;CN="Massachusetts Center for the Book":MAILTO:info@massbook.org
END:VEVENT
BEGIN:VEVENT
DTSTART;TZID=America/New_York:20260430T170000
DTEND;TZID=America/New_York:20260430T190000
DTSTAMP:20260421T050008
CREATED:20260414T143311Z
LAST-MODIFIED:20260414T143311Z
UID:10017200-1777568400-1777575600@lynntv.org
SUMMARY:2026 Early Childhood Literacy Night
DESCRIPTION:From Coordinated Family and Community Engagement Program: This event is free for families with children ages birth – 6 years! Lynn Public Schools preschool & kindergarten registration information will be available. \n\nFree books!\nRaffles & prizes\nHands on literacy & art activities\nCommunity resources & play group opportunities\nHome visiting information\nParenting classes\nCommunity building
URL:https://lynntv.org/event/2026-early-childhood-literacy-night/
LOCATION:Lynn Tech (Annex Building)\, 90 Commercial Street\, Lynn\, MA\, 01902\, United States
CATEGORIES:Arts and Culture,Community,Entertainment,Festivals and Fairs,Health and Wellness,Youth
ATTACH;FMTTYPE=image/jpeg:https://lynntv.org/wp-content/uploads/2026/04/2026-Early-Childhood-Literacy-Night.jpg
END:VEVENT
BEGIN:VEVENT
DTSTART;TZID=America/New_York:20260501T180000
DTEND;TZID=America/New_York:20260501T210000
DTSTAMP:20260421T050008
CREATED:20260312T160441Z
LAST-MODIFIED:20260312T160530Z
UID:10016994-1777658400-1777669200@lynntv.org
SUMMARY:Teen Drop-in Center - Spring 2025
DESCRIPTION:From Lynn Parks & Recreation: The Lynn Teen Drop-In Center is hosted weekly for our youth ages 13-18 to engage in recreational activities during after-school and evening hours. Activities include playing sports\, listening to music\, and hearing from guest speakers. \nMusic * Pizza * Cornhole * Volleyball * Basketball\nDates subject to change due to school scheduled sporting events or inclement weather. \nSupported by the Mayor’s office\, Lynn Parks and Recreation Department\, Lynn Police Department\, Shannon Grant\, & Community Development. For more information\, please call Lisa Nerich 781-286-8000
URL:https://lynntv.org/event/teen-drop-in-center-spring-2025/2026-05-01/
LOCATION:Lynn Tech – Field House\, 80 Neptune Blvd\, Lynn\, MA\, 01902\, United States
CATEGORIES:Arts and Culture,City of Lynn,Entertainment,Groups, Clubs, and Meet-ups,Health and Wellness,Sports,Talks and Panel Discussions,Youth
ATTACH;FMTTYPE=image/jpeg:https://lynntv.org/wp-content/uploads/2022/09/FI-Teen-Drop-In-Center.jpg
END:VEVENT
BEGIN:VEVENT
DTSTART;TZID=America/New_York:20260502T130000
DTEND;TZID=America/New_York:20260502T160000
DTSTAMP:20260421T050008
CREATED:20260410T142032Z
LAST-MODIFIED:20260410T142032Z
UID:10017117-1777726800-1777737600@lynntv.org
SUMMARY:Afro-Cuban Music Workshop w/ Sandy Pérez
DESCRIPTION:From Lynn Music Foundation: Come join us for a fun and interactive beginner’s workshop on Afro-Cuban music with the talented Sandy Pérez! This in-person event will be held at 25 Exchange St. IN THE VAULT THEATER. \nMark your calendars and get ready to groove to the beats of Cuba. Sandy will guide you through the basics of Afro-Cuban rhythms\, helping you develop your skills and appreciation for this vibrant musical tradition. Whether you’re a seasoned musician or just starting out\, this workshop is perfect for anyone looking to explore the rich sounds of Afro-Cuban music. \nBeginner Session from 1 – 2:30 PM\nLynn Resident – free\nNon-Resident – $10 \nIntermediate Session from 2 – 4 PM\nLynn Resident – $10\nNon-Resident – $20
URL:https://lynntv.org/event/afro-cuban-music-workshop-w-sandy-perez/2026-05-02/
LOCATION:The Studios at Lynn Museum & Arts Center (LynnArts) & The Neal Rantoul Vault Theatre\, 25 Exchange Street\, Lynn\, MA\, 01901\, United States
CATEGORIES:Arts and Culture,Seminars and Workshops,VisitLynnMA
ATTACH;FMTTYPE=image/jpeg:https://lynntv.org/wp-content/uploads/2026/04/FI-Afro-Cuban-Music.jpg
ORGANIZER;CN="Lynn Music Foundation":MAILTO:lynnmusicfoundation@gmail.com
END:VEVENT
END:VCALENDAR