BEGIN:VCALENDAR
VERSION:2.0
PRODID:-//Lynn Community TV - ECPv6.15.20//NONSGML v1.0//EN
CALSCALE:GREGORIAN
METHOD:PUBLISH
X-ORIGINAL-URL:https://lynntv.org
X-WR-CALDESC:Events for Lynn Community TV
REFRESH-INTERVAL;VALUE=DURATION:PT1H
X-Robots-Tag:noindex
X-PUBLISHED-TTL:PT1H
BEGIN:VTIMEZONE
TZID:America/New_York
BEGIN:DAYLIGHT
TZOFFSETFROM:-0500
TZOFFSETTO:-0400
TZNAME:EDT
DTSTART:20250309T070000
END:DAYLIGHT
BEGIN:STANDARD
TZOFFSETFROM:-0400
TZOFFSETTO:-0500
TZNAME:EST
DTSTART:20251102T060000
END:STANDARD
BEGIN:DAYLIGHT
TZOFFSETFROM:-0500
TZOFFSETTO:-0400
TZNAME:EDT
DTSTART:20260308T070000
END:DAYLIGHT
BEGIN:STANDARD
TZOFFSETFROM:-0400
TZOFFSETTO:-0500
TZNAME:EST
DTSTART:20261101T060000
END:STANDARD
BEGIN:DAYLIGHT
TZOFFSETFROM:-0500
TZOFFSETTO:-0400
TZNAME:EDT
DTSTART:20270314T070000
END:DAYLIGHT
BEGIN:STANDARD
TZOFFSETFROM:-0400
TZOFFSETTO:-0500
TZNAME:EST
DTSTART:20271107T060000
END:STANDARD
END:VTIMEZONE
BEGIN:VEVENT
DTSTART;VALUE=DATE:20260401
DTEND;VALUE=DATE:20260601
DTSTAMP:20260421T091204
CREATED:20260211T182604Z
LAST-MODIFIED:20260401T160724Z
UID:10016402-1775001600-1780271999@lynntv.org
SUMMARY:UUCGL | All monthly events
DESCRIPTION:From UUCGL: This entry will be updated monthly. \nIf the previous month is listed\, it means we haven’t yet received the next month’s programming. \nClick for full-resolution flier\nONE-OFF EVENTS:\n“Have I Got a Story for You!” — A Live Story Sharing Night\nSaturday\, April 11 at 7pm\nJoin us for a lively\, laughter-filled evening of storytelling! Whether you’re a seasoned storyteller or someone who simply loves hearing great tales\, this night is for you. All adults 18+ are warmly invited.\nLearn more by clicking here \nPondside Chorus: A Vernal Pool Experience\nMonday\, April 13 at 6:30pm\nA free\, family-friendly exploration of vernal ponds and the amazing creatures that depend on them.\nLearn more by clicking here \nOpen House: Free Tai Chi and Qigong Lessons!\nTuesday\, April 21 from 9 – 11am\nCurious about Tai Chi or Qigong? Come experience these calming\, energizing practices for yourself at our free\, no‑obligation lessons.\nLearn more by clicking here \nHearts & Arts for Youth\nMarch 1\, March 15\, April 12\, May 3\, May 10\nA new hands‑on art series led by local artist and educator Bruce Orr\, designed for youth of all ages through high school.\nLearn more by clicking here \n_________________________________ \nRECURRING PROGRAMS:\n\n\n\nPlant-Based Cooking Group *$5*\n1st & 3rd Thursdays of the month (through May)  | 5-7pm\nAll ages welcome; anyone can join!\nuucgl.org/adultprograms#cooking \n  \nSaturday Craft Circle *FREE*\n1st & 3rd Saturdays of the month (through May) | 10am-2pm\nOpen to all kinds of crafters!\nuucgl.org/adultprograms#craft \n  \nSunday Evening Meditations *FREE*\n2nd & 4th Sundays (through April) | 5:15-6pm\nNo prior experience required.\nuucgl.org/adultprograms#sundaymeditations\n(2/22 session will be on Zoom) \n  \n\n\n\n\n\nSound Healing *$25*\n3rd Sundays\, every other month (year-round) | 2-4pm\nLimited capacity — advanced registration required. \nIn these turbulent times\, many of us could use some self-care. Did you know that sound has the power to shift your nervous system from stress to deep relaxation? When you experience a sound bath\, your brainwaves slow down\, your body releases tension\, and you enter a state of healing. \nSound Healing\, also known as Vibrational Healing\, is a non-invasive alternative therapy that resonates with the wisdom of luminaries like the Buddha\, Einstein\, and Medical Oncologist Mitchell Gaynor M.D. Imagine stepping into a serene oasis where stress melts away\, and your immune system is rejuvenated through the power of sound. \nJoin us for a 2-hour journey into bliss\, wellness\, and healing\, guided by the talented sound therapist Joe Hayes. Bring a friend! Register early to secure your spot for just $25 at uucgl.org/soundhealing \nuucgl.org/soundhealing \n  \nYouth Group (9th-12th graders) *FREE*\nMost 2nd & 4th Sundays of the month (through May) | 6:15-8:30pm\nOpen to all local youth.\nuucgl.org/programs-for-children#older-youth \n  \nChildren & Youth Sunday Morning Programming (preK-12th graders) *FREE*\nWeekly on Sunday Mornings (through May) | 10-11am\nOpen to all local youth.\nuucgl.org/programs-for-children \n  \nHearts & Arts for Youth: Sunday Art Adventures to Benefit the Local Community *FREE*\nFEB 8 & 22 (more dates coming in March and April!)\nOpen to all local youth.\nhttps://www.uucgl.org/heartsandarts \n  \nChoir *FREE*\nWeekly on Thursday Evenings (through May) | 7:30pm\nOpen to anyone who loves to sing!\nuucgl.org/adultprograms#choir \n  \nDrumagic Drum Circle *FREE (Donations appreciated)*\n2nd Sundays of the month (year-round) | 1:30-3:30pm\nOpen to all skill levels and beginners.\nuucgl.org/adultprograms#drumcircle \n  \nQigong Classes\nWeekly on Tuesdays (year-round) | 10-11am\nAll ages and abilities welcome. Join Anytime!\nuucgl.org/taichi \n  \nTai Chi Classes (Beginners)\nWeekly on Tuesdays (year-round) | 11-12pm\nBeginners only. Join Anytime!\nuucgl.org/taichi \n\n\n\n\n\n\n\n\n\nJOIN US! We are located at 101 Forest Avenue in Swampscott. Free parking. \nWe welcome people of any age\, race\, sex\, ethnicity\, national origin\, range of abilities\, sexual orientation\, gender identity\, financial means\, education\, or political perspective. Find out more at uucgl.org.
URL:https://lynntv.org/event/uucgl-all-monthly-events/
LOCATION:UUCGL\, 101 Forest Ave\, Swampscott\, MA\, 01907\, United States
CATEGORIES:Arts and Culture,Community,Entertainment,Groups, Clubs, and Meet-ups,Health and Wellness,Seminars and Workshops,Youth
ATTACH;FMTTYPE=image/jpeg:https://lynntv.org/wp-content/uploads/2026/02/FI-UUCGL-logo.jpg
ORGANIZER;CN="UUCGL":MAILTO:office@uucgl.org
END:VEVENT
BEGIN:VEVENT
DTSTART;VALUE=DATE:20260405
DTEND;VALUE=DATE:20260601
DTSTAMP:20260421T091204
CREATED:20260406T165528Z
LAST-MODIFIED:20260406T165528Z
UID:10017087-1775347200-1780271999@lynntv.org
SUMMARY:5th Annual Greater Lynn Photographic Association Photography Exhibition
DESCRIPTION:From the Greater Lynn Photographic Association: The GLPA is proud to announce its 5th Annual Photography Exhibition at the Demakes Family YMCA in Lynn runs from April 5 – May 31\, 2026. \nThere are fifty beautiful photographs from twenty-seven members of the Greater Lynn Photographic Association currently on display. They range in genre from Abstract to Nature\, to Architectural to Landscapes to People topics. \nA Meet the Photographers reception will be at the Demakes Family YMCA\, 50 Blossom St. Lynn\, MA on Sunday April 19th from 2-4PM. Please stop by to meet the photographers\, other Greater Lynn Photographic Association members and learn more about the Greater Lynn Photographic Association.
URL:https://lynntv.org/event/5th-annual-greater-lynn-photographic-association-photography-exhibition/
LOCATION:Demakes Family YMCA\, 40 Neptune Blvd.\, Lynn\, MA\, 01902\, United States
CATEGORIES:Arts and Culture,Community,Open house,VisitLynnMA
ATTACH;FMTTYPE=image/jpeg:https://lynntv.org/wp-content/uploads/2026/04/FI-Greater-Lynn-Photographic-Association-GLPA.jpg
END:VEVENT
BEGIN:VEVENT
DTSTART;TZID=America/New_York:20260517T150000
DTEND;TZID=America/New_York:20260517T190000
DTSTAMP:20260421T091204
CREATED:20241114T151311Z
LAST-MODIFIED:20241114T151311Z
UID:10012700-1779030000-1779044400@lynntv.org
SUMMARY:Poetic Lynnguistics: North Shore Youth Spoken Word
DESCRIPTION:More information will be released soon…stay tuned!\nThis is a youth Event + Admission is FREE. An 18+ Open Mic will begin on the 1st and 3rd Sundays at 7pm. More information on the event series page. \n_________________ \nIf you have any questions please contact Michelle LaPoetica at 662-799-1916 or DENCITYvibes@gmail.com. \n\nThe above information was submitted to us by DENCITY.
URL:https://lynntv.org/event/poetic-lynnguistics-north-shore-youth-spoken-word-2/2026-05-17/
LOCATION:The Studios at Lynn Museum & Arts Center (LynnArts) & The Neal Rantoul Vault Theatre\, 25 Exchange Street\, Lynn\, MA\, 01901\, United States
CATEGORIES:Arts and Culture,Entertainment,Open mic,VisitLynnMA,Youth
ATTACH;FMTTYPE=image/jpeg:https://lynntv.org/wp-content/uploads/2024/11/FI-DENCITY-2024-North-shore-Youth-Spoken-Word.jpg
END:VEVENT
BEGIN:VEVENT
DTSTART;TZID=America/New_York:20260517T190000
DTEND;TZID=America/New_York:20260517T220000
DTSTAMP:20260421T091204
CREATED:20241114T145118Z
LAST-MODIFIED:20250820T203513Z
UID:10012521-1779044400-1779055200@lynntv.org
SUMMARY:DENCITY International Soulcase + Open Mic
DESCRIPTION:DENCITY International Soulcase + Open Mic is where the soul speaks and truths echo. A sanctuary for expression\, a community of creatives\, and a celebration of raw\, unfiltered storytelling through spoken word\, music\, and performance. \nThis is a brave\, healing\, and SOBER space — a judgment-free zone where you are welcome as you are. \n_________________ \nIf you have any questions please contact Michelle LaPoetica at 662-799-1916 or DENCITYvibes@gmail.com. \n\nThe above information was submitted to us by DENCITY.
URL:https://lynntv.org/event/dencity-international-soulcase-open-mic/2026-05-17/
LOCATION:The Studios at Lynn Museum & Arts Center (LynnArts) & The Neal Rantoul Vault Theatre\, 25 Exchange Street\, Lynn\, MA\, 01901\, United States
CATEGORIES:Arts and Culture,Entertainment,Open mic,VisitLynnMA
ATTACH;FMTTYPE=image/jpeg:https://lynntv.org/wp-content/uploads/2024/11/FI-2025-DENCITY-International-Soulcase-Open-Mic.jpg
END:VEVENT
BEGIN:VEVENT
DTSTART;TZID=America/New_York:20260518T143000
DTEND;TZID=America/New_York:20260518T173000
DTSTAMP:20260421T091204
CREATED:20260409T203153Z
LAST-MODIFIED:20260409T203153Z
UID:10017110-1779114600-1779125400@lynntv.org
SUMMARY:Middle School Hub | 2025-26 School Year
DESCRIPTION:From the City of Lynn: The City of Lynn and Lynn Public Schools are launching a new\, exciting after-school program designed to provide engaging activities and a safe\, supportive space for youth ages 10-14 to learn and grow. \n\nEngaging Activities\nSupportive Hangout Space\nOpen Gym\nFree Pizza and Water\n\nUPCOMING HOLIDAY HOURS: \nPatriots’ Day (April 20) | 10am-1pm\nMemorial Day (May 25) | 10am-1pm \nThis program is sponsored by Mayor Jared Nicholson’s Office\, Lynn Police Department\, Public Health Department\, and Parks and Recreation Department. \nQuestions? Please contact Lisa Nerich at 781-586-8012 or lnerich@lynnma.gov.
URL:https://lynntv.org/event/middle-school-hub-2025-26-school-year/2026-05-18/
LOCATION:Breed Middle School\, 90 O'Callaghan Way in Lynn\, Lynn\, MA\, 01905\, United States
CATEGORIES:Arts and Culture,City of Lynn,Community,Entertainment,Groups, Clubs, and Meet-ups,Health and Wellness,Youth
ATTACH;FMTTYPE=image/jpeg:https://lynntv.org/wp-content/uploads/2026/04/FI-Middle-School-Hub.jpg
END:VEVENT
BEGIN:VEVENT
DTSTART;TZID=America/New_York:20260518T180000
DTEND;TZID=America/New_York:20260518T210000
DTSTAMP:20260421T091204
CREATED:20230327T193208Z
LAST-MODIFIED:20250429T195746Z
UID:10010976-1779127200-1779138000@lynntv.org
SUMMARY:Figure Drawing at GALA
DESCRIPTION:Join the Monday Night Drawing Group at the Galleries at LynnArts\, hosted by Annette Sykes of Paint by the Ocean. This weekly session offers artists of all levels the opportunity to draw from a live\, clothed or unclothed model in a relaxed\, supportive environment. Bring your own art supplies and enjoy an evening of creative exploration.​\n\nThese drawing groups will meet every Monday from 6-9pm at GALA. Fees are $18 for GALA Members\, $20 for Non-Members\, & $18 for Students. No instruction is provided; this is a self-guided session ideal for practicing figure drawing in a community setting.​ \nFor more information visit the GALA website\, follow @paintbytheocean on Instagram\, or email paintbytheocean@gmail.com.\n\n\nIf the flier above is out-of-date please contact GALA \n\nThe above information was submitted to us by the Galleries at LynnArts (GALA).
URL:https://lynntv.org/event/figure-drawing-at-gala/2026-05-18/
LOCATION:The Studios at Lynn Museum & Arts Center (LynnArts) & The Neal Rantoul Vault Theatre\, 25 Exchange Street\, Lynn\, MA\, 01901\, United States
CATEGORIES:Arts and Culture,Groups, Clubs, and Meet-ups,VisitLynnMA
ATTACH;FMTTYPE=image/jpeg:https://lynntv.org/wp-content/uploads/2023/03/FI-Figure-Drawing.jpg
END:VEVENT
BEGIN:VEVENT
DTSTART;TZID=America/New_York:20260519T170000
DTEND;TZID=America/New_York:20260519T190000
DTSTAMP:20260421T091204
CREATED:20260415T201238Z
LAST-MODIFIED:20260415T201345Z
UID:10017207-1779210000-1779217200@lynntv.org
SUMMARY:2026 AANHPI Heritage Month Celebration
DESCRIPTION:From The City of Lynn: Celebrate Asian American\, Native Hawaiian\, and Pacific Islander (AANHPI) Heritage Month with the City of Lynn!The event includes a mini market showcasing unique local vendors\, free food and treats\, and live performances from cultural dance groups. \nSpecial Guests:\nKakrona Center Dance Group – Khmer Traditional DanceCambo-Culture Crew – Khmer Traditional DanceCinda Crafts – DIY Earrings WorkshopA Painting in the Park – Live Portrait PaintingMore details on the mini market will be shared soon to the FB event page.
URL:https://lynntv.org/event/2026-aanhpi-heritage-month-celebration/
LOCATION:Lynn City Hall & Auditorium\, 3 City Hall Square\, Lynn\, MA\, 01901\, United States
CATEGORIES:Arts and Culture,Entertainment,Seminars and Workshops,VisitLynnMA
ATTACH;FMTTYPE=image/jpeg:https://lynntv.org/wp-content/uploads/2026/04/FI-2026-AANHPI-Heritage-Month-Celebration.jpg
END:VEVENT
BEGIN:VEVENT
DTSTART;TZID=America/New_York:20260520T190000
DTEND;TZID=America/New_York:20260520T210000
DTSTAMP:20260421T091204
CREATED:20251114T183229Z
LAST-MODIFIED:20251114T183502Z
UID:10015586-1779303600-1779310800@lynntv.org
SUMMARY:Speak Up Spoken Word Open Mic
DESCRIPTION:From Tony Toledo: Speak Up Spoken Word Open Mic meets every Wednesday at 7 pm at the Walnut Street Cafe. Speak Up welcomes poets\, storytellers\, community activists\, comedians and curmudgeons. This is a free event but a hat is passed for the Featured Speaker. \nSignup starts: 7:00pm\nOpen mic: 7:30-830pm\nFeature: 8:30-9:00pm\nIf you have any questions please reach out to host Call Dave Somerset by emailing CallDave123@gmail.com or calling 978-921-4628. \nTo find out the week’s featured speaker and more please visit their Facebook group.
URL:https://lynntv.org/event/speak-up-spoken-word-open-mic/2026-05-20/
LOCATION:Walnut Street Cafe\, 127 Walnut Street\, Lynn\, MA\, 01905\, United States
CATEGORIES:Arts and Culture,Entertainment,Open mic,VisitLynnMA
ATTACH;FMTTYPE=image/jpeg:https://lynntv.org/wp-content/uploads/2025/11/FI-Walnut-St-Cafe-Open-Mic.jpg
END:VEVENT
BEGIN:VEVENT
DTSTART;TZID=America/New_York:20260522T180000
DTEND;TZID=America/New_York:20260522T210000
DTSTAMP:20260421T091204
CREATED:20260312T160441Z
LAST-MODIFIED:20260312T160530Z
UID:10016997-1779472800-1779483600@lynntv.org
SUMMARY:Teen Drop-in Center - Spring 2025
DESCRIPTION:From Lynn Parks & Recreation: The Lynn Teen Drop-In Center is hosted weekly for our youth ages 13-18 to engage in recreational activities during after-school and evening hours. Activities include playing sports\, listening to music\, and hearing from guest speakers. \nMusic * Pizza * Cornhole * Volleyball * Basketball\nDates subject to change due to school scheduled sporting events or inclement weather. \nSupported by the Mayor’s office\, Lynn Parks and Recreation Department\, Lynn Police Department\, Shannon Grant\, & Community Development. For more information\, please call Lisa Nerich 781-286-8000
URL:https://lynntv.org/event/teen-drop-in-center-spring-2025/2026-05-22/
LOCATION:Lynn Tech – Field House\, 80 Neptune Blvd\, Lynn\, MA\, 01902\, United States
CATEGORIES:Arts and Culture,City of Lynn,Entertainment,Groups, Clubs, and Meet-ups,Health and Wellness,Sports,Talks and Panel Discussions,Youth
ATTACH;FMTTYPE=image/jpeg:https://lynntv.org/wp-content/uploads/2022/09/FI-Teen-Drop-In-Center.jpg
END:VEVENT
END:VCALENDAR