BEGIN:VCALENDAR
VERSION:2.0
PRODID:-//Lynn Community TV - ECPv6.15.20//NONSGML v1.0//EN
CALSCALE:GREGORIAN
METHOD:PUBLISH
X-WR-CALNAME:Lynn Community TV
X-ORIGINAL-URL:https://lynntv.org
X-WR-CALDESC:Events for Lynn Community TV
REFRESH-INTERVAL;VALUE=DURATION:PT1H
X-Robots-Tag:noindex
X-PUBLISHED-TTL:PT1H
BEGIN:VTIMEZONE
TZID:America/New_York
BEGIN:DAYLIGHT
TZOFFSETFROM:-0500
TZOFFSETTO:-0400
TZNAME:EDT
DTSTART:20250309T070000
END:DAYLIGHT
BEGIN:STANDARD
TZOFFSETFROM:-0400
TZOFFSETTO:-0500
TZNAME:EST
DTSTART:20251102T060000
END:STANDARD
BEGIN:DAYLIGHT
TZOFFSETFROM:-0500
TZOFFSETTO:-0400
TZNAME:EDT
DTSTART:20260308T070000
END:DAYLIGHT
BEGIN:STANDARD
TZOFFSETFROM:-0400
TZOFFSETTO:-0500
TZNAME:EST
DTSTART:20261101T060000
END:STANDARD
BEGIN:DAYLIGHT
TZOFFSETFROM:-0500
TZOFFSETTO:-0400
TZNAME:EDT
DTSTART:20270314T070000
END:DAYLIGHT
BEGIN:STANDARD
TZOFFSETFROM:-0400
TZOFFSETTO:-0500
TZNAME:EST
DTSTART:20271107T060000
END:STANDARD
END:VTIMEZONE
BEGIN:VEVENT
DTSTART;TZID=America/New_York:20260615T143000
DTEND;TZID=America/New_York:20260615T173000
DTSTAMP:20260421T103729
CREATED:20260409T203153Z
LAST-MODIFIED:20260409T203153Z
UID:10017113-1781533800-1781544600@lynntv.org
SUMMARY:Middle School Hub | 2025-26 School Year
DESCRIPTION:From the City of Lynn: The City of Lynn and Lynn Public Schools are launching a new\, exciting after-school program designed to provide engaging activities and a safe\, supportive space for youth ages 10-14 to learn and grow. \n\nEngaging Activities\nSupportive Hangout Space\nOpen Gym\nFree Pizza and Water\n\nUPCOMING HOLIDAY HOURS: \nPatriots’ Day (April 20) | 10am-1pm\nMemorial Day (May 25) | 10am-1pm \nThis program is sponsored by Mayor Jared Nicholson’s Office\, Lynn Police Department\, Public Health Department\, and Parks and Recreation Department. \nQuestions? Please contact Lisa Nerich at 781-586-8012 or lnerich@lynnma.gov.
URL:https://lynntv.org/event/middle-school-hub-2025-26-school-year/2026-06-15/
LOCATION:Breed Middle School\, 90 O'Callaghan Way in Lynn\, Lynn\, MA\, 01905\, United States
CATEGORIES:Arts and Culture,City of Lynn,Community,Entertainment,Groups, Clubs, and Meet-ups,Health and Wellness,Youth
ATTACH;FMTTYPE=image/jpeg:https://lynntv.org/wp-content/uploads/2026/04/FI-Middle-School-Hub.jpg
END:VEVENT
BEGIN:VEVENT
DTSTART;TZID=America/New_York:20260615T180000
DTEND;TZID=America/New_York:20260615T210000
DTSTAMP:20260421T103729
CREATED:20230327T193208Z
LAST-MODIFIED:20250429T195746Z
UID:10010980-1781546400-1781557200@lynntv.org
SUMMARY:Figure Drawing at GALA
DESCRIPTION:Join the Monday Night Drawing Group at the Galleries at LynnArts\, hosted by Annette Sykes of Paint by the Ocean. This weekly session offers artists of all levels the opportunity to draw from a live\, clothed or unclothed model in a relaxed\, supportive environment. Bring your own art supplies and enjoy an evening of creative exploration.​\n\nThese drawing groups will meet every Monday from 6-9pm at GALA. Fees are $18 for GALA Members\, $20 for Non-Members\, & $18 for Students. No instruction is provided; this is a self-guided session ideal for practicing figure drawing in a community setting.​ \nFor more information visit the GALA website\, follow @paintbytheocean on Instagram\, or email paintbytheocean@gmail.com.\n\n\nIf the flier above is out-of-date please contact GALA \n\nThe above information was submitted to us by the Galleries at LynnArts (GALA).
URL:https://lynntv.org/event/figure-drawing-at-gala/2026-06-15/
LOCATION:The Studios at Lynn Museum & Arts Center (LynnArts) & The Neal Rantoul Vault Theatre\, 25 Exchange Street\, Lynn\, MA\, 01901\, United States
CATEGORIES:Arts and Culture,Groups, Clubs, and Meet-ups,VisitLynnMA
ATTACH;FMTTYPE=image/jpeg:https://lynntv.org/wp-content/uploads/2023/03/FI-Figure-Drawing.jpg
END:VEVENT
BEGIN:VEVENT
DTSTART;TZID=America/New_York:20260617T173000
DTEND;TZID=America/New_York:20260617T193000
DTSTAMP:20260421T103729
CREATED:20260417T153445Z
LAST-MODIFIED:20260417T153445Z
UID:10017212-1781717400-1781724600@lynntv.org
SUMMARY:Author Reading & Documentary Screening: LGBTQ+ History of the North Shore
DESCRIPTION:From Jim Moser: Dive into the vibrant stories and untold moments of North Shore’s LGBTQ+ past with a cool author reading and film screening. \nYou’re invited to enjoy a reading from Jim Moser’s new book “Queer Heroes of the North Shore: Four Centuries of Love\, Rebellion and Survival” and to watch the documentary “Finding Refuge\, Demanding Equality: A Century of LGBTQ+ Lynn\,” on Wednesday June 17th from 5:30 to 7:30 at EmVision Studios\, 131 Essex St\, Lynn\, MA. Jim will answer questions and sign copies of his book. \nClick here to register for free
URL:https://lynntv.org/event/author-reading-documentary-screening-lgbtq-history-of-the-north-shore/
LOCATION:EmVision Studios\, 131 Essex Street\, Lynn\, 01902\, United States
CATEGORIES:Arts and Culture,Community,Entertainment,Talks and Panel Discussions,VisitLynnMA
ATTACH;FMTTYPE=image/jpeg:https://lynntv.org/wp-content/uploads/2026/04/FI-LGBTQ-History-of-the-North-Shore-Author-Reading-Documentary-Screening.jpg
ORGANIZER;CN="Jim Moser":MAILTO:jim100flower@hotmail.com
END:VEVENT
BEGIN:VEVENT
DTSTART;TZID=America/New_York:20260617T190000
DTEND;TZID=America/New_York:20260617T210000
DTSTAMP:20260421T103729
CREATED:20251114T183229Z
LAST-MODIFIED:20251114T183502Z
UID:10015590-1781722800-1781730000@lynntv.org
SUMMARY:Speak Up Spoken Word Open Mic
DESCRIPTION:From Tony Toledo: Speak Up Spoken Word Open Mic meets every Wednesday at 7 pm at the Walnut Street Cafe. Speak Up welcomes poets\, storytellers\, community activists\, comedians and curmudgeons. This is a free event but a hat is passed for the Featured Speaker. \nSignup starts: 7:00pm\nOpen mic: 7:30-830pm\nFeature: 8:30-9:00pm\nIf you have any questions please reach out to host Call Dave Somerset by emailing CallDave123@gmail.com or calling 978-921-4628. \nTo find out the week’s featured speaker and more please visit their Facebook group.
URL:https://lynntv.org/event/speak-up-spoken-word-open-mic/2026-06-17/
LOCATION:Walnut Street Cafe\, 127 Walnut Street\, Lynn\, MA\, 01905\, United States
CATEGORIES:Arts and Culture,Entertainment,Open mic,VisitLynnMA
ATTACH;FMTTYPE=image/jpeg:https://lynntv.org/wp-content/uploads/2025/11/FI-Walnut-St-Cafe-Open-Mic.jpg
END:VEVENT
BEGIN:VEVENT
DTSTART;TZID=America/New_York:20260619T180000
DTEND;TZID=America/New_York:20260619T210000
DTSTAMP:20260421T103729
CREATED:20260312T160441Z
LAST-MODIFIED:20260312T160530Z
UID:10017001-1781892000-1781902800@lynntv.org
SUMMARY:Teen Drop-in Center - Spring 2025
DESCRIPTION:From Lynn Parks & Recreation: The Lynn Teen Drop-In Center is hosted weekly for our youth ages 13-18 to engage in recreational activities during after-school and evening hours. Activities include playing sports\, listening to music\, and hearing from guest speakers. \nMusic * Pizza * Cornhole * Volleyball * Basketball\nDates subject to change due to school scheduled sporting events or inclement weather. \nSupported by the Mayor’s office\, Lynn Parks and Recreation Department\, Lynn Police Department\, Shannon Grant\, & Community Development. For more information\, please call Lisa Nerich 781-286-8000
URL:https://lynntv.org/event/teen-drop-in-center-spring-2025/2026-06-19/
LOCATION:Lynn Tech – Field House\, 80 Neptune Blvd\, Lynn\, MA\, 01902\, United States
CATEGORIES:Arts and Culture,City of Lynn,Entertainment,Groups, Clubs, and Meet-ups,Health and Wellness,Sports,Talks and Panel Discussions,Youth
ATTACH;FMTTYPE=image/jpeg:https://lynntv.org/wp-content/uploads/2022/09/FI-Teen-Drop-In-Center.jpg
END:VEVENT
BEGIN:VEVENT
DTSTART;TZID=America/New_York:20260620T130000
DTEND;TZID=America/New_York:20260620T200000
DTSTAMP:20260421T103729
CREATED:20260409T185733Z
LAST-MODIFIED:20260409T185733Z
UID:10017100-1781960400-1781985600@lynntv.org
SUMMARY:2026 Lynn Music Festival
DESCRIPTION:From the Lynn Music Foundation: Free\, family-friendly Lynn Music Festival showcasing local artists across genres at Red Rock Park—music\, culture\, and community by the ocean. \nThe Lynn Music Festival\, proudly presented by the Lynn Music Foundation\, is set to be an inaugural extravaganza of musical diversity and a celebration of local music culture. Slated for June 20th at the picturesque Red Rock Park\, this festival is more than just an event – it’s a celebration of the rich tapestry of music that thrives in Lynn and its neighboring communities. \nClick here to apply to be a vendor\nClick here for sponsorship information
URL:https://lynntv.org/event/2026-lynn-music-festival/
LOCATION:Red Rock Park in Lynn\, Lynn Shore Drive\, Lynn\, MA\, 01902\, United States
CATEGORIES:Arts and Culture,Community,Entertainment,Festivals and Fairs,VisitLynnMA
ATTACH;FMTTYPE=image/jpeg:https://lynntv.org/wp-content/uploads/2025/05/FI-Lynn-Music-Festival.jpg
ORGANIZER;CN="Lynn Music Foundation":MAILTO:lynnmusicfoundation@gmail.com
END:VEVENT
BEGIN:VEVENT
DTSTART;TZID=America/New_York:20260620T140000
DTEND;TZID=America/New_York:20260620T180000
DTSTAMP:20260421T103729
CREATED:20260401T192137Z
LAST-MODIFIED:20260401T192550Z
UID:10017078-1781964000-1781978400@lynntv.org
SUMMARY:2026 Juneteenth Celebration
DESCRIPTION:From the North Shore Juneteenth Association: Join the NSJA for a powerful and joyful Juneteenth Celebration on Saturday\, June 20th from 2–6 PM at The Lynn Common! \nThis community-centered event brings the North Shore together in recognition of Black American freedom\, resilience\, culture\, and joy. Enjoy an afternoon filled with live music\, delicious food\, local vendors\, and meaningful connection as we honor the legacy and impact of Juneteenth. \nCome celebrate with us—bring your family\, invite your friends\, and be part of a day rooted in love\, unity\, and community pride. All are welcome!
URL:https://lynntv.org/event/2026-juneteenth-celebration/
LOCATION:Lynn Common\, North & South Common Street\, Lynn\, MA\, 01905\, United States
CATEGORIES:Arts and Culture,Community,Entertainment,Festivals and Fairs,VisitLynnMA
ATTACH;FMTTYPE=image/jpeg:https://lynntv.org/wp-content/uploads/2022/05/Juneteenth-3.jpg
ORGANIZER;CN="North Shore Juneteenth Association":MAILTO:info@nsjuneteenth.com
END:VEVENT
END:VCALENDAR