BEGIN:VCALENDAR
VERSION:2.0
PRODID:-//Lynn Community TV - ECPv6.15.20//NONSGML v1.0//EN
CALSCALE:GREGORIAN
METHOD:PUBLISH
X-ORIGINAL-URL:https://lynntv.org
X-WR-CALDESC:Events for Lynn Community TV
REFRESH-INTERVAL;VALUE=DURATION:PT1H
X-Robots-Tag:noindex
X-PUBLISHED-TTL:PT1H
BEGIN:VTIMEZONE
TZID:America/New_York
BEGIN:DAYLIGHT
TZOFFSETFROM:-0500
TZOFFSETTO:-0400
TZNAME:EDT
DTSTART:20250309T070000
END:DAYLIGHT
BEGIN:STANDARD
TZOFFSETFROM:-0400
TZOFFSETTO:-0500
TZNAME:EST
DTSTART:20251102T060000
END:STANDARD
BEGIN:DAYLIGHT
TZOFFSETFROM:-0500
TZOFFSETTO:-0400
TZNAME:EDT
DTSTART:20260308T070000
END:DAYLIGHT
BEGIN:STANDARD
TZOFFSETFROM:-0400
TZOFFSETTO:-0500
TZNAME:EST
DTSTART:20261101T060000
END:STANDARD
BEGIN:DAYLIGHT
TZOFFSETFROM:-0500
TZOFFSETTO:-0400
TZNAME:EDT
DTSTART:20270314T070000
END:DAYLIGHT
BEGIN:STANDARD
TZOFFSETFROM:-0400
TZOFFSETTO:-0500
TZNAME:EST
DTSTART:20271107T060000
END:STANDARD
END:VTIMEZONE
BEGIN:VEVENT
DTSTART;TZID=America/New_York:20260629T090000
DTEND;TZID=America/New_York:20260629T160000
DTSTAMP:20260421T122253
CREATED:20260413T193853Z
LAST-MODIFIED:20260413T193853Z
UID:10017194-1782723600-1782748800@lynntv.org
SUMMARY:2026 BBTM Summer Program
DESCRIPTION:From Building Bridges Through Music: Looking to create a meaningful summer for your child? Sign them up for our 6 week Summer S.M.A.R.T. Program running from June 29th through August 7th. \nHere at Building Bridges Through Music\, our students go on field trips\, take music lessons\, and do fun\, learning-based activities that help prevent summer learning loss. At the end of the year\, our students put on a music performance to showcase what they’ve learned throughout the summer. \nTo learn more and sign up\, please click here or call us at 781-780-3827.
URL:https://lynntv.org/event/2026-bbtm-summer-program/2026-06-29/
LOCATION:Building Bridges Through Music\, 93 Euclid Ave.\, Lynn\, United States
CATEGORIES:Arts and Culture,Groups, Clubs, and Meet-ups,Youth
ATTACH;FMTTYPE=image/jpeg:https://lynntv.org/wp-content/uploads/2026/04/FI-2026-BBTM-Summer-Program.jpg
END:VEVENT
BEGIN:VEVENT
DTSTART;TZID=America/New_York:20260629T143000
DTEND;TZID=America/New_York:20260629T173000
DTSTAMP:20260421T122253
CREATED:20260409T203153Z
LAST-MODIFIED:20260409T203153Z
UID:10017115-1782743400-1782754200@lynntv.org
SUMMARY:Middle School Hub | 2025-26 School Year
DESCRIPTION:From the City of Lynn: The City of Lynn and Lynn Public Schools are launching a new\, exciting after-school program designed to provide engaging activities and a safe\, supportive space for youth ages 10-14 to learn and grow. \n\nEngaging Activities\nSupportive Hangout Space\nOpen Gym\nFree Pizza and Water\n\nUPCOMING HOLIDAY HOURS: \nPatriots’ Day (April 20) | 10am-1pm\nMemorial Day (May 25) | 10am-1pm \nThis program is sponsored by Mayor Jared Nicholson’s Office\, Lynn Police Department\, Public Health Department\, and Parks and Recreation Department. \nQuestions? Please contact Lisa Nerich at 781-586-8012 or lnerich@lynnma.gov.
URL:https://lynntv.org/event/middle-school-hub-2025-26-school-year/2026-06-29/
LOCATION:Breed Middle School\, 90 O'Callaghan Way in Lynn\, Lynn\, MA\, 01905\, United States
CATEGORIES:Arts and Culture,City of Lynn,Community,Entertainment,Groups, Clubs, and Meet-ups,Health and Wellness,Youth
ATTACH;FMTTYPE=image/jpeg:https://lynntv.org/wp-content/uploads/2026/04/FI-Middle-School-Hub.jpg
END:VEVENT
BEGIN:VEVENT
DTSTART;TZID=America/New_York:20260629T180000
DTEND;TZID=America/New_York:20260629T210000
DTSTAMP:20260421T122253
CREATED:20230327T193208Z
LAST-MODIFIED:20250429T195746Z
UID:10010982-1782756000-1782766800@lynntv.org
SUMMARY:Figure Drawing at GALA
DESCRIPTION:Join the Monday Night Drawing Group at the Galleries at LynnArts\, hosted by Annette Sykes of Paint by the Ocean. This weekly session offers artists of all levels the opportunity to draw from a live\, clothed or unclothed model in a relaxed\, supportive environment. Bring your own art supplies and enjoy an evening of creative exploration.​\n\nThese drawing groups will meet every Monday from 6-9pm at GALA. Fees are $18 for GALA Members\, $20 for Non-Members\, & $18 for Students. No instruction is provided; this is a self-guided session ideal for practicing figure drawing in a community setting.​ \nFor more information visit the GALA website\, follow @paintbytheocean on Instagram\, or email paintbytheocean@gmail.com.\n\n\nIf the flier above is out-of-date please contact GALA \n\nThe above information was submitted to us by the Galleries at LynnArts (GALA).
URL:https://lynntv.org/event/figure-drawing-at-gala/2026-06-29/
LOCATION:The Studios at Lynn Museum & Arts Center (LynnArts) & The Neal Rantoul Vault Theatre\, 25 Exchange Street\, Lynn\, MA\, 01901\, United States
CATEGORIES:Arts and Culture,Groups, Clubs, and Meet-ups,VisitLynnMA
ATTACH;FMTTYPE=image/jpeg:https://lynntv.org/wp-content/uploads/2023/03/FI-Figure-Drawing.jpg
END:VEVENT
BEGIN:VEVENT
DTSTART;TZID=America/New_York:20260701T190000
DTEND;TZID=America/New_York:20260701T210000
DTSTAMP:20260421T122253
CREATED:20251114T183229Z
LAST-MODIFIED:20251114T183502Z
UID:10015592-1782932400-1782939600@lynntv.org
SUMMARY:Speak Up Spoken Word Open Mic
DESCRIPTION:From Tony Toledo: Speak Up Spoken Word Open Mic meets every Wednesday at 7 pm at the Walnut Street Cafe. Speak Up welcomes poets\, storytellers\, community activists\, comedians and curmudgeons. This is a free event but a hat is passed for the Featured Speaker. \nSignup starts: 7:00pm\nOpen mic: 7:30-830pm\nFeature: 8:30-9:00pm\nIf you have any questions please reach out to host Call Dave Somerset by emailing CallDave123@gmail.com or calling 978-921-4628. \nTo find out the week’s featured speaker and more please visit their Facebook group.
URL:https://lynntv.org/event/speak-up-spoken-word-open-mic/2026-07-01/
LOCATION:Walnut Street Cafe\, 127 Walnut Street\, Lynn\, MA\, 01905\, United States
CATEGORIES:Arts and Culture,Entertainment,Open mic,VisitLynnMA
ATTACH;FMTTYPE=image/jpeg:https://lynntv.org/wp-content/uploads/2025/11/FI-Walnut-St-Cafe-Open-Mic.jpg
END:VEVENT
BEGIN:VEVENT
DTSTART;TZID=America/New_York:20260704T130000
DTEND;TZID=America/New_York:20260704T160000
DTSTAMP:20260421T122253
CREATED:20260410T142032Z
LAST-MODIFIED:20260410T142032Z
UID:10017119-1783170000-1783180800@lynntv.org
SUMMARY:Afro-Cuban Music Workshop w/ Sandy Pérez
DESCRIPTION:From Lynn Music Foundation: Come join us for a fun and interactive beginner’s workshop on Afro-Cuban music with the talented Sandy Pérez! This in-person event will be held at 25 Exchange St. IN THE VAULT THEATER. \nMark your calendars and get ready to groove to the beats of Cuba. Sandy will guide you through the basics of Afro-Cuban rhythms\, helping you develop your skills and appreciation for this vibrant musical tradition. Whether you’re a seasoned musician or just starting out\, this workshop is perfect for anyone looking to explore the rich sounds of Afro-Cuban music. \nBeginner Session from 1 – 2:30 PM\nLynn Resident – free\nNon-Resident – $10 \nIntermediate Session from 2 – 4 PM\nLynn Resident – $10\nNon-Resident – $20
URL:https://lynntv.org/event/afro-cuban-music-workshop-w-sandy-perez/2026-07-04/
LOCATION:The Studios at Lynn Museum & Arts Center (LynnArts) & The Neal Rantoul Vault Theatre\, 25 Exchange Street\, Lynn\, MA\, 01901\, United States
CATEGORIES:Arts and Culture,Seminars and Workshops,VisitLynnMA
ATTACH;FMTTYPE=image/jpeg:https://lynntv.org/wp-content/uploads/2026/04/FI-Afro-Cuban-Music.jpg
ORGANIZER;CN="Lynn Music Foundation":MAILTO:lynnmusicfoundation@gmail.com
END:VEVENT
END:VCALENDAR