BEGIN:VCALENDAR
VERSION:2.0
PRODID:-//Lynn Community TV - ECPv6.15.20//NONSGML v1.0//EN
CALSCALE:GREGORIAN
METHOD:PUBLISH
X-ORIGINAL-URL:https://lynntv.org
X-WR-CALDESC:Events for Lynn Community TV
REFRESH-INTERVAL;VALUE=DURATION:PT1H
X-Robots-Tag:noindex
X-PUBLISHED-TTL:PT1H
BEGIN:VTIMEZONE
TZID:America/New_York
BEGIN:DAYLIGHT
TZOFFSETFROM:-0500
TZOFFSETTO:-0400
TZNAME:EDT
DTSTART:20250309T070000
END:DAYLIGHT
BEGIN:STANDARD
TZOFFSETFROM:-0400
TZOFFSETTO:-0500
TZNAME:EST
DTSTART:20251102T060000
END:STANDARD
BEGIN:DAYLIGHT
TZOFFSETFROM:-0500
TZOFFSETTO:-0400
TZNAME:EDT
DTSTART:20260308T070000
END:DAYLIGHT
BEGIN:STANDARD
TZOFFSETFROM:-0400
TZOFFSETTO:-0500
TZNAME:EST
DTSTART:20261101T060000
END:STANDARD
BEGIN:DAYLIGHT
TZOFFSETFROM:-0500
TZOFFSETTO:-0400
TZNAME:EDT
DTSTART:20270314T070000
END:DAYLIGHT
BEGIN:STANDARD
TZOFFSETFROM:-0400
TZOFFSETTO:-0500
TZNAME:EST
DTSTART:20271107T060000
END:STANDARD
BEGIN:DAYLIGHT
TZOFFSETFROM:-0500
TZOFFSETTO:-0400
TZNAME:EDT
DTSTART:20280312T070000
END:DAYLIGHT
BEGIN:STANDARD
TZOFFSETFROM:-0400
TZOFFSETTO:-0500
TZNAME:EST
DTSTART:20281105T060000
END:STANDARD
END:VTIMEZONE
BEGIN:VEVENT
DTSTART;TZID=America/New_York:20261228T180000
DTEND;TZID=America/New_York:20261228T210000
DTSTAMP:20260421T183029
CREATED:20230327T193208Z
LAST-MODIFIED:20250429T195746Z
UID:10011008-1798480800-1798491600@lynntv.org
SUMMARY:Figure Drawing at GALA
DESCRIPTION:Join the Monday Night Drawing Group at the Galleries at LynnArts\, hosted by Annette Sykes of Paint by the Ocean. This weekly session offers artists of all levels the opportunity to draw from a live\, clothed or unclothed model in a relaxed\, supportive environment. Bring your own art supplies and enjoy an evening of creative exploration.​\n\nThese drawing groups will meet every Monday from 6-9pm at GALA. Fees are $18 for GALA Members\, $20 for Non-Members\, & $18 for Students. No instruction is provided; this is a self-guided session ideal for practicing figure drawing in a community setting.​ \nFor more information visit the GALA website\, follow @paintbytheocean on Instagram\, or email paintbytheocean@gmail.com.\n\n\nIf the flier above is out-of-date please contact GALA \n\nThe above information was submitted to us by the Galleries at LynnArts (GALA).
URL:https://lynntv.org/event/figure-drawing-at-gala/2026-12-28/
LOCATION:The Studios at Lynn Museum & Arts Center (LynnArts) & The Neal Rantoul Vault Theatre\, 25 Exchange Street\, Lynn\, MA\, 01901\, United States
CATEGORIES:Arts and Culture,Groups, Clubs, and Meet-ups,VisitLynnMA
ATTACH;FMTTYPE=image/jpeg:https://lynntv.org/wp-content/uploads/2023/03/FI-Figure-Drawing.jpg
END:VEVENT
BEGIN:VEVENT
DTSTART;TZID=America/New_York:20261230T190000
DTEND;TZID=America/New_York:20261230T210000
DTSTAMP:20260421T183029
CREATED:20251114T183229Z
LAST-MODIFIED:20251114T183502Z
UID:10015618-1798657200-1798664400@lynntv.org
SUMMARY:Speak Up Spoken Word Open Mic
DESCRIPTION:From Tony Toledo: Speak Up Spoken Word Open Mic meets every Wednesday at 7 pm at the Walnut Street Cafe. Speak Up welcomes poets\, storytellers\, community activists\, comedians and curmudgeons. This is a free event but a hat is passed for the Featured Speaker. \nSignup starts: 7:00pm\nOpen mic: 7:30-830pm\nFeature: 8:30-9:00pm\nIf you have any questions please reach out to host Call Dave Somerset by emailing CallDave123@gmail.com or calling 978-921-4628. \nTo find out the week’s featured speaker and more please visit their Facebook group.
URL:https://lynntv.org/event/speak-up-spoken-word-open-mic/2026-12-30/
LOCATION:Walnut Street Cafe\, 127 Walnut Street\, Lynn\, MA\, 01905\, United States
CATEGORIES:Arts and Culture,Entertainment,Open mic,VisitLynnMA
ATTACH;FMTTYPE=image/jpeg:https://lynntv.org/wp-content/uploads/2025/11/FI-Walnut-St-Cafe-Open-Mic.jpg
END:VEVENT
BEGIN:VEVENT
DTSTART;TZID=America/New_York:20270102T130000
DTEND;TZID=America/New_York:20270102T160000
DTSTAMP:20260421T183029
CREATED:20260410T142032Z
LAST-MODIFIED:20260410T142032Z
UID:10017125-1798894800-1798905600@lynntv.org
SUMMARY:Afro-Cuban Music Workshop w/ Sandy Pérez
DESCRIPTION:From Lynn Music Foundation: Come join us for a fun and interactive beginner’s workshop on Afro-Cuban music with the talented Sandy Pérez! This in-person event will be held at 25 Exchange St. IN THE VAULT THEATER. \nMark your calendars and get ready to groove to the beats of Cuba. Sandy will guide you through the basics of Afro-Cuban rhythms\, helping you develop your skills and appreciation for this vibrant musical tradition. Whether you’re a seasoned musician or just starting out\, this workshop is perfect for anyone looking to explore the rich sounds of Afro-Cuban music. \nBeginner Session from 1 – 2:30 PM\nLynn Resident – free\nNon-Resident – $10 \nIntermediate Session from 2 – 4 PM\nLynn Resident – $10\nNon-Resident – $20
URL:https://lynntv.org/event/afro-cuban-music-workshop-w-sandy-perez/2027-01-02/
LOCATION:The Studios at Lynn Museum & Arts Center (LynnArts) & The Neal Rantoul Vault Theatre\, 25 Exchange Street\, Lynn\, MA\, 01901\, United States
CATEGORIES:Arts and Culture,Seminars and Workshops,VisitLynnMA
ATTACH;FMTTYPE=image/jpeg:https://lynntv.org/wp-content/uploads/2026/04/FI-Afro-Cuban-Music.jpg
ORGANIZER;CN="Lynn Music Foundation":MAILTO:lynnmusicfoundation@gmail.com
END:VEVENT
END:VCALENDAR