BEGIN:VCALENDAR
VERSION:2.0
PRODID:-//Lynn Community TV - ECPv6.15.20//NONSGML v1.0//EN
CALSCALE:GREGORIAN
METHOD:PUBLISH
X-WR-CALNAME:Lynn Community TV
X-ORIGINAL-URL:https://lynntv.org
X-WR-CALDESC:Events for Lynn Community TV
REFRESH-INTERVAL;VALUE=DURATION:PT1H
X-Robots-Tag:noindex
X-PUBLISHED-TTL:PT1H
BEGIN:VTIMEZONE
TZID:America/New_York
BEGIN:DAYLIGHT
TZOFFSETFROM:-0500
TZOFFSETTO:-0400
TZNAME:EDT
DTSTART:20250309T070000
END:DAYLIGHT
BEGIN:STANDARD
TZOFFSETFROM:-0400
TZOFFSETTO:-0500
TZNAME:EST
DTSTART:20251102T060000
END:STANDARD
BEGIN:DAYLIGHT
TZOFFSETFROM:-0500
TZOFFSETTO:-0400
TZNAME:EDT
DTSTART:20260308T070000
END:DAYLIGHT
BEGIN:STANDARD
TZOFFSETFROM:-0400
TZOFFSETTO:-0500
TZNAME:EST
DTSTART:20261101T060000
END:STANDARD
BEGIN:DAYLIGHT
TZOFFSETFROM:-0500
TZOFFSETTO:-0400
TZNAME:EDT
DTSTART:20270314T070000
END:DAYLIGHT
BEGIN:STANDARD
TZOFFSETFROM:-0400
TZOFFSETTO:-0500
TZNAME:EST
DTSTART:20271107T060000
END:STANDARD
END:VTIMEZONE
BEGIN:VEVENT
DTSTART;TZID=America/New_York:20260404T110000
DTEND;TZID=America/New_York:20260404T130000
DTSTAMP:20260422T014949
CREATED:20260331T203328Z
LAST-MODIFIED:20260401T190324Z
UID:10017066-1775300400-1775307600@lynntv.org
SUMMARY:Book launch celebration for "Mami's Coquí Song"
DESCRIPTION:From author Brenda Ortiz McGrath: Come celebrate a story of culture\, pride\, and the beauty of Puerto Rican heritage with the book launch celebration for “Mami’s Coquí Song”. This special two-hour celebration will be held at the Lynn Public Library on April 4th at 11am. \n\nLive Book Signing\nCelebrate Culture\, Family & Heritage\nTwo Free Book Giveaways\n\nFollow the journey: mamiscoquisong.com
URL:https://lynntv.org/event/book-launch-celebration-for-mamis-coqui-song/
LOCATION:Lynn Public Library\, 5 North Common Street\, Lynn\, MA\, United States
CATEGORIES:Arts and Culture,Book launch,Community,VisitLynnMA
ATTACH;FMTTYPE=image/jpeg:https://lynntv.org/wp-content/uploads/2026/03/FI-Book-launch-celebration-for-Mamis-Coqui-Song.jpg
END:VEVENT
END:VCALENDAR