BEGIN:VCALENDAR
VERSION:2.0
PRODID:-//Lynn Community TV - ECPv6.15.20//NONSGML v1.0//EN
CALSCALE:GREGORIAN
METHOD:PUBLISH
X-ORIGINAL-URL:https://lynntv.org
X-WR-CALDESC:Events for Lynn Community TV
REFRESH-INTERVAL;VALUE=DURATION:PT1H
X-Robots-Tag:noindex
X-PUBLISHED-TTL:PT1H
BEGIN:VTIMEZONE
TZID:America/New_York
BEGIN:DAYLIGHT
TZOFFSETFROM:-0500
TZOFFSETTO:-0400
TZNAME:EDT
DTSTART:20240310T070000
END:DAYLIGHT
BEGIN:STANDARD
TZOFFSETFROM:-0400
TZOFFSETTO:-0500
TZNAME:EST
DTSTART:20241103T060000
END:STANDARD
BEGIN:DAYLIGHT
TZOFFSETFROM:-0500
TZOFFSETTO:-0400
TZNAME:EDT
DTSTART:20250309T070000
END:DAYLIGHT
BEGIN:STANDARD
TZOFFSETFROM:-0400
TZOFFSETTO:-0500
TZNAME:EST
DTSTART:20251102T060000
END:STANDARD
BEGIN:DAYLIGHT
TZOFFSETFROM:-0500
TZOFFSETTO:-0400
TZNAME:EDT
DTSTART:20260308T070000
END:DAYLIGHT
BEGIN:STANDARD
TZOFFSETFROM:-0400
TZOFFSETTO:-0500
TZNAME:EST
DTSTART:20261101T060000
END:STANDARD
END:VTIMEZONE
BEGIN:VEVENT
DTSTART;TZID=America/New_York:20250505T070000
DTEND;TZID=America/New_York:20250505T150000
DTSTAMP:20260419T124529
CREATED:20250326T173352Z
LAST-MODIFIED:20250326T173352Z
UID:10014005-1746428400-1746457200@lynntv.org
SUMMARY:Street Sweeping Schedule: Spring 2025
DESCRIPTION:The City of Lynn Department of Public Works (DPW) will begin the Spring Street Sweeping Campaign on Monday\, April 14th\, starting in Ward 1. To ensure the sweeping process can be completed efficiently and curb-to-curb\, they kindly ask that all vehicles be removed from the streets on the scheduled day for each area. A full schedule of sweeping days by ward is below for your reference. \nBy removing vehicles on the designated street sweeping days\, this will allow the Sweeping Company\, the Parking Department\, and the DPW to complete their work effectively. This will also help reduce parking issues and improve the overall look of our city neighborhoods.  Conditions on the ground may dictate the progress of the operation (i.e.: weather\, construction\, traffic emergencies\, etc.) \n \n \n\nThe above information was submitted to us by the Lynn Dept. of Public Works.
URL:https://lynntv.org/event/street-sweeping-schedule-spring-2025/2025-05-05/
LOCATION:Multiple locations\, please see listing for more info.
CATEGORIES:City of Lynn
ATTACH;FMTTYPE=image/jpeg:https://lynntv.org/wp-content/uploads/2023/10/FI-Street-Sweeper.jpg
END:VEVENT
BEGIN:VEVENT
DTSTART;TZID=America/New_York:20250506T070000
DTEND;TZID=America/New_York:20250506T150000
DTSTAMP:20260419T124529
CREATED:20250326T173352Z
LAST-MODIFIED:20250326T173352Z
UID:10014006-1746514800-1746543600@lynntv.org
SUMMARY:Street Sweeping Schedule: Spring 2025
DESCRIPTION:The City of Lynn Department of Public Works (DPW) will begin the Spring Street Sweeping Campaign on Monday\, April 14th\, starting in Ward 1. To ensure the sweeping process can be completed efficiently and curb-to-curb\, they kindly ask that all vehicles be removed from the streets on the scheduled day for each area. A full schedule of sweeping days by ward is below for your reference. \nBy removing vehicles on the designated street sweeping days\, this will allow the Sweeping Company\, the Parking Department\, and the DPW to complete their work effectively. This will also help reduce parking issues and improve the overall look of our city neighborhoods.  Conditions on the ground may dictate the progress of the operation (i.e.: weather\, construction\, traffic emergencies\, etc.) \n \n \n\nThe above information was submitted to us by the Lynn Dept. of Public Works.
URL:https://lynntv.org/event/street-sweeping-schedule-spring-2025/2025-05-06/
LOCATION:Multiple locations\, please see listing for more info.
CATEGORIES:City of Lynn
ATTACH;FMTTYPE=image/jpeg:https://lynntv.org/wp-content/uploads/2023/10/FI-Street-Sweeper.jpg
END:VEVENT
BEGIN:VEVENT
DTSTART;TZID=America/New_York:20250506T173000
DTEND;TZID=America/New_York:20250506T200000
DTSTAMP:20260419T124529
CREATED:20250404T184455Z
LAST-MODIFIED:20250404T184637Z
UID:10014102-1746552600-1746561600@lynntv.org
SUMMARY:Tennis In The Parks – Spring 2025
DESCRIPTION:Led by a USTA-approved coach\, this program focuses on developing skills to serve\, rally and play. We focus on FUN and learning the basics using age-appropriate rackets and tennis balls to help players learn and play more quickly. All players in their first session receive and keep a new age-appropriate racquet and ball! \nThe sessions will happen on Tuesdays at Flax Pond\, with specific time periods for specific grade levels. Grades 1 & 2 meet from 5:30 – 6:30PM while grades 3-5  meet 6:30 – 7:30PM. There will be additional sessions during spring break\, please see fliers below for more details. \nClick here to register  /  Pulse aquí para registrarse\n \n \n\nThe above information was submitted to us by the Lynn Parks & Recreation Department.
URL:https://lynntv.org/event/tennis-in-the-parks-spring-2025/2025-05-06/
LOCATION:Flax Pond\, 650 Chestnut Street\, Lynn\, MA\, 01905
CATEGORIES:City of Lynn,Seminars and Workshops,Sports,Youth
ATTACH;FMTTYPE=image/jpeg:https://lynntv.org/wp-content/uploads/2022/05/Tennis.jpg
END:VEVENT
BEGIN:VEVENT
DTSTART;TZID=America/New_York:20250507T070000
DTEND;TZID=America/New_York:20250507T150000
DTSTAMP:20260419T124529
CREATED:20250326T173352Z
LAST-MODIFIED:20250326T173352Z
UID:10014007-1746601200-1746630000@lynntv.org
SUMMARY:Street Sweeping Schedule: Spring 2025
DESCRIPTION:The City of Lynn Department of Public Works (DPW) will begin the Spring Street Sweeping Campaign on Monday\, April 14th\, starting in Ward 1. To ensure the sweeping process can be completed efficiently and curb-to-curb\, they kindly ask that all vehicles be removed from the streets on the scheduled day for each area. A full schedule of sweeping days by ward is below for your reference. \nBy removing vehicles on the designated street sweeping days\, this will allow the Sweeping Company\, the Parking Department\, and the DPW to complete their work effectively. This will also help reduce parking issues and improve the overall look of our city neighborhoods.  Conditions on the ground may dictate the progress of the operation (i.e.: weather\, construction\, traffic emergencies\, etc.) \n \n \n\nThe above information was submitted to us by the Lynn Dept. of Public Works.
URL:https://lynntv.org/event/street-sweeping-schedule-spring-2025/2025-05-07/
LOCATION:Multiple locations\, please see listing for more info.
CATEGORIES:City of Lynn
ATTACH;FMTTYPE=image/jpeg:https://lynntv.org/wp-content/uploads/2023/10/FI-Street-Sweeper.jpg
END:VEVENT
BEGIN:VEVENT
DTSTART;TZID=America/New_York:20250510T070000
DTEND;TZID=America/New_York:20250510T120000
DTSTAMP:20260419T124529
CREATED:20241218T201341Z
LAST-MODIFIED:20241218T201341Z
UID:10013088-1746860400-1746878400@lynntv.org
SUMMARY:2025 Bulky Item Days
DESCRIPTION:Clean out your attics\, cellars and garages! \nLYNN Residents ONLY for all Drop-Offs. A Driver’s License is required as identification. NO Box U-Haul Trucks or Commercial Vehicles. \nVehicles must enter through Circle Ave. behind the Car Wash and Garelick Farms. Residents will empty their own vehicle and exit Covanta onto the Lynnway. \n2025 dates\n\nSaturday\, January 11\nSaturday\, April 19\nSaturday\, May 10\nSaturday\, June 14\n\nItems You Can Drop-Off\n\nUnwanted Household Items\nFluorescent Light Bulbs\nWhite Goods\nMetal Items\nPlastic Rigid Items\n\nItems They Can’t Accept\n\n\nMattrsses\nPaint\nHazardous Materials\nBuilding Contractors’ Construction Materials\nPropane Tanks\nTVs\n\nFor more information or questions: 781-586-8010 or 781-586-8015 \n\nThe above information was submitted to us by the Lynn DPW.
URL:https://lynntv.org/event/2025-bulky-item-days/2025-05-10/
LOCATION:Reworld\, 247 Commercial Street\, Lynn\, MA\, 01902\, United States
CATEGORIES:City of Lynn
ATTACH;FMTTYPE=image/jpeg:https://lynntv.org/wp-content/uploads/2021/08/Dumpster.jpg
END:VEVENT
BEGIN:VEVENT
DTSTART;TZID=America/New_York:20250510T090000
DTEND;TZID=America/New_York:20250510T230000
DTSTAMP:20260419T124529
CREATED:20250310T174201Z
LAST-MODIFIED:20250428T160540Z
UID:10013947-1746867600-1746918000@lynntv.org
SUMMARY:2025 Spring Park Clean-ups
DESCRIPTION:Join the effort to Keep Lynn Clean! \nSupplies for clean-ups are provided. Volunteering for the clean-ups can be applied for community service hours. No registration required. All clean-ups will be from 9AM-11AM unless otherwise stated. Clean-ups are cancelled if there is rain. \nPlease note\, for June 7th: Councilor Alinsug and his team will provide refreshments for all and gifts for all the young volunteers. For the fourth year in a row\, they will partner with McGrath Enterprises to help with the children’s playground. Other partners include east Lynn Little League\, Lynn Parks & Recreation Commission\, Lynn DPW\, & the Lynn Pickleball Club. \nSponsored by the DPW & Litter Committee \n \n________________________________ \n¡Únase al esfuerzo para mantener limpio a Lynn! \nSe proporcionan suministros para la limpieza. El voluntariado para las limpiezas se podrá aplicar para horas de servicio comunitario. No es necesario registrarse. Todas las limpiezas se realizarán de 9am a 11 am a menos que se indique lo contrario. Las limpiezas se cancelan si llueve. \nTenga en cuenta que\, para el 7 de junio: el concejal Alinsug y su equipo ofrecerán refrigerios y regalos a todos los jóvenes voluntarios. Por cuarto año consecutivo\, colaborarán con McGrath Enterprises para ayudar con el área de juegos infantiles. Otros colaboradores incluyen la Liga Infantil del este de Lynn\, la Comisión de Parques y Recreación de Lynn\, el Departamento de Obras Públicas de Lynn y el Club de Pickleball de Lynn. \nPatrocinado por el DPW y el Comité de Basura \n \n\nThe above information is courtesy of the City of Lynn.
URL:https://lynntv.org/event/2025-spring-park-clean-ups/2025-05-10/
LOCATION:Multiple locations\, please see listing for more info.
CATEGORIES:City of Lynn,Clean-ups,Volunteering
ATTACH;FMTTYPE=image/jpeg:https://lynntv.org/wp-content/uploads/2022/03/Park-Cleanup-3.jpg
END:VEVENT
END:VCALENDAR