BEGIN:VCALENDAR
VERSION:2.0
PRODID:-//Lynn Community TV - ECPv6.15.20//NONSGML v1.0//EN
CALSCALE:GREGORIAN
METHOD:PUBLISH
X-WR-CALNAME:Lynn Community TV
X-ORIGINAL-URL:https://lynntv.org
X-WR-CALDESC:Events for Lynn Community TV
REFRESH-INTERVAL;VALUE=DURATION:PT1H
X-Robots-Tag:noindex
X-PUBLISHED-TTL:PT1H
BEGIN:VTIMEZONE
TZID:America/New_York
BEGIN:DAYLIGHT
TZOFFSETFROM:-0500
TZOFFSETTO:-0400
TZNAME:EDT
DTSTART:20240310T070000
END:DAYLIGHT
BEGIN:STANDARD
TZOFFSETFROM:-0400
TZOFFSETTO:-0500
TZNAME:EST
DTSTART:20241103T060000
END:STANDARD
BEGIN:DAYLIGHT
TZOFFSETFROM:-0500
TZOFFSETTO:-0400
TZNAME:EDT
DTSTART:20250309T070000
END:DAYLIGHT
BEGIN:STANDARD
TZOFFSETFROM:-0400
TZOFFSETTO:-0500
TZNAME:EST
DTSTART:20251102T060000
END:STANDARD
BEGIN:DAYLIGHT
TZOFFSETFROM:-0500
TZOFFSETTO:-0400
TZNAME:EDT
DTSTART:20260308T070000
END:DAYLIGHT
BEGIN:STANDARD
TZOFFSETFROM:-0400
TZOFFSETTO:-0500
TZNAME:EST
DTSTART:20261101T060000
END:STANDARD
END:VTIMEZONE
BEGIN:VEVENT
DTSTART;TZID=America/New_York:20250520T170000
DTEND;TZID=America/New_York:20250520T190000
DTSTAMP:20260419T124413
CREATED:20250416T150336Z
LAST-MODIFIED:20250416T150336Z
UID:10014122-1747760400-1747767600@lynntv.org
SUMMARY:2025 AANHPI Heritage Month Celebration
DESCRIPTION:Celebrate Asian American\, Native Hawaiian\, & Pacific Islander (AANHPI) Heritage Month with the City of Lynn! The event includes a mini market showcasing unique local vendors\, free food and treats\, and live performances from cultural dance groups. \nThis celebration will be held in Lynn City Hall on Tuesday\, May 20th from 5-7pm\, with performances starting at 6pm. \nSpecial Guests:\nLittle STAR Group Boston |  Vietnamese Traditional Dance\nCambo-Culture Crew  |  Khmer Traditional Dance\nCinda Crafts |  DIY Earrings Workshop \nClick here for more information and updates \n\nThe above information was submitted to us by the City of Lynn.
URL:https://lynntv.org/event/2025-aanhpi-heritage-month-celebration/
LOCATION:Lynn City Hall & Auditorium\, 3 City Hall Square\, Lynn\, MA\, 01901\, United States
CATEGORIES:Arts and Culture,City of Lynn,Community,Entertainment,VisitLynnMA
ATTACH;FMTTYPE=image/jpeg:https://lynntv.org/wp-content/uploads/2025/04/FI-AANHPI-Celebration.jpg
END:VEVENT
BEGIN:VEVENT
DTSTART;TZID=America/New_York:20250520T173000
DTEND;TZID=America/New_York:20250520T200000
DTSTAMP:20260419T124413
CREATED:20250404T184455Z
LAST-MODIFIED:20250404T184637Z
UID:10014104-1747762200-1747771200@lynntv.org
SUMMARY:Tennis In The Parks – Spring 2025
DESCRIPTION:Led by a USTA-approved coach\, this program focuses on developing skills to serve\, rally and play. We focus on FUN and learning the basics using age-appropriate rackets and tennis balls to help players learn and play more quickly. All players in their first session receive and keep a new age-appropriate racquet and ball! \nThe sessions will happen on Tuesdays at Flax Pond\, with specific time periods for specific grade levels. Grades 1 & 2 meet from 5:30 – 6:30PM while grades 3-5  meet 6:30 – 7:30PM. There will be additional sessions during spring break\, please see fliers below for more details. \nClick here to register  /  Pulse aquí para registrarse\n \n \n\nThe above information was submitted to us by the Lynn Parks & Recreation Department.
URL:https://lynntv.org/event/tennis-in-the-parks-spring-2025/2025-05-20/
LOCATION:Flax Pond\, 650 Chestnut Street\, Lynn\, MA\, 01905
CATEGORIES:City of Lynn,Seminars and Workshops,Sports,Youth
ATTACH;FMTTYPE=image/jpeg:https://lynntv.org/wp-content/uploads/2022/05/Tennis.jpg
END:VEVENT
BEGIN:VEVENT
DTSTART;TZID=America/New_York:20250524T090000
DTEND;TZID=America/New_York:20250524T230000
DTSTAMP:20260419T124413
CREATED:20250310T174201Z
LAST-MODIFIED:20250428T160540Z
UID:10013949-1748077200-1748127600@lynntv.org
SUMMARY:2025 Spring Park Clean-ups
DESCRIPTION:Join the effort to Keep Lynn Clean! \nSupplies for clean-ups are provided. Volunteering for the clean-ups can be applied for community service hours. No registration required. All clean-ups will be from 9AM-11AM unless otherwise stated. Clean-ups are cancelled if there is rain. \nPlease note\, for June 7th: Councilor Alinsug and his team will provide refreshments for all and gifts for all the young volunteers. For the fourth year in a row\, they will partner with McGrath Enterprises to help with the children’s playground. Other partners include east Lynn Little League\, Lynn Parks & Recreation Commission\, Lynn DPW\, & the Lynn Pickleball Club. \nSponsored by the DPW & Litter Committee \n \n________________________________ \n¡Únase al esfuerzo para mantener limpio a Lynn! \nSe proporcionan suministros para la limpieza. El voluntariado para las limpiezas se podrá aplicar para horas de servicio comunitario. No es necesario registrarse. Todas las limpiezas se realizarán de 9am a 11 am a menos que se indique lo contrario. Las limpiezas se cancelan si llueve. \nTenga en cuenta que\, para el 7 de junio: el concejal Alinsug y su equipo ofrecerán refrigerios y regalos a todos los jóvenes voluntarios. Por cuarto año consecutivo\, colaborarán con McGrath Enterprises para ayudar con el área de juegos infantiles. Otros colaboradores incluyen la Liga Infantil del este de Lynn\, la Comisión de Parques y Recreación de Lynn\, el Departamento de Obras Públicas de Lynn y el Club de Pickleball de Lynn. \nPatrocinado por el DPW y el Comité de Basura \n \n\nThe above information is courtesy of the City of Lynn.
URL:https://lynntv.org/event/2025-spring-park-clean-ups/2025-05-24/
LOCATION:Multiple locations\, please see listing for more info.
CATEGORIES:City of Lynn,Clean-ups,Volunteering
ATTACH;FMTTYPE=image/jpeg:https://lynntv.org/wp-content/uploads/2022/03/Park-Cleanup-3.jpg
END:VEVENT
END:VCALENDAR