BEGIN:VCALENDAR
VERSION:2.0
PRODID:-//Lynn Community TV - ECPv6.15.20//NONSGML v1.0//EN
CALSCALE:GREGORIAN
METHOD:PUBLISH
X-WR-CALNAME:Lynn Community TV
X-ORIGINAL-URL:https://lynntv.org
X-WR-CALDESC:Events for Lynn Community TV
REFRESH-INTERVAL;VALUE=DURATION:PT1H
X-Robots-Tag:noindex
X-PUBLISHED-TTL:PT1H
BEGIN:VTIMEZONE
TZID:America/New_York
BEGIN:DAYLIGHT
TZOFFSETFROM:-0500
TZOFFSETTO:-0400
TZNAME:EDT
DTSTART:20240310T070000
END:DAYLIGHT
BEGIN:STANDARD
TZOFFSETFROM:-0400
TZOFFSETTO:-0500
TZNAME:EST
DTSTART:20241103T060000
END:STANDARD
BEGIN:DAYLIGHT
TZOFFSETFROM:-0500
TZOFFSETTO:-0400
TZNAME:EDT
DTSTART:20250309T070000
END:DAYLIGHT
BEGIN:STANDARD
TZOFFSETFROM:-0400
TZOFFSETTO:-0500
TZNAME:EST
DTSTART:20251102T060000
END:STANDARD
BEGIN:DAYLIGHT
TZOFFSETFROM:-0500
TZOFFSETTO:-0400
TZNAME:EDT
DTSTART:20260308T070000
END:DAYLIGHT
BEGIN:STANDARD
TZOFFSETFROM:-0400
TZOFFSETTO:-0500
TZNAME:EST
DTSTART:20261101T060000
END:STANDARD
END:VTIMEZONE
BEGIN:VEVENT
DTSTART;TZID=America/New_York:20250624T200000
DTEND;TZID=America/New_York:20250624T210000
DTSTAMP:20260419T092213
CREATED:20250603T193739Z
LAST-MODIFIED:20250624T223051Z
UID:10014325-1750795200-1750798800@lynntv.org
SUMMARY:Rainbow Fountain Lighting (CANCELLED)
DESCRIPTION:JUNE 24 UPDATE: Unfortunately due to excessive heat\, this event has been cancelled. But the light’s are still rainbow for Pride Month\, we encourage you to see them on a cooler day. \n_________________________________ \nJoin us after the annual Flag Raising as we illuminate the newly restored fountain on the Lynn Commons.This event is a moment for the residents of Lynn to come together and celebrate the LGBTQ+ community while enjoying music\, community\, resources & the beautiful and colorful illumination at a local landmark​All community organizations are invited to host a resource table. If you would like to host a table please fill out this form. \nPrior to this event\, at 5:30PM there will also be a Pride flag raising at Lynn City Hall. Please click here for more information.\n\nThe above information is courtesy of United Lynn Pride.
URL:https://lynntv.org/event/rainbow-fountain-lighting/
LOCATION:Lynn Common\, North & South Common Street\, Lynn\, MA\, 01905\, United States
CATEGORIES:City of Lynn,Community,Entertainment,VisitLynnMA
ATTACH;FMTTYPE=image/jpeg:https://lynntv.org/wp-content/uploads/2025/06/FI-Rainbow-Fountain-Lighting.jpg
END:VEVENT
BEGIN:VEVENT
DTSTART;TZID=America/New_York:20250628T090000
DTEND;TZID=America/New_York:20250628T230000
DTSTAMP:20260419T092213
CREATED:20250310T174201Z
LAST-MODIFIED:20250428T160540Z
UID:10013954-1751101200-1751151600@lynntv.org
SUMMARY:2025 Spring Park Clean-ups
DESCRIPTION:Join the effort to Keep Lynn Clean! \nSupplies for clean-ups are provided. Volunteering for the clean-ups can be applied for community service hours. No registration required. All clean-ups will be from 9AM-11AM unless otherwise stated. Clean-ups are cancelled if there is rain. \nPlease note\, for June 7th: Councilor Alinsug and his team will provide refreshments for all and gifts for all the young volunteers. For the fourth year in a row\, they will partner with McGrath Enterprises to help with the children’s playground. Other partners include east Lynn Little League\, Lynn Parks & Recreation Commission\, Lynn DPW\, & the Lynn Pickleball Club. \nSponsored by the DPW & Litter Committee \n \n________________________________ \n¡Únase al esfuerzo para mantener limpio a Lynn! \nSe proporcionan suministros para la limpieza. El voluntariado para las limpiezas se podrá aplicar para horas de servicio comunitario. No es necesario registrarse. Todas las limpiezas se realizarán de 9am a 11 am a menos que se indique lo contrario. Las limpiezas se cancelan si llueve. \nTenga en cuenta que\, para el 7 de junio: el concejal Alinsug y su equipo ofrecerán refrigerios y regalos a todos los jóvenes voluntarios. Por cuarto año consecutivo\, colaborarán con McGrath Enterprises para ayudar con el área de juegos infantiles. Otros colaboradores incluyen la Liga Infantil del este de Lynn\, la Comisión de Parques y Recreación de Lynn\, el Departamento de Obras Públicas de Lynn y el Club de Pickleball de Lynn. \nPatrocinado por el DPW y el Comité de Basura \n \n\nThe above information is courtesy of the City of Lynn.
URL:https://lynntv.org/event/2025-spring-park-clean-ups/2025-06-28/
LOCATION:Multiple locations\, please see listing for more info.
CATEGORIES:City of Lynn,Clean-ups,Volunteering
ATTACH;FMTTYPE=image/jpeg:https://lynntv.org/wp-content/uploads/2022/03/Park-Cleanup-3.jpg
END:VEVENT
END:VCALENDAR