BEGIN:VCALENDAR
VERSION:2.0
PRODID:-//Lynn Community TV - ECPv6.15.20//NONSGML v1.0//EN
CALSCALE:GREGORIAN
METHOD:PUBLISH
X-WR-CALNAME:Lynn Community TV
X-ORIGINAL-URL:https://lynntv.org
X-WR-CALDESC:Events for Lynn Community TV
REFRESH-INTERVAL;VALUE=DURATION:PT1H
X-Robots-Tag:noindex
X-PUBLISHED-TTL:PT1H
BEGIN:VTIMEZONE
TZID:America/New_York
BEGIN:DAYLIGHT
TZOFFSETFROM:-0500
TZOFFSETTO:-0400
TZNAME:EDT
DTSTART:20240310T070000
END:DAYLIGHT
BEGIN:STANDARD
TZOFFSETFROM:-0400
TZOFFSETTO:-0500
TZNAME:EST
DTSTART:20241103T060000
END:STANDARD
BEGIN:DAYLIGHT
TZOFFSETFROM:-0500
TZOFFSETTO:-0400
TZNAME:EDT
DTSTART:20250309T070000
END:DAYLIGHT
BEGIN:STANDARD
TZOFFSETFROM:-0400
TZOFFSETTO:-0500
TZNAME:EST
DTSTART:20251102T060000
END:STANDARD
BEGIN:DAYLIGHT
TZOFFSETFROM:-0500
TZOFFSETTO:-0400
TZNAME:EDT
DTSTART:20260308T070000
END:DAYLIGHT
BEGIN:STANDARD
TZOFFSETFROM:-0400
TZOFFSETTO:-0500
TZNAME:EST
DTSTART:20261101T060000
END:STANDARD
END:VTIMEZONE
BEGIN:VEVENT
DTSTART;VALUE=DATE:20250819
DTEND;VALUE=DATE:20250820
DTSTAMP:20260419T075111
CREATED:20250807T153608Z
LAST-MODIFIED:20250807T153609Z
UID:10014552-1755561600-1755647999@lynntv.org
SUMMARY:Scoop the Poop: Pet Parades
DESCRIPTION:From The City of Lynn’s Lynn Public Health Division: The City of Lynn presents the Scoop the Poop: Pet Parade on Tuesday\, August 19th. \nThere will be two parades: Barkland Dog Park from 12pm – 2pm and Lynn Common\, at the Frederick Douglass Bandstand from 6pm – 7:30pm.\nBring your pet and join the fun!\nPets should be on a leash\nFree microchipping\nGoodie bags\nDog License – $12 and up to date rabies certificate is needed\n2026 Dog Park tags – $30\n& more! \nThis is part of the Lynn Public Health Division’s “Scoop The Poop” campaign. Learn more and take the survey by clicking here.
URL:https://lynntv.org/event/scoop-the-poop-pet-parades/
LOCATION:Barkland Ave. Dog Park\, 155 - 177 Parkland Ave\, Lynn\, 01904\, United States
CATEGORIES:City of Lynn,Community,Health and Wellness,VisitLynnMA
ATTACH;FMTTYPE=image/jpeg:https://lynntv.org/wp-content/uploads/2025/08/FI-2025-Pet-Parade.jpg
END:VEVENT
BEGIN:VEVENT
DTSTART;TZID=America/New_York:20250820T100000
DTEND;TZID=America/New_York:20250820T120000
DTSTAMP:20260419T075111
CREATED:20250616T183114Z
LAST-MODIFIED:20250616T183114Z
UID:10014355-1755684000-1755691200@lynntv.org
SUMMARY:Coffee With A Cop
DESCRIPTION:The Lynn Police Department are revitalizing their monthly “Coffee with a Cop” at Thousand Hill Coffee Shop! This meet and greet with the community is scheduled for every third Wednesday at 10am\, but the location may change. \n\nThe above information was submitted to us by the Lynn Police Department.
URL:https://lynntv.org/event/coffee-with-a-cop/2025-08-20/
LOCATION:Land of A Thousand Hills Coffee Co.\, 61 Munroe Street\, Lynn\, MA\, United States
CATEGORIES:City of Lynn,Community,VisitLynnMA
ATTACH;FMTTYPE=image/jpeg:https://lynntv.org/wp-content/uploads/2025/06/FI-Coffee-with-a-cop.jpg
END:VEVENT
END:VCALENDAR