BEGIN:VCALENDAR
VERSION:2.0
PRODID:-//Lynn Community TV - ECPv6.15.20//NONSGML v1.0//EN
CALSCALE:GREGORIAN
METHOD:PUBLISH
X-WR-CALNAME:Lynn Community TV
X-ORIGINAL-URL:https://lynntv.org
X-WR-CALDESC:Events for Lynn Community TV
REFRESH-INTERVAL;VALUE=DURATION:PT1H
X-Robots-Tag:noindex
X-PUBLISHED-TTL:PT1H
BEGIN:VTIMEZONE
TZID:America/New_York
BEGIN:DAYLIGHT
TZOFFSETFROM:-0500
TZOFFSETTO:-0400
TZNAME:EDT
DTSTART:20240310T070000
END:DAYLIGHT
BEGIN:STANDARD
TZOFFSETFROM:-0400
TZOFFSETTO:-0500
TZNAME:EST
DTSTART:20241103T060000
END:STANDARD
BEGIN:DAYLIGHT
TZOFFSETFROM:-0500
TZOFFSETTO:-0400
TZNAME:EDT
DTSTART:20250309T070000
END:DAYLIGHT
BEGIN:STANDARD
TZOFFSETFROM:-0400
TZOFFSETTO:-0500
TZNAME:EST
DTSTART:20251102T060000
END:STANDARD
BEGIN:DAYLIGHT
TZOFFSETFROM:-0500
TZOFFSETTO:-0400
TZNAME:EDT
DTSTART:20260308T070000
END:DAYLIGHT
BEGIN:STANDARD
TZOFFSETFROM:-0400
TZOFFSETTO:-0500
TZNAME:EST
DTSTART:20261101T060000
END:STANDARD
END:VTIMEZONE
BEGIN:VEVENT
DTSTART;TZID=America/New_York:20251111T083000
DTEND;TZID=America/New_York:20251111T110000
DTSTAMP:20260421T043305
CREATED:20251104T215834Z
LAST-MODIFIED:20251104T215835Z
UID:10015531-1762849800-1762858800@lynntv.org
SUMMARY:2025 Lynn Veterans Day Breakfast & Ceremony
DESCRIPTION:From the Lynn-Swampscott Dept. of Veterans’ Services: The annual City of Lynn Veterans Day Breakfast and Ceremony will take place at City Hall on Tuesday\, November 11. \nBreakfast\nCity Hall Foyer from 8:30-9:30AM \nVeterans\, military members\, and supporters are warmly invited to join us for a complimentary hot breakfast\, proudly served by our City and State elected officials. \nThis gathering is an opportunity to show our appreciation for the service and sacrifice of our veterans while bringing the community together in gratitude. We look forward to honoring you and sharing in fellowship over a hearty meal. \nCeremony\nLynn Veterans Memorial Auditorium at 10aAM \nJoin us at the Lynn City Hall Auditorium as we come together to honor the men and women from Lynn who have proudly served our Nation. The ceremony will include a presentation by the Lynn English JROTC\, a performance by the Lynn All City Band\, and additional tributes in recognition of our veterans. \nTogether\, we will pay tribute to the sacrifices made and celebrate the enduring spirit of service. \n 
URL:https://lynntv.org/event/2025-lynn-veterans-day-breakfast-ceremony/
LOCATION:Lynn City Hall & Auditorium\, 3 City Hall Square\, Lynn\, MA\, 01901\, United States
CATEGORIES:City of Lynn,Community,Entertainment,VisitLynnMA
ATTACH;FMTTYPE=image/jpeg:https://lynntv.org/wp-content/uploads/2022/12/FI-Military-and-Veterans-3.jpg
END:VEVENT
END:VCALENDAR