BEGIN:VCALENDAR
VERSION:2.0
PRODID:-//Lynn Community TV - ECPv6.15.20//NONSGML v1.0//EN
CALSCALE:GREGORIAN
METHOD:PUBLISH
X-ORIGINAL-URL:https://lynntv.org
X-WR-CALDESC:Events for Lynn Community TV
REFRESH-INTERVAL;VALUE=DURATION:PT1H
X-Robots-Tag:noindex
X-PUBLISHED-TTL:PT1H
BEGIN:VTIMEZONE
TZID:America/New_York
BEGIN:DAYLIGHT
TZOFFSETFROM:-0500
TZOFFSETTO:-0400
TZNAME:EDT
DTSTART:20260308T070000
END:DAYLIGHT
BEGIN:STANDARD
TZOFFSETFROM:-0400
TZOFFSETTO:-0500
TZNAME:EST
DTSTART:20261101T060000
END:STANDARD
BEGIN:DAYLIGHT
TZOFFSETFROM:-0500
TZOFFSETTO:-0400
TZNAME:EDT
DTSTART:20270314T070000
END:DAYLIGHT
BEGIN:STANDARD
TZOFFSETFROM:-0400
TZOFFSETTO:-0500
TZNAME:EST
DTSTART:20271107T060000
END:STANDARD
BEGIN:DAYLIGHT
TZOFFSETFROM:-0500
TZOFFSETTO:-0400
TZNAME:EDT
DTSTART:20280312T070000
END:DAYLIGHT
BEGIN:STANDARD
TZOFFSETFROM:-0400
TZOFFSETTO:-0500
TZNAME:EST
DTSTART:20281105T060000
END:STANDARD
END:VTIMEZONE
BEGIN:VEVENT
DTSTART;TZID=America/New_York:20271020T100000
DTEND;TZID=America/New_York:20271020T120000
DTSTAMP:20260422T181531
CREATED:20250616T183114Z
LAST-MODIFIED:20250616T183114Z
UID:10014381-1824026400-1824033600@lynntv.org
SUMMARY:Coffee With A Cop
DESCRIPTION:The Lynn Police Department are revitalizing their monthly “Coffee with a Cop” at Thousand Hill Coffee Shop! This meet and greet with the community is scheduled for every third Wednesday at 10am\, but the location may change. \n\nThe above information was submitted to us by the Lynn Police Department.
URL:https://lynntv.org/event/coffee-with-a-cop/2027-10-20/
LOCATION:Land of A Thousand Hills Coffee Co.\, 61 Munroe Street\, Lynn\, MA\, United States
CATEGORIES:City of Lynn,Community,VisitLynnMA
ATTACH;FMTTYPE=image/jpeg:https://lynntv.org/wp-content/uploads/2025/06/FI-Coffee-with-a-cop.jpg
END:VEVENT
END:VCALENDAR