BEGIN:VCALENDAR
VERSION:2.0
PRODID:-//Lynn Community TV - ECPv6.15.20//NONSGML v1.0//EN
CALSCALE:GREGORIAN
METHOD:PUBLISH
X-WR-CALNAME:Lynn Community TV
X-ORIGINAL-URL:https://lynntv.org
X-WR-CALDESC:Events for Lynn Community TV
REFRESH-INTERVAL;VALUE=DURATION:PT1H
X-Robots-Tag:noindex
X-PUBLISHED-TTL:PT1H
BEGIN:VTIMEZONE
TZID:America/New_York
BEGIN:DAYLIGHT
TZOFFSETFROM:-0500
TZOFFSETTO:-0400
TZNAME:EDT
DTSTART:20240310T070000
END:DAYLIGHT
BEGIN:STANDARD
TZOFFSETFROM:-0400
TZOFFSETTO:-0500
TZNAME:EST
DTSTART:20241103T060000
END:STANDARD
BEGIN:DAYLIGHT
TZOFFSETFROM:-0500
TZOFFSETTO:-0400
TZNAME:EDT
DTSTART:20250309T070000
END:DAYLIGHT
BEGIN:STANDARD
TZOFFSETFROM:-0400
TZOFFSETTO:-0500
TZNAME:EST
DTSTART:20251102T060000
END:STANDARD
BEGIN:DAYLIGHT
TZOFFSETFROM:-0500
TZOFFSETTO:-0400
TZNAME:EDT
DTSTART:20260308T070000
END:DAYLIGHT
BEGIN:STANDARD
TZOFFSETFROM:-0400
TZOFFSETTO:-0500
TZNAME:EST
DTSTART:20261101T060000
END:STANDARD
END:VTIMEZONE
BEGIN:VEVENT
DTSTART;TZID=America/New_York:20251015T100000
DTEND;TZID=America/New_York:20251015T120000
DTSTAMP:20260420T142226
CREATED:20250915T191909Z
LAST-MODIFIED:20250915T192121Z
UID:10015310-1760522400-1760529600@lynntv.org
SUMMARY:Candidate Forum: Candidates for Councilor At-Large
DESCRIPTION:From Mass Senior Action Council: Ask your questions directly to the candidates before you vote in the Tuesday\, November 4 election. \n\nMass Senior Action Council does not endorse specific candidates. We encourage everyone to participate in the electoral process\, including finding out where each candidate stands on the issues that matter to you before you vote. \nMassachusetts Senior Action Council (MSAC) is recognized as one of the most effective grassroots senior advocacy groups in the country. Throughout the Commonwealth\, we are leading the fight to improve economic security for Massachusetts seniors while addressing social justice at all levels. \nContact MSAC for: \n\nVoter registration\nAbsentee Ballot\nWhere to vote\n\nInfo@MaSeniorAction.org   /   781-864-2596 \n\nLCTV’s free election coverage
URL:https://lynntv.org/event/candidate-forum-candidates-for-councilor-at-large/
LOCATION:Lynn Housing Authority & Neighborhood Development (LHAND) – Community Room\, 10 Churrch St\, Lynn\, 01902\, United States
CATEGORIES:Elections,Politics
ATTACH;FMTTYPE=image/jpeg:https://lynntv.org/wp-content/uploads/2025/09/MSAC-2025-At-Large-forum.jpg
END:VEVENT
END:VCALENDAR