BEGIN:VCALENDAR
VERSION:2.0
PRODID:-//Lynn Community TV - ECPv6.15.20//NONSGML v1.0//EN
CALSCALE:GREGORIAN
METHOD:PUBLISH
X-WR-CALNAME:Lynn Community TV
X-ORIGINAL-URL:https://lynntv.org
X-WR-CALDESC:Events for Lynn Community TV
REFRESH-INTERVAL;VALUE=DURATION:PT1H
X-Robots-Tag:noindex
X-PUBLISHED-TTL:PT1H
BEGIN:VTIMEZONE
TZID:America/New_York
BEGIN:DAYLIGHT
TZOFFSETFROM:-0500
TZOFFSETTO:-0400
TZNAME:EDT
DTSTART:20240310T070000
END:DAYLIGHT
BEGIN:STANDARD
TZOFFSETFROM:-0400
TZOFFSETTO:-0500
TZNAME:EST
DTSTART:20241103T060000
END:STANDARD
BEGIN:DAYLIGHT
TZOFFSETFROM:-0500
TZOFFSETTO:-0400
TZNAME:EDT
DTSTART:20250309T070000
END:DAYLIGHT
BEGIN:STANDARD
TZOFFSETFROM:-0400
TZOFFSETTO:-0500
TZNAME:EST
DTSTART:20251102T060000
END:STANDARD
BEGIN:DAYLIGHT
TZOFFSETFROM:-0500
TZOFFSETTO:-0400
TZNAME:EDT
DTSTART:20260308T070000
END:DAYLIGHT
BEGIN:STANDARD
TZOFFSETFROM:-0400
TZOFFSETTO:-0500
TZNAME:EST
DTSTART:20261101T060000
END:STANDARD
END:VTIMEZONE
BEGIN:VEVENT
DTSTART;TZID=America/New_York:20250418T090000
DTEND;TZID=America/New_York:20250418T120000
DTSTAMP:20260419T104044
CREATED:20250304T201723Z
LAST-MODIFIED:20250304T201723Z
UID:10013931-1744966800-1744977600@lynntv.org
SUMMARY:Pictures with the Easter Bunny
DESCRIPTION:Bring your camera for free pictures and meet the Easter Bunny at Lynn City Hall. \nTues.\, April 15\, 2025 from 3 – 7pm\nWed.\, April 16\, 2025 from 2:30 – 4 pm\nThurs.\, April 17\, 2025 from 2:30 – 4 pm\nFri.\, April 18\, 2025 from 9 am – 12 pm \n\nThe above information was submitted to us by the Lynn Parks and Recreation Dept.
URL:https://lynntv.org/event/pictures-with-the-easter-bunny/2025-04-18/
LOCATION:Lynn City Hall & Auditorium\, 3 City Hall Square\, Lynn\, MA\, 01901\, United States
CATEGORIES:Arts and Culture,City of Lynn,Community,Entertainment,VisitLynnMA,Youth
ATTACH;FMTTYPE=image/jpeg:https://lynntv.org/wp-content/uploads/2024/03/FI-Easter-Bunny.jpg
END:VEVENT
BEGIN:VEVENT
DTSTART;TZID=America/New_York:20250419T120000
DTEND;TZID=America/New_York:20250419T150000
DTSTAMP:20260419T104044
CREATED:20250409T180514Z
LAST-MODIFIED:20250409T180515Z
UID:10014110-1745064000-1745074800@lynntv.org
SUMMARY:2025 LSN Earth Day Celebration
DESCRIPTION:The Latino Support Network is hosting an Earth Day event alongside Emerald Cities Collaborative\, the Food Project\, and Resonant Energy on Saturday\, April 19th. \nLSN hopes to provide the community with an interactive and educational Earth Day Celebration. The focus will be on weatherization and renewable energy programs\, healthy homes and food access\, and heat resilience strategies. \nAttendees can engage with practical demonstrations and take away actionable knowledge to improve their living spaces. The Food Project will have raised beds activity\, and Resonant Energy will provide a solar panel demonstration. There will be an active dance class\, food\, drinks\, lawn games\, and a raffle to engage all attendees! \n\nGardening Workshop\nSolar Demonstration\nRaffle Prizes and Fun Activities\nZumba\nAccess to Local Resources and Projects\nApply for a weatherization program on the spot\n\nFor more information about this free event please text Latino Support Network at 781-214-1545 or email cpaez@latinosupportnetwork.org. \n\n			\n				\n			\n			\n				\n			\n		\n\n\nThe above information was submitted to us by the Latino Support Network.
URL:https://lynntv.org/event/2025-lsn-earth-day-celebration/
LOCATION:Frederick Douglas Park\, Corner of Union and Exchange streets\, Lynn\, MA\, United States
CATEGORIES:Arts and Culture,Community,Entertainment,Festivals and Fairs,Health and Wellness,Seminars and Workshops,VisitLynnMA
ATTACH;FMTTYPE=image/jpeg:https://lynntv.org/wp-content/uploads/2025/04/FI-LSN-Earth-Day-Celebration.jpg
END:VEVENT
BEGIN:VEVENT
DTSTART;TZID=America/New_York:20250420T111500
DTEND;TZID=America/New_York:20250420T123000
DTSTAMP:20260419T104044
CREATED:20250414T192413Z
LAST-MODIFIED:20250414T192413Z
UID:10014115-1745147700-1745152200@lynntv.org
SUMMARY:2025 UUCGL Easter Egg Hunt
DESCRIPTION:Join us for our annual children’s Easter Egg Hunt! Free and open to kids of all ages in our area. Every child\, no matter age or ability\, will get eggs. Bring your own basket if you’d prefer. Older youth are invited to participate or help out the younger ones if they choose. \nMeet in the front lobby by 11:15am. If you have any questions please email office@uucgl.org or call 781-595-8836. \n\nThe above information was submitted to us by Unitarian Universalist Church of Greater Lynn.
URL:https://lynntv.org/event/2025-uucgl-easter-egg-hunt/
LOCATION:UUCGL\, 101 Forest Ave\, Swampscott\, MA\, 01907\, United States
CATEGORIES:Entertainment,Youth
ATTACH;FMTTYPE=image/jpeg:https://lynntv.org/wp-content/uploads/2024/03/FI-Easter-2.jpg
ORGANIZER;CN="UUCGL":MAILTO:office@uucgl.org
END:VEVENT
BEGIN:VEVENT
DTSTART;TZID=America/New_York:20250420T150000
DTEND;TZID=America/New_York:20250420T190000
DTSTAMP:20260419T104044
CREATED:20241114T151311Z
LAST-MODIFIED:20241114T151311Z
UID:10012687-1745161200-1745175600@lynntv.org
SUMMARY:Poetic Lynnguistics: North Shore Youth Spoken Word
DESCRIPTION:More information will be released soon…stay tuned!\nThis is a youth Event + Admission is FREE. An 18+ Open Mic will begin on the 1st and 3rd Sundays at 7pm. More information on the event series page. \n_________________ \nIf you have any questions please contact Michelle LaPoetica at 662-799-1916 or DENCITYvibes@gmail.com. \n\nThe above information was submitted to us by DENCITY.
URL:https://lynntv.org/event/poetic-lynnguistics-north-shore-youth-spoken-word-2/2025-04-20/
LOCATION:The Studios at Lynn Museum & Arts Center (LynnArts) & The Neal Rantoul Vault Theatre\, 25 Exchange Street\, Lynn\, MA\, 01901\, United States
CATEGORIES:Arts and Culture,Entertainment,Open mic,VisitLynnMA,Youth
ATTACH;FMTTYPE=image/jpeg:https://lynntv.org/wp-content/uploads/2024/11/FI-DENCITY-2024-North-shore-Youth-Spoken-Word.jpg
END:VEVENT
BEGIN:VEVENT
DTSTART;TZID=America/New_York:20250420T160000
DTEND;TZID=America/New_York:20250420T170000
DTSTAMP:20260419T104044
CREATED:20250415T171519Z
LAST-MODIFIED:20250415T171521Z
UID:10014117-1745164800-1745168400@lynntv.org
SUMMARY:4th Annual Ward 3 Neighborhood Egg Hunt
DESCRIPTION:𝐍𝐄𝐈𝐆𝐇𝐁𝐎𝐑𝐇𝐎𝐎𝐃 𝐄𝐀𝐒𝐓𝐄𝐑 𝐄𝐆𝐆 𝐇𝐔𝐍𝐓! \nThe 4th Annual Ward 3 Neighborhood Egg Hunt for Easter 🥚🐣 🧺 Sunday\, April 20th. This will start at 4pm at Kiley Park. Bring everyone\, they will have a lot of surprises for you. \n\nThe above information was submitted to us by Ward 3 Councilor Coco Alingsug.
URL:https://lynntv.org/event/4th-annual-ward-3-neighborhood-egg-hunt/
LOCATION:Kiley Park\, 66 Sanderson Ave.\, Lynn\, MA\, 01902\, United States
CATEGORIES:Community,Entertainment,VisitLynnMA,Youth
ATTACH;FMTTYPE=image/jpeg:https://lynntv.org/wp-content/uploads/2024/03/FI-Easter-1.jpg
ORGANIZER;CN="Ward 3 Councilor Coco Alinsug":MAILTO:Coco.Alinsug@lynnma.gov
END:VEVENT
BEGIN:VEVENT
DTSTART;TZID=America/New_York:20250420T190000
DTEND;TZID=America/New_York:20250420T220000
DTSTAMP:20260419T104044
CREATED:20241114T145118Z
LAST-MODIFIED:20250820T203513Z
UID:10012508-1745175600-1745186400@lynntv.org
SUMMARY:DENCITY International Soulcase + Open Mic
DESCRIPTION:DENCITY International Soulcase + Open Mic is where the soul speaks and truths echo. A sanctuary for expression\, a community of creatives\, and a celebration of raw\, unfiltered storytelling through spoken word\, music\, and performance. \nThis is a brave\, healing\, and SOBER space — a judgment-free zone where you are welcome as you are. \n_________________ \nIf you have any questions please contact Michelle LaPoetica at 662-799-1916 or DENCITYvibes@gmail.com. \n\nThe above information was submitted to us by DENCITY.
URL:https://lynntv.org/event/dencity-international-soulcase-open-mic/2025-04-20/
LOCATION:The Studios at Lynn Museum & Arts Center (LynnArts) & The Neal Rantoul Vault Theatre\, 25 Exchange Street\, Lynn\, MA\, 01901\, United States
CATEGORIES:Arts and Culture,Entertainment,Open mic,VisitLynnMA
ATTACH;FMTTYPE=image/jpeg:https://lynntv.org/wp-content/uploads/2024/11/FI-2025-DENCITY-International-Soulcase-Open-Mic.jpg
END:VEVENT
BEGIN:VEVENT
DTSTART;TZID=America/New_York:20250424T193000
DTEND;TZID=America/New_York:20250424T233000
DTSTAMP:20260419T104044
CREATED:20250115T204713Z
LAST-MODIFIED:20260409T184430Z
UID:10013445-1745523000-1745537400@lynntv.org
SUMMARY:Stand Up Stick Up @ The Vault
DESCRIPTION:From Steven Foley Media Productions: Stand Up Stick Up – Comedy @ The Vault Theatre is a monthly standup comedy show in a former historic bank\, now The Neal Rantoul Vault Blackbox Theatre\, inside the storied LynnArts building. \nEvery fourth Thursday\, we bring a lineup of New England’s freshest local talent and the best national headliners to Lynn for a night of hilarious standup comedy in an intimate\, unique setting. Finally\, something fun to do in Lynn! Check out the website below to see more upcoming shows\, join our mailing list for exclusive promotions\, and learn more about the show! \nDon’t miss out on this rare chance to enjoy a night of laughter\, fun\, and live performance in f*cking Lynn! Doors at 7:30pm\, show at 8! \n\n\nPlease click here for more info & tickets\nProceeds benefit the Lynn Music Foundation.\nPresented by the Lynn Music Foundation and Steven Foley Media Productions. \n\n\n\n\nAPRIL LINEUP:\n\n \n\nTHREE YEAR ANNIVERSARY SHOW \nMusical guest – Nandini \nHost – Jamie Aird \nHeadliner – Alex Cureau \nGuest Comics – Nic Sugiarto / Maddie Kelley / Dutchess / Mark McGwin \n\n\n______________________ \n\nIf the previous month’s flier is above that means we haven’t been sent updated information. If you have any questions about this event please contact the LMF via email  by clicking here.
URL:https://lynntv.org/event/stand-up-stick-up-the-vault/2025-04-24/
LOCATION:The Studios at Lynn Museum & Arts Center (LynnArts) & The Neal Rantoul Vault Theatre\, 25 Exchange Street\, Lynn\, MA\, 01901\, United States
CATEGORIES:Arts and Culture,Entertainment,Fundraisers,VisitLynnMA
ATTACH;FMTTYPE=image/jpeg:https://lynntv.org/wp-content/uploads/2023/06/FI-Stand-Up-Stick-Up-Comedy-show.jpg
ORGANIZER;CN="Lynn Music Foundation":MAILTO:lynnmusicfoundation@gmail.com
END:VEVENT
BEGIN:VEVENT
DTSTART;TZID=America/New_York:20250425T153000
DTEND;TZID=America/New_York:20250425T170000
DTSTAMP:20260419T104044
CREATED:20240730T182016Z
LAST-MODIFIED:20250813T185207Z
UID:10011966-1745595000-1745600400@lynntv.org
SUMMARY:Live Series At The Cafe
DESCRIPTION:The Lynn Music Foundation & YMCA of Metro North have teamed up for “Live Series At The Cafe”! \nThese events aim to give YMCA youth more exposure to local musicians and provide them with the opportunity to perform and learn from seasoned artists. \nThe DJ workshop will be interactive\, allowing the kids to engage and learn the basics of DJing\, followed by live performances from talented local musicians who change every time! \n\nThe above information was submitted to us by the Lynn Music Foundation.
URL:https://lynntv.org/event/live-series-at-the-cafe/2025-04-25/
LOCATION:Demakes Family YMCA\, 40 Neptune Blvd.\, Lynn\, MA\, 01902\, United States
CATEGORIES:Entertainment,Groups, Clubs, and Meet-ups,Seminars and Workshops,VisitLynnMA,Youth
ATTACH;FMTTYPE=image/jpeg:https://lynntv.org/wp-content/uploads/2024/07/FI-Live-Series-At-The-Cafe.jpg
ORGANIZER;CN="Lynn Music Foundation":MAILTO:lynnmusicfoundation@gmail.com
END:VEVENT
BEGIN:VEVENT
DTSTART;TZID=America/New_York:20250425T183000
DTEND;TZID=America/New_York:20250425T210000
DTSTAMP:20260419T104044
CREATED:20250310T150141Z
LAST-MODIFIED:20250310T152139Z
UID:10013943-1745605800-1745614800@lynntv.org
SUMMARY:St. Pius V School 80th Anniversary Gala
DESCRIPTION:St. Pius V School invites friends and alumni to join them in celebrating 80 years since the Sisters of Saint Joseph opened the school in 1945! \nJoin St. Pius for a night of food\, friends\, and fabulous auction & raffle items as everyone reminisces on eight decades of quality education at St. Pius. Tickets are $80 per person. There are limited tickets available – visit www.stpiusvschool.org/donate/auction.cfm for more information and ticket ordering. \nThis event will be a wonderful way to celebrate St. Pius V School’s history and impact. Additionally\, the funds raised during this event will play a key role in the preservation and improvement of the school building. Please consider supporting this fundraiser by becoming an event sponsor\, purchasing a program ad\, or donating a raffle or auction item. Learn more about how you can help at www.stpiusvschool.org/donate/auction.cfm \nFor more information please email auction@stpiusvschool.org or call 781-593-8292. \nClick here to learn more about St. Pius V School’s 80th Anniversary\n \n\nThe above information was submitted to us by the St. Pius V School.
URL:https://lynntv.org/event/st-pius-v-school-80th-anniversary-gala/
LOCATION:St. Pius V School\, 28 Bowler St\, Lynn\, 01904\, United States
CATEGORIES:Community,Entertainment,Fundraisers,VisitLynnMA
ATTACH;FMTTYPE=image/jpeg:https://lynntv.org/wp-content/uploads/2025/03/St.-Pius-V-Schools-80th-Anniversary.jpg
END:VEVENT
BEGIN:VEVENT
DTSTART;VALUE=DATE:20250426
DTEND;VALUE=DATE:20250427
DTSTAMP:20260419T104044
CREATED:20250331T205632Z
LAST-MODIFIED:20250331T205632Z
UID:10014082-1745625600-1745711999@lynntv.org
SUMMARY:2025 Healthy Kids Day
DESCRIPTION:The YMCA is excited to announce the annual Healthy Kids Day\, set for Saturday\, April 26\, 2025 at the Demakes Family YMCA in Lynn. This free\, community-wide event aims to inspire children and families to stay active\, engaged\, and healthy throughout the summer months and beyond. \nHealthy Kids Day is the Y’s national initiative to improve the health and well-being of kids and families. \nFor over 30 years\, YMCAs across the country have hosted free events designed to inspire kids and families to keep their minds and bodies active. \nThe YMCA will offer a variety of fun and educational activities designed to keep children moving\, exploring\, and developing essential skills.Families attending the event will have the opportunity to connect with local community organizations and resources that support children’s learning\, health\, and growth. \nClick here to sign up to attend\n“When a child is healthy\, happy\, and supported\, they can make great things happen\,” says Karina Teixeira\, Senior Executive Director\, Demakes Family YMCA in Lynn. “We believe in the potential of all children\, and we strive to help kids find that potential within themselves. Healthy Kids Day is a great opportunity to educate families and motivate kids to stay active.” \nThe Demakes Family YMCA involves more than 5\,000 youth and teens in healthy and educational activities each year. \nHealthy Kids Day is free and open to the public. Hundreds of families are expected to attend. Families are encouraged to attend and participate in the numerous activities and learning opportunities available such as Touch a Truck\, Curious Creatures\, Family Carnival\, Youth Sports and Ninja Warrior demos\, and more. \nConfirmed organizations that will participate in the event include: \n\nDCF/ Foster MA\nLynn Community Health Center\nWIC Lynn Office\nRaw Art Works\nCenterboard\nCoordinated Family and Community Engagement Program\nCataldo Ambulance\nIn the Game\n\n_____________________ \nAbout the YMCA of Metro North   \nThe YMCA of Metro North is a leading nonprofit organization in Massachusetts\, serving nearly 75\,000 community members annually through health\, fitness\, and youth development programs. The Y provides more than $2.4 million in financial assistance to ensure access to summer camps\, Y Academy\, youth programs\, and medical intervention services. The YMCA operates facilities in Lynn\, Melrose\, Peabody\, Saugus\, and Stoneham. \n\nThe above information was submitted to us by the YMCA of Metro North   \n  \n 
URL:https://lynntv.org/event/2025-healthy-kids-day/
LOCATION:Demakes Family YMCA\, 40 Neptune Blvd.\, Lynn\, MA\, 01902\, United States
CATEGORIES:Arts and Culture,Community,Entertainment,Festivals and Fairs,Health and Wellness,VisitLynnMA,Youth
ATTACH;FMTTYPE=image/jpeg:https://lynntv.org/wp-content/uploads/2025/03/FI-Healthy-Kids-Day.jpg
END:VEVENT
BEGIN:VEVENT
DTSTART;TZID=America/New_York:20250429T080000
DTEND;TZID=America/New_York:20250429T170000
DTSTAMP:20260419T104044
CREATED:20250429T165947Z
LAST-MODIFIED:20250429T165947Z
UID:10014155-1745913600-1745946000@lynntv.org
SUMMARY:9th Annual Gala Fundraiser & ‘Inspirational Woman & Man 2025’ Awards Ceremony
DESCRIPTION:Latina Center Maria invites the community to their 9th Annual Gala Fundraiser\, and the ‘Inspirational Woman & Man 2025’ Awards Ceremony on May 9th. A Letter from Latina Center Maria is below:\n\nDear friends\,\n\nWe hope this letter finds you well. We are inviting to all of you to the 9th Annual Gala Fundraiser\, and the ‘Inspirational Woman & Man 2025’ Awards Ceremony.  This event will be held on Friday\, May 9th 2025 at 7:00 pm at Spinelli’s Lynnfield (10 Newbury St. Peabody\, MA).\n\nAnnual Gala serves as a fundraiser event aimed at supporting the mission of the Latina Center to empower Latino mothers\, who are often unseen heroines. The gala is dedicated to raising funds for scholarships that will enable these Latino mothers to continue their education and further their personal goals. These scholarships will open doors for these Latino people and empower them to build brighter futures not only for themselves\, but also strengthens their families and the entire community. The Gala itself is not only a fundraising event but also a celebration of the strength\, resilience\, and achievements of these remarkable Latino mothers.\n\nWe are writing to share some exciting news! Latina Center Maria will be celebrating its nineth anniversary in May! Our organization is doing amazing work in the community by providing valuable skills and support in many different areas at Escuela Latina\, which is playing a critical role in helping people navigate challenges. We are offering the following classes:\n\n\nEnglish as Second Language (ESL) Classes for mothers with Children Book Club for their kids. Also\, ESL for workers (6:00pm to 9:30pm)\nComputer Class\nHome Health Aide Training\nBasic acrylic nails\nBasic sewing\nCitizenship\nCredit repair training\, emotional support group\, home buyer training\, Immigration Clinic\, and Parenting.\n\nAll of them must have a huge impact on people’s lives. From May of 2016 to now\, LCM (Latina Center Maria) have fifty two hundred twenty (5\,220) beneficiaries\, all of them are Latino immigrants from fourteen countries of Latin America.\n\nWe are extremely excited about the work we’ve done during our first nine years and are very hopeful about the impact we can generate for Latinos in the near future\, and building a strong Lynn community\, but in order to do so\, we need your help.\n\nThe donation for the Gala is – Ticket: $150.00. (Table of ten people $1\,350). You can donate in our web page: www.latinacentermaria.org (“Gala Tickets” button) write a note with your name\, and the number of tickets and let us know by email. If you wish to pay by check\, you can make it payable to Latina Center Maria\, and mail to 30 Menlo Terr. Lynn\, MA 01905 before May 5th.\n\nSincerely\,\n\nMaritza Jansen  –  President\nMariela Grandez  –  Secretary\nEva Hernandez  –  Treasurer\n Magalie Torres-Rowe  –  Executive Director & Founder\n\n\n\n\nThe above press release was submitted to us by Latina Center Maria.
URL:https://lynntv.org/event/9th-annual-gala-fundraiser-inspirational-woman-man-2025-awards-ceremony/
CATEGORIES:Arts and Culture,Entertainment,Fundraisers,VisitLynnMA
ATTACH;FMTTYPE=image/jpeg:https://lynntv.org/wp-content/uploads/2024/03/FI-Latina-Center-MARIA-logo.jpg
END:VEVENT
END:VCALENDAR