BEGIN:VCALENDAR
VERSION:2.0
PRODID:-//Lynn Community TV - ECPv6.15.20//NONSGML v1.0//EN
CALSCALE:GREGORIAN
METHOD:PUBLISH
X-WR-CALNAME:Lynn Community TV
X-ORIGINAL-URL:https://lynntv.org
X-WR-CALDESC:Events for Lynn Community TV
REFRESH-INTERVAL;VALUE=DURATION:PT1H
X-Robots-Tag:noindex
X-PUBLISHED-TTL:PT1H
BEGIN:VTIMEZONE
TZID:America/New_York
BEGIN:DAYLIGHT
TZOFFSETFROM:-0500
TZOFFSETTO:-0400
TZNAME:EDT
DTSTART:20240310T070000
END:DAYLIGHT
BEGIN:STANDARD
TZOFFSETFROM:-0400
TZOFFSETTO:-0500
TZNAME:EST
DTSTART:20241103T060000
END:STANDARD
BEGIN:DAYLIGHT
TZOFFSETFROM:-0500
TZOFFSETTO:-0400
TZNAME:EDT
DTSTART:20250309T070000
END:DAYLIGHT
BEGIN:STANDARD
TZOFFSETFROM:-0400
TZOFFSETTO:-0500
TZNAME:EST
DTSTART:20251102T060000
END:STANDARD
BEGIN:DAYLIGHT
TZOFFSETFROM:-0500
TZOFFSETTO:-0400
TZNAME:EDT
DTSTART:20260308T070000
END:DAYLIGHT
BEGIN:STANDARD
TZOFFSETFROM:-0400
TZOFFSETTO:-0500
TZNAME:EST
DTSTART:20261101T060000
END:STANDARD
END:VTIMEZONE
BEGIN:VEVENT
DTSTART;TZID=America/New_York:20250504T123000
DTEND;TZID=America/New_York:20250504T143000
DTSTAMP:20260419T122136
CREATED:20250331T185346Z
LAST-MODIFIED:20250708T132617Z
UID:10014019-1746361800-1746369000@lynntv.org
SUMMARY:DnD Role-playing Group - 6th grade and up
DESCRIPTION:We are a new group and are welcoming all interested 6th graders and up! Whether you’re a seasoned adventurer or a beginner\, come join us for a fun\, collaborative\, and creative experience. We meet once or twice a month on Sundays from 12:30-2:30pm. Adults connected to the congregation are welcome to join too (parents and non-parents). \nIf you’re interested or want more info please email cscheller@uucgl.org. \n\nThe above information was submitted to us by the Unitarian Universalist Church of Greater Lynn.
URL:https://lynntv.org/event/dnd-role-playing-group-6th-grade-and-up/2025-05-04/
LOCATION:UUCGL\, 101 Forest Ave\, Swampscott\, MA\, 01907\, United States
CATEGORIES:Entertainment,Groups, Clubs, and Meet-ups
ORGANIZER;CN="UUCGL":MAILTO:office@uucgl.org
END:VEVENT
BEGIN:VEVENT
DTSTART;TZID=America/New_York:20250504T150000
DTEND;TZID=America/New_York:20250504T190000
DTSTAMP:20260419T122136
CREATED:20241114T150544Z
LAST-MODIFIED:20241114T151134Z
UID:10012628-1746370800-1746385200@lynntv.org
SUMMARY:Poetic Lynnguistics: North Shore Youth Spoken Word
DESCRIPTION:More information will be released soon…stay tuned!\nThis is a youth Event + Admission is FREE. An 18+ Open Mic will begin on the 1st and 3rd Sundays at 7pm. More information on the event series page. \n_________________ \nIf you have any questions please contact Michelle LaPoetica at 662-799-1916 or DENCITYvibes@gmail.com. \n\nThe above information was submitted to us by DENCITY.
URL:https://lynntv.org/event/poetic-lynnguistics-north-shore-youth-spoken-word/2025-05-04/
LOCATION:The Studios at Lynn Museum & Arts Center (LynnArts) & The Neal Rantoul Vault Theatre\, 25 Exchange Street\, Lynn\, MA\, 01901\, United States
CATEGORIES:Arts and Culture,Entertainment,Open mic,VisitLynnMA,Youth
ATTACH;FMTTYPE=image/jpeg:https://lynntv.org/wp-content/uploads/2024/11/FI-DENCITY-2024-North-shore-Youth-Spoken-Word.jpg
END:VEVENT
BEGIN:VEVENT
DTSTART;VALUE=DATE:20250507
DTEND;VALUE=DATE:20250512
DTSTAMP:20260419T122136
CREATED:20250421T183541Z
LAST-MODIFIED:20250422T191722Z
UID:10014130-1746576000-1747007999@lynntv.org
SUMMARY:PopUp at GALA | "Breathing Brushstrokes - A Journey Through Light and Shadow": A solo Exhibition by Annette Sykes
DESCRIPTION:North Shore artist Annette Sykes will present her latest solo exhibition\, Breathing Brushstrokes: A Journey Through Light and Shadow\, from May 7 to May 11\, 2025\, at GALA (Galleries at LynnArts)\, located at 25 Exchange Street in Lynn\, Massachusetts. The show is free and open to the public. \nAn Artists Talk will be held on Thursday\, May 8\, from 6:30 to 7:30 PM. A public Artists Reception will take place on Saturday\, May 10\, from 2:30 to 4:30 PM. \nThis new body of work reflects Sykes’ transition from gallery administrator to full-time artist. The exhibition features Annette’s expressive portraits and figure drawings created during her long-running weekly figure drawing group at GALA\, alongside pieces from her ongoing series Antique Hunting with Bob\, inspired by road trips through New England with her husband. These works celebrate the beauty and history of reused and repurposed objects. \n“This show represents both a creative milestone and a personal transformation\,” says Sykes. “I hope visitors will see not just the work\, but the journey behind it.” \nRead more about Annette & their mentee Polyvios by clicking here.\nFor additional information please visit paintbytheocean.com\, email paintbytheocean@gmail.com or call 617-909-9211 \n\nThe above information was submitted to us by Annette Sykes. \n 
URL:https://lynntv.org/event/popup-at-gala-breathing-brushstrokes-a-journey-through-light-and-shadow-a-solo-exhibition-by-annette-sykes/
LOCATION:The Studios at Lynn Museum & Arts Center (LynnArts) & The Neal Rantoul Vault Theatre\, 25 Exchange Street\, Lynn\, MA\, 01901\, United States
CATEGORIES:Arts and Culture,Entertainment,Talks and Panel Discussions,VisitLynnMA
ATTACH;FMTTYPE=image/jpeg:https://lynntv.org/wp-content/uploads/2025/04/FI-Breathing-Brushstrokes-by-Annette-Sykes.jpg
END:VEVENT
BEGIN:VEVENT
DTSTART;TZID=America/New_York:20250508T180000
DTEND;TZID=America/New_York:20250508T210000
DTSTAMP:20260419T122136
CREATED:20250502T151148Z
LAST-MODIFIED:20250502T151148Z
UID:10014186-1746727200-1746738000@lynntv.org
SUMMARY:Gallery Night at Inc.ubate
DESCRIPTION:Join Inc.ubate Coworking Lynn for their quarterly Gallery Night\, a free event showcasing four local artists & local clothing vendors.  Come check out the artwork & elevate your spring/summer style. \n \n\nThe above information was submitted to us by Inc.ubate Coworking Lynn.
URL:https://lynntv.org/event/gallery-night-at-inc-ubate/
LOCATION:Inc.ubate Coworking\, 614 Washington St\, 2nd Floor\, Lynn\, 01901\, United States
CATEGORIES:Arts and Culture,Community,Entertainment,VisitLynnMA
ATTACH;FMTTYPE=image/jpeg:https://lynntv.org/wp-content/uploads/2023/05/FI-Art-Gallery-opening.jpg
ORGANIZER;CN="Inc.ubate Coworking":MAILTO:michael@incubatecoworking.com
END:VEVENT
BEGIN:VEVENT
DTSTART;TZID=America/New_York:20250508T190000
DTEND;TZID=America/New_York:20250508T203000
DTSTAMP:20260419T122136
CREATED:20250401T201631Z
LAST-MODIFIED:20250919T162641Z
UID:10014085-1746730800-1746736200@lynntv.org
SUMMARY:Thursday Poets Reading Series - Spring & Fall 2025
DESCRIPTION:The Thursday Poets Reading Series Returns! \nWe’re excited to kick off Season 2 of the Thursday Poets Reading Series\, celebrating the talent and diversity of Lynn\, MA. Join us for a powerful lineup of poets and an open mic where you can share your own work. \nTime: 7–8:30 PM (Open mic sign-up at 6:45 PM)\nFree and open to all. This event is accessible \nSpring & Fall 2025 Lineup:\n\n\n\nApril 10 – Charles Coe & Jean Monahan\nMay 8 – Michelle de la Poetica (City of Lynn’s Inaugural Poet Laureate) & Matthew Henry\nOctober 9 – Jenny Factor & Kali Lightfoot\nNovember 6 – Meg Kearney & Linda McCarriston\n\n\n\nWe’re grateful for this growing community of poets and poetry lovers. Come be part of it. \nQuestions? Email thursdaypoets11@gmail.com \n\nThe above information was submitted to us by January O’Neil
URL:https://lynntv.org/event/thursday-poets-reading-series-spring-fall-2025/2025-05-08/
LOCATION:The Studios at Lynn Museum & Arts Center (LynnArts) & The Neal Rantoul Vault Theatre\, 25 Exchange Street\, Lynn\, MA\, 01901\, United States
CATEGORIES:Arts and Culture,Entertainment,Open mic,VisitLynnMA
ATTACH;FMTTYPE=image/jpeg:https://lynntv.org/wp-content/uploads/2023/06/Microphone-2.jpg
ORGANIZER;CN="January O%E2%80%99Neil":MAILTO:thursdaypoets11@gmail.com
END:VEVENT
BEGIN:VEVENT
DTSTART;TZID=America/New_York:20250509T153000
DTEND;TZID=America/New_York:20250509T170000
DTSTAMP:20260419T122136
CREATED:20240730T182016Z
LAST-MODIFIED:20250813T185207Z
UID:10011967-1746804600-1746810000@lynntv.org
SUMMARY:Live Series At The Cafe
DESCRIPTION:The Lynn Music Foundation & YMCA of Metro North have teamed up for “Live Series At The Cafe”! \nThese events aim to give YMCA youth more exposure to local musicians and provide them with the opportunity to perform and learn from seasoned artists. \nThe DJ workshop will be interactive\, allowing the kids to engage and learn the basics of DJing\, followed by live performances from talented local musicians who change every time! \n\nThe above information was submitted to us by the Lynn Music Foundation.
URL:https://lynntv.org/event/live-series-at-the-cafe/2025-05-09/
LOCATION:Demakes Family YMCA\, 40 Neptune Blvd.\, Lynn\, MA\, 01902\, United States
CATEGORIES:Entertainment,Groups, Clubs, and Meet-ups,Seminars and Workshops,VisitLynnMA,Youth
ATTACH;FMTTYPE=image/jpeg:https://lynntv.org/wp-content/uploads/2024/07/FI-Live-Series-At-The-Cafe.jpg
ORGANIZER;CN="Lynn Music Foundation":MAILTO:lynnmusicfoundation@gmail.com
END:VEVENT
BEGIN:VEVENT
DTSTART;TZID=America/New_York:20250509T173000
DTEND;TZID=America/New_York:20250509T200000
DTSTAMP:20260419T122136
CREATED:20250430T181813Z
LAST-MODIFIED:20250430T181813Z
UID:10014175-1746811800-1746820800@lynntv.org
SUMMARY:Teen Health Carnival
DESCRIPTION:The Teen Health Carnival is a fun way for Girls Inc to promote Healthy Sexuality and teen pregnancy prevention\, and is hosted by a group of teens called the Teen Health Ambassadors. They will have games\, food\, and prizes. The prizes include a $20 Uber eats gift card for the first 25 students who enter the door and an $10 uber eats gift card for the 25 after the first 25. There will also be raffles for a Nintendo Switch\, Beats Studio Pro headphones\, Airpods\, and other gift cards. \nThis event is completely free to attend and the more game the students play the more raffle tickets they will win. The students who can attend are 8th-12th graders. \nContact Ashley Singarella with any questions by emailing asingarella@girlsincbl.org or calling 781-592-9744 × 215. \n\n			\n				\n			\n			\n				\n			\n		\n\n\nThe above information was submitted to us by Girl’s Inc of Lynn.
URL:https://lynntv.org/event/teen-health-carnival/
LOCATION:Girl’s Inc of Lynn\, 50 High Street\, Lynn\, 01902\, United States
CATEGORIES:Community,Entertainment,Festivals and Fairs,VisitLynnMA,Youth
ATTACH;FMTTYPE=image/jpeg:https://lynntv.org/wp-content/uploads/2025/04/FI-2025-Teen-Health-Carnival.jpg
ORGANIZER;CN="Girls Inc of Lynn":MAILTO:info@girlsinclynn.org
END:VEVENT
END:VCALENDAR