BEGIN:VCALENDAR
VERSION:2.0
PRODID:-//Lynn Community TV - ECPv6.15.20//NONSGML v1.0//EN
CALSCALE:GREGORIAN
METHOD:PUBLISH
X-WR-CALNAME:Lynn Community TV
X-ORIGINAL-URL:https://lynntv.org
X-WR-CALDESC:Events for Lynn Community TV
REFRESH-INTERVAL;VALUE=DURATION:PT1H
X-Robots-Tag:noindex
X-PUBLISHED-TTL:PT1H
BEGIN:VTIMEZONE
TZID:America/New_York
BEGIN:DAYLIGHT
TZOFFSETFROM:-0500
TZOFFSETTO:-0400
TZNAME:EDT
DTSTART:20240310T070000
END:DAYLIGHT
BEGIN:STANDARD
TZOFFSETFROM:-0400
TZOFFSETTO:-0500
TZNAME:EST
DTSTART:20241103T060000
END:STANDARD
BEGIN:DAYLIGHT
TZOFFSETFROM:-0500
TZOFFSETTO:-0400
TZNAME:EDT
DTSTART:20250309T070000
END:DAYLIGHT
BEGIN:STANDARD
TZOFFSETFROM:-0400
TZOFFSETTO:-0500
TZNAME:EST
DTSTART:20251102T060000
END:STANDARD
BEGIN:DAYLIGHT
TZOFFSETFROM:-0500
TZOFFSETTO:-0400
TZNAME:EDT
DTSTART:20260308T070000
END:DAYLIGHT
BEGIN:STANDARD
TZOFFSETFROM:-0400
TZOFFSETTO:-0500
TZNAME:EST
DTSTART:20261101T060000
END:STANDARD
END:VTIMEZONE
BEGIN:VEVENT
DTSTART;VALUE=DATE:20250514
DTEND;VALUE=DATE:20250519
DTSTAMP:20260419T122134
CREATED:20250421T184538Z
LAST-MODIFIED:20250422T191632Z
UID:10014131-1747180800-1747612799@lynntv.org
SUMMARY:PopUp at GALA | "Greek Scenes\, Caricatures & Figure Drawings": Artwork By Polyvios Christoforos
DESCRIPTION:The Galleries at LynnArts will host a vibrant new Pop-UP solo exhibition\, Polyvios Christoforos: From the Collection – Greek Scenes\, Caricatures & Figure Drawings\, from May 14 to May 18\, 2025. The show will be on view in the GALA Community Gallery at 25 Exchange Street in Lynn\, with an Artist’s Reception on Sunday\, May 18\, from 2:00 to 4:00 PM. \nPolyvios Christoforos is a North Shore-based artist whose work bridges whimsical imagination and classical observation. Influenced by animation legends like Preston Blair\, Ren & Stimpy\, and Disney classics\, his practice blends storytelling with fine art traditions. A turning point came in an art class at the North Shore Education Consortium\, where painting a spring landscape sparked his lifelong dedication to art. \nThis exhibit features paintings and drawings created over the past 5 to 10 years in workshops and classes around the North Shore. With an emphasis on recent work you will certainly see themes that reoccur throughout the years of his body of work. From richly painted Greek landscapes to expressive caricatures and evocative figure studies\, Of note is the book that he wrote and illustrated\, entitled “Sammy Smart Guy”. Christoforos’ work reflects his journey from self-taught animator to a dynamic studio artist. \nThe community is invited to meet the artist during the reception on Sunday\, May 18th. and explore his work during gallery hours\, 12:00–5:00 PM daily throughout the exhibition week. \nRead more about Polyvios & their mentor Annette by clicking here.\nAdmission is free. For more information\, visit www.polyviospaintingsetc.com or www.galleriesatlynnarts.org \n\nThe above information was submitted to us by Anette Sykes.
URL:https://lynntv.org/event/popup-at-gala-greek-scenes-caricatures-figure-drawings-artwork-by-polyvios-christoforos/
LOCATION:The Studios at Lynn Museum & Arts Center (LynnArts) & The Neal Rantoul Vault Theatre\, 25 Exchange Street\, Lynn\, MA\, 01901\, United States
CATEGORIES:Arts and Culture,Entertainment,VisitLynnMA
ATTACH;FMTTYPE=image/jpeg:https://lynntv.org/wp-content/uploads/2025/04/FI-22Greek-Scenes-Caricatures-Figure-Drawings-by-Polyvios-Christoforos.jpg
END:VEVENT
BEGIN:VEVENT
DTSTART;TZID=America/New_York:20250518T150000
DTEND;TZID=America/New_York:20250518T190000
DTSTAMP:20260419T122134
CREATED:20241114T151311Z
LAST-MODIFIED:20241114T151311Z
UID:10012688-1747580400-1747594800@lynntv.org
SUMMARY:Poetic Lynnguistics: North Shore Youth Spoken Word
DESCRIPTION:More information will be released soon…stay tuned!\nThis is a youth Event + Admission is FREE. An 18+ Open Mic will begin on the 1st and 3rd Sundays at 7pm. More information on the event series page. \n_________________ \nIf you have any questions please contact Michelle LaPoetica at 662-799-1916 or DENCITYvibes@gmail.com. \n\nThe above information was submitted to us by DENCITY.
URL:https://lynntv.org/event/poetic-lynnguistics-north-shore-youth-spoken-word-2/2025-05-18/
LOCATION:The Studios at Lynn Museum & Arts Center (LynnArts) & The Neal Rantoul Vault Theatre\, 25 Exchange Street\, Lynn\, MA\, 01901\, United States
CATEGORIES:Arts and Culture,Entertainment,Open mic,VisitLynnMA,Youth
ATTACH;FMTTYPE=image/jpeg:https://lynntv.org/wp-content/uploads/2024/11/FI-DENCITY-2024-North-shore-Youth-Spoken-Word.jpg
END:VEVENT
BEGIN:VEVENT
DTSTART;TZID=America/New_York:20250518T190000
DTEND;TZID=America/New_York:20250518T220000
DTSTAMP:20260419T122134
CREATED:20241114T145118Z
LAST-MODIFIED:20250820T203513Z
UID:10012509-1747594800-1747605600@lynntv.org
SUMMARY:DENCITY International Soulcase + Open Mic
DESCRIPTION:DENCITY International Soulcase + Open Mic is where the soul speaks and truths echo. A sanctuary for expression\, a community of creatives\, and a celebration of raw\, unfiltered storytelling through spoken word\, music\, and performance. \nThis is a brave\, healing\, and SOBER space — a judgment-free zone where you are welcome as you are. \n_________________ \nIf you have any questions please contact Michelle LaPoetica at 662-799-1916 or DENCITYvibes@gmail.com. \n\nThe above information was submitted to us by DENCITY.
URL:https://lynntv.org/event/dencity-international-soulcase-open-mic/2025-05-18/
LOCATION:The Studios at Lynn Museum & Arts Center (LynnArts) & The Neal Rantoul Vault Theatre\, 25 Exchange Street\, Lynn\, MA\, 01901\, United States
CATEGORIES:Arts and Culture,Entertainment,Open mic,VisitLynnMA
ATTACH;FMTTYPE=image/jpeg:https://lynntv.org/wp-content/uploads/2024/11/FI-2025-DENCITY-International-Soulcase-Open-Mic.jpg
END:VEVENT
BEGIN:VEVENT
DTSTART;TZID=America/New_York:20250520T170000
DTEND;TZID=America/New_York:20250520T190000
DTSTAMP:20260419T122134
CREATED:20250416T150336Z
LAST-MODIFIED:20250416T150336Z
UID:10014122-1747760400-1747767600@lynntv.org
SUMMARY:2025 AANHPI Heritage Month Celebration
DESCRIPTION:Celebrate Asian American\, Native Hawaiian\, & Pacific Islander (AANHPI) Heritage Month with the City of Lynn! The event includes a mini market showcasing unique local vendors\, free food and treats\, and live performances from cultural dance groups. \nThis celebration will be held in Lynn City Hall on Tuesday\, May 20th from 5-7pm\, with performances starting at 6pm. \nSpecial Guests:\nLittle STAR Group Boston |  Vietnamese Traditional Dance\nCambo-Culture Crew  |  Khmer Traditional Dance\nCinda Crafts |  DIY Earrings Workshop \nClick here for more information and updates \n\nThe above information was submitted to us by the City of Lynn.
URL:https://lynntv.org/event/2025-aanhpi-heritage-month-celebration/
LOCATION:Lynn City Hall & Auditorium\, 3 City Hall Square\, Lynn\, MA\, 01901\, United States
CATEGORIES:Arts and Culture,City of Lynn,Community,Entertainment,VisitLynnMA
ATTACH;FMTTYPE=image/jpeg:https://lynntv.org/wp-content/uploads/2025/04/FI-AANHPI-Celebration.jpg
END:VEVENT
BEGIN:VEVENT
DTSTART;TZID=America/New_York:20250521T170000
DTEND;TZID=America/New_York:20250521T200000
DTSTAMP:20260419T122134
CREATED:20250513T231224Z
LAST-MODIFIED:20250708T132304Z
UID:10014200-1747846800-1747857600@lynntv.org
SUMMARY:The Open Vault Jam Sessions
DESCRIPTION:Calling all musicians\, vocalists\, producers\, and music lovers! Whether you’re a seasoned player\, a bedroom beatmaker\, or just starting out—The Open Vault Jam Sessions are your space to create\, collaborate\, and connect. \nJoin us every Wednesday through August 27th at the Vault Theater for a free\, all-levels jam session where the Lynn music community comes together to make something beautiful—no pressure\, just vibes. \n🪩 Instruments and gear provided: Keyboard\, Drums\, Electric Guitar\, Electric Bass\n🎹 All genres and skill levels welcome\n🎤 Open mics\, freestyle moments\, and spontaneous collabs encouraged\n💥 No registration required—just show up and plug in! \nCome build with fellow creatives and help shape the sound of Lynn. Let the Vault be your stage. 🎧🎸🥁 \n\nThe above information was submitted to us by the Lynn Music Foundation.
URL:https://lynntv.org/event/the-open-vault-jam-sessions/2025-05-21/
LOCATION:The Studios at Lynn Museum & Arts Center (LynnArts) & The Neal Rantoul Vault Theatre\, 25 Exchange Street\, Lynn\, MA\, 01901\, United States
CATEGORIES:Arts and Culture,Entertainment,Seminars and Workshops,VisitLynnMA,Youth
ATTACH;FMTTYPE=image/jpeg:https://lynntv.org/wp-content/uploads/2025/05/The-Open-Vault-Jam-Sessions-Summer-2025.jpg
ORGANIZER;CN="Lynn Music Foundation":MAILTO:lynnmusicfoundation@gmail.com
END:VEVENT
BEGIN:VEVENT
DTSTART;TZID=America/New_York:20250521T173000
DTEND;TZID=America/New_York:20250521T210000
DTSTAMP:20260419T122134
CREATED:20250513T213233Z
LAST-MODIFIED:20250513T213235Z
UID:10014198-1747848600-1747861200@lynntv.org
SUMMARY:The Haven Project's Second Annual Grow the Good Gala
DESCRIPTION:Please join The Haven Project at their “Grow the Good” Gala to learn more about how they are expanding their programming to meet the growing needs of  young clients. Thanks to supporters like you\, The Haven Project is making a difference in our community – 14 years and counting! Enjoy dinner\, a cash bar\, music\, and a beautiful ocean view all for a good cause! Please note\, this event is cocktail attire.\n\nFunds raised will support The Haven Project’s Client Services Programs for homeless young adults north of Boston.\n\nTo purchase tickets please click here\nTickets cost $135 for individuals\, $600 for a half table\, and $1\,200 for a full table\n\n\nThe above information was submitted to us by The Haven Project.
URL:https://lynntv.org/event/the-haven-projects-second-annual-grow-the-good-gala/
LOCATION:Danversport\, 161 Elliott Street\, Danvers\, 01923\, United States
CATEGORIES:Entertainment,Fundraisers,VisitLynnMA
ATTACH;FMTTYPE=image/jpeg:https://lynntv.org/wp-content/uploads/2025/05/FI-Haven-Projects-2nd-Annual-Grow-the-Good-Gala.jpg
END:VEVENT
BEGIN:VEVENT
DTSTART;TZID=America/New_York:20250522T193000
DTEND;TZID=America/New_York:20250522T233000
DTSTAMP:20260419T122134
CREATED:20250115T204713Z
LAST-MODIFIED:20260409T184430Z
UID:10013446-1747942200-1747956600@lynntv.org
SUMMARY:Stand Up Stick Up @ The Vault
DESCRIPTION:From Steven Foley Media Productions: Stand Up Stick Up – Comedy @ The Vault Theatre is a monthly standup comedy show in a former historic bank\, now The Neal Rantoul Vault Blackbox Theatre\, inside the storied LynnArts building. \nEvery fourth Thursday\, we bring a lineup of New England’s freshest local talent and the best national headliners to Lynn for a night of hilarious standup comedy in an intimate\, unique setting. Finally\, something fun to do in Lynn! Check out the website below to see more upcoming shows\, join our mailing list for exclusive promotions\, and learn more about the show! \nDon’t miss out on this rare chance to enjoy a night of laughter\, fun\, and live performance in f*cking Lynn! Doors at 7:30pm\, show at 8! \n\n\nPlease click here for more info & tickets\nProceeds benefit the Lynn Music Foundation.\nPresented by the Lynn Music Foundation and Steven Foley Media Productions. \n\n\n\n\nAPRIL LINEUP:\n\n \n\nTHREE YEAR ANNIVERSARY SHOW \nMusical guest – Nandini \nHost – Jamie Aird \nHeadliner – Alex Cureau \nGuest Comics – Nic Sugiarto / Maddie Kelley / Dutchess / Mark McGwin \n\n\n______________________ \n\nIf the previous month’s flier is above that means we haven’t been sent updated information. If you have any questions about this event please contact the LMF via email  by clicking here.
URL:https://lynntv.org/event/stand-up-stick-up-the-vault/2025-05-22/
LOCATION:The Studios at Lynn Museum & Arts Center (LynnArts) & The Neal Rantoul Vault Theatre\, 25 Exchange Street\, Lynn\, MA\, 01901\, United States
CATEGORIES:Arts and Culture,Entertainment,Fundraisers,VisitLynnMA
ATTACH;FMTTYPE=image/jpeg:https://lynntv.org/wp-content/uploads/2023/06/FI-Stand-Up-Stick-Up-Comedy-show.jpg
ORGANIZER;CN="Lynn Music Foundation":MAILTO:lynnmusicfoundation@gmail.com
END:VEVENT
BEGIN:VEVENT
DTSTART;TZID=America/New_York:20250523T090000
DTEND;TZID=America/New_York:20250524T010000
DTSTAMP:20260419T122134
CREATED:20250513T233608Z
LAST-MODIFIED:20250513T233608Z
UID:10014207-1747990800-1748048400@lynntv.org
SUMMARY:Kompa Night @TheVault
DESCRIPTION:Come join us for a night of dancing and fun at The Neal Rantoul Vault Theatre! Get ready to groove to the beats of Kompa music all night long. This in-person event promises to be a night to remember\, filled with great music and even better company. Don’t miss out on this exciting opportunity to let loose and enjoy a fantastic evening of music and dancing. Grab your friends and get ready to dance the night away! \nClick here to purchase tickets\n\nThe above information was submitted to us by the Lynn Music Foundation.
URL:https://lynntv.org/event/kompa-night-thevault/
LOCATION:The Studios at Lynn Museum & Arts Center (LynnArts) & The Neal Rantoul Vault Theatre\, 25 Exchange Street\, Lynn\, MA\, 01901\, United States
CATEGORIES:Entertainment,Fundraisers,VisitLynnMA
ATTACH;FMTTYPE=image/jpeg:https://lynntv.org/wp-content/uploads/2025/05/Kompa-Night-May-2025.jpg
ORGANIZER;CN="Lynn Music Foundation":MAILTO:lynnmusicfoundation@gmail.com
END:VEVENT
BEGIN:VEVENT
DTSTART;TZID=America/New_York:20250523T153000
DTEND;TZID=America/New_York:20250523T170000
DTSTAMP:20260419T122134
CREATED:20240730T182016Z
LAST-MODIFIED:20250813T185207Z
UID:10011968-1748014200-1748019600@lynntv.org
SUMMARY:Live Series At The Cafe
DESCRIPTION:The Lynn Music Foundation & YMCA of Metro North have teamed up for “Live Series At The Cafe”! \nThese events aim to give YMCA youth more exposure to local musicians and provide them with the opportunity to perform and learn from seasoned artists. \nThe DJ workshop will be interactive\, allowing the kids to engage and learn the basics of DJing\, followed by live performances from talented local musicians who change every time! \n\nThe above information was submitted to us by the Lynn Music Foundation.
URL:https://lynntv.org/event/live-series-at-the-cafe/2025-05-23/
LOCATION:Demakes Family YMCA\, 40 Neptune Blvd.\, Lynn\, MA\, 01902\, United States
CATEGORIES:Entertainment,Groups, Clubs, and Meet-ups,Seminars and Workshops,VisitLynnMA,Youth
ATTACH;FMTTYPE=image/jpeg:https://lynntv.org/wp-content/uploads/2024/07/FI-Live-Series-At-The-Cafe.jpg
ORGANIZER;CN="Lynn Music Foundation":MAILTO:lynnmusicfoundation@gmail.com
END:VEVENT
END:VCALENDAR