BEGIN:VCALENDAR
VERSION:2.0
PRODID:-//Lynn Community TV - ECPv6.15.20//NONSGML v1.0//EN
CALSCALE:GREGORIAN
METHOD:PUBLISH
X-ORIGINAL-URL:https://lynntv.org
X-WR-CALDESC:Events for Lynn Community TV
REFRESH-INTERVAL;VALUE=DURATION:PT1H
X-Robots-Tag:noindex
X-PUBLISHED-TTL:PT1H
BEGIN:VTIMEZONE
TZID:America/New_York
BEGIN:DAYLIGHT
TZOFFSETFROM:-0500
TZOFFSETTO:-0400
TZNAME:EDT
DTSTART:20300310T070000
END:DAYLIGHT
BEGIN:STANDARD
TZOFFSETFROM:-0400
TZOFFSETTO:-0500
TZNAME:EST
DTSTART:20301103T060000
END:STANDARD
BEGIN:DAYLIGHT
TZOFFSETFROM:-0500
TZOFFSETTO:-0400
TZNAME:EDT
DTSTART:20310309T070000
END:DAYLIGHT
BEGIN:STANDARD
TZOFFSETFROM:-0400
TZOFFSETTO:-0500
TZNAME:EST
DTSTART:20311102T060000
END:STANDARD
BEGIN:DAYLIGHT
TZOFFSETFROM:-0500
TZOFFSETTO:-0400
TZNAME:EDT
DTSTART:20320314T070000
END:DAYLIGHT
BEGIN:STANDARD
TZOFFSETFROM:-0400
TZOFFSETTO:-0500
TZNAME:EST
DTSTART:20321107T060000
END:STANDARD
END:VTIMEZONE
BEGIN:VEVENT
DTSTART;TZID=America/New_York:20310420T190000
DTEND;TZID=America/New_York:20310420T220000
DTSTAMP:20260421T180403
CREATED:20241114T145118Z
LAST-MODIFIED:20250820T203513Z
UID:10017226-1934478000-1934488800@lynntv.org
SUMMARY:DENCITY International Soulcase + Open Mic
DESCRIPTION:DENCITY International Soulcase + Open Mic is where the soul speaks and truths echo. A sanctuary for expression\, a community of creatives\, and a celebration of raw\, unfiltered storytelling through spoken word\, music\, and performance. \nThis is a brave\, healing\, and SOBER space — a judgment-free zone where you are welcome as you are. \n_________________ \nIf you have any questions please contact Michelle LaPoetica at 662-799-1916 or DENCITYvibes@gmail.com. \n\nThe above information was submitted to us by DENCITY.
URL:https://lynntv.org/event/dencity-international-soulcase-open-mic/2031-04-20/
LOCATION:The Studios at Lynn Museum & Arts Center (LynnArts) & The Neal Rantoul Vault Theatre\, 25 Exchange Street\, Lynn\, MA\, 01901\, United States
CATEGORIES:Arts and Culture,Entertainment,Open mic,VisitLynnMA
ATTACH;FMTTYPE=image/jpeg:https://lynntv.org/wp-content/uploads/2024/11/FI-2025-DENCITY-International-Soulcase-Open-Mic.jpg
END:VEVENT
END:VCALENDAR