BEGIN:VCALENDAR
VERSION:2.0
PRODID:-//Lynn Community TV - ECPv6.15.20//NONSGML v1.0//EN
CALSCALE:GREGORIAN
METHOD:PUBLISH
X-WR-CALNAME:Lynn Community TV
X-ORIGINAL-URL:https://lynntv.org
X-WR-CALDESC:Events for Lynn Community TV
REFRESH-INTERVAL;VALUE=DURATION:PT1H
X-Robots-Tag:noindex
X-PUBLISHED-TTL:PT1H
BEGIN:VTIMEZONE
TZID:America/New_York
BEGIN:DAYLIGHT
TZOFFSETFROM:-0500
TZOFFSETTO:-0400
TZNAME:EDT
DTSTART:20240310T070000
END:DAYLIGHT
BEGIN:STANDARD
TZOFFSETFROM:-0400
TZOFFSETTO:-0500
TZNAME:EST
DTSTART:20241103T060000
END:STANDARD
BEGIN:DAYLIGHT
TZOFFSETFROM:-0500
TZOFFSETTO:-0400
TZNAME:EDT
DTSTART:20250309T070000
END:DAYLIGHT
BEGIN:STANDARD
TZOFFSETFROM:-0400
TZOFFSETTO:-0500
TZNAME:EST
DTSTART:20251102T060000
END:STANDARD
BEGIN:DAYLIGHT
TZOFFSETFROM:-0500
TZOFFSETTO:-0400
TZNAME:EDT
DTSTART:20260308T070000
END:DAYLIGHT
BEGIN:STANDARD
TZOFFSETFROM:-0400
TZOFFSETTO:-0500
TZNAME:EST
DTSTART:20261101T060000
END:STANDARD
END:VTIMEZONE
BEGIN:VEVENT
DTSTART;TZID=America/New_York:20250816T110000
DTEND;TZID=America/New_York:20250816T130000
DTSTAMP:20260420T161128
CREATED:20250724T135101Z
LAST-MODIFIED:20250724T135916Z
UID:10014531-1755342000-1755349200@lynntv.org
SUMMARY:Connect for Community: School Committee Edition
DESCRIPTION:Join the Millennium Latino Project for the second part of their civic engagement series—this time focused on the people shaping the future of our schools. \n​This informal gathering is your chance to connect directly with School Committee members and candidates\, learn about the important decisions they make\, and why their role matters to every resident—especially parents\, students\, and youth advocates. \n​Whether you’re curious about what the School Committee does or want to get more involved in local education\, this is a space for open dialogue\, questions\, and real connection. \n​There will also be resource tables featuring organizations that work directly with youth in our city—perfect for learning about programs\, services\, and ways to stay engaged year-round. \n​Coffee will be served. Questions encouraged. Community welcomed. \nCollaboration with El Centro Lynn\nRSVP Link \nClick here for LCTV’s free election coverage\n\nThe above information was submitted to us by the Millennium Latino Project
URL:https://lynntv.org/event/connect-for-community-school-committee-edition/
LOCATION:El Centro\, 85 Munroe Street\, Lynn\, 01901\, United States
CATEGORIES:Community,Politics
ATTACH;FMTTYPE=image/jpeg:https://lynntv.org/wp-content/uploads/2025/07/Connect-for-Community-August-2025.jpg
ORGANIZER;CN="Millennium Latino Project":MAILTO:nfo@millenniumlatinoproject.com
END:VEVENT
BEGIN:VEVENT
DTSTART;TZID=America/New_York:20250818T190000
DTEND;TZID=America/New_York:20250818T190000
DTSTAMP:20260420T161128
CREATED:20250729T202705Z
LAST-MODIFIED:20250729T202729Z
UID:10014539-1755543600-1755543600@lynntv.org
SUMMARY:2025 Candidate Forums: Ward 5 Councilor
DESCRIPTION:Lynn Community Television will be holding this forum with candidates running for Ward 5 Councilor LIVE on August 18\, 2025 at 7pm. This will be broadcast on our Government Channel\, website\, Facebook\, and YouTube. The candidates for this race are Augustina Matos\, Cardeliz Paez\, Liliana Patino\, & Josh Polonsky. LCTV Board Member Joe Scanlon will serve as moderator.\n\nThis year the City of Lynn is holding Municipal Elections for Mayor\, Councilor At-Large\, Ward Councilors\, & School Committee. The Preliminary Election will be held on September 2nd and Final Election will be held on November 4th. You can find out more about the candidates for every race in this year’s election by visiting LynnTV.org/election for important voting information\, candidate bios\, and more for this and other races.\n\n\nPlease note: Only the two top candidates for Ward 5 Councilor will advance from the Preliminary election to November. This is the only race affected\, all other candidates will advance.
URL:https://lynntv.org/event/2025-candidate-forums-ward-5-councilor/
LOCATION:Virtual
CATEGORIES:Elections,Politics,VisitLynnMA
ATTACH;FMTTYPE=image/jpeg:https://lynntv.org/wp-content/uploads/2025/07/2025-Ward-5-Councilor-Forum-August-2025.jpg
ORGANIZER;CN="Lynn Community TV":MAILTO:info@lynntv.org
END:VEVENT
END:VCALENDAR