BEGIN:VCALENDAR
VERSION:2.0
PRODID:-//Lynn Community TV - ECPv6.15.20//NONSGML v1.0//EN
CALSCALE:GREGORIAN
METHOD:PUBLISH
X-WR-CALNAME:Lynn Community TV
X-ORIGINAL-URL:https://lynntv.org
X-WR-CALDESC:Events for Lynn Community TV
REFRESH-INTERVAL;VALUE=DURATION:PT1H
X-Robots-Tag:noindex
X-PUBLISHED-TTL:PT1H
BEGIN:VTIMEZONE
TZID:America/New_York
BEGIN:DAYLIGHT
TZOFFSETFROM:-0500
TZOFFSETTO:-0400
TZNAME:EDT
DTSTART:20250309T070000
END:DAYLIGHT
BEGIN:STANDARD
TZOFFSETFROM:-0400
TZOFFSETTO:-0500
TZNAME:EST
DTSTART:20251102T060000
END:STANDARD
BEGIN:DAYLIGHT
TZOFFSETFROM:-0500
TZOFFSETTO:-0400
TZNAME:EDT
DTSTART:20260308T070000
END:DAYLIGHT
BEGIN:STANDARD
TZOFFSETFROM:-0400
TZOFFSETTO:-0500
TZNAME:EST
DTSTART:20261101T060000
END:STANDARD
BEGIN:DAYLIGHT
TZOFFSETFROM:-0500
TZOFFSETTO:-0400
TZNAME:EDT
DTSTART:20270314T070000
END:DAYLIGHT
BEGIN:STANDARD
TZOFFSETFROM:-0400
TZOFFSETTO:-0500
TZNAME:EST
DTSTART:20271107T060000
END:STANDARD
END:VTIMEZONE
BEGIN:VEVENT
DTSTART;TZID=America/New_York:20260105T180000
DTEND;TZID=America/New_York:20260105T180000
DTSTAMP:20260420T080029
CREATED:20251126T170733Z
LAST-MODIFIED:20251224T192153Z
UID:10016120-1767636000-1767636000@lynntv.org
SUMMARY:2026 City of Lynn Inauguration Ceremony
DESCRIPTION:From Mayor Nicholson’s Office: On behalf of Mayor Jared C. Nicholson\, we would like to cordially invite you to the 2026 Inauguration Ceremony for the Mayor\, City Council\, and School Committee. The event will take place on Monday\, January 5th at 6:00pm in the Lynn Memorial Auditorium. \nThere will be a reception to follow in the City Hall foyer. \nPlease note that the event will include live Spanish interpretation and will be livestreamed by Lynn Community Television. \n59th Mayor of Lynn: \nThe Honorable Jared C. Nicholson \nCity Council \nConstantino “Coco” Alinsug\nJordan T. Avery\nBrian M. Field\nFrederick W. Hogan\nBrian P. LaPierre\nObed A. Matul\nNicole D. McClain\nDr. Peter D. Meaney\nNatasha S. Megie-Maddrey\, Esq.\nHong L. Net\nCardeliz Paez \nSchool Committee \nBrian K. Castellanos\, M.S.\, LSWA\nLorraine M. Gately\nBrenda Ortiz McGrath\, MSW\nLenny E. Peña\nAndrea L. Satterwhite\, NP\nTristan James Smith\, Esq. \n\n\nEn nombre del Alcalde Jared C. Nicholson\, nos complace invitarle a la Ceremonia de Inauguración 2026 para el Alcalde\, el Concejo de la Ciudad y el Comité Escolar. El evento se llevará a cabo el lunes 5 de enero a las 6:00 pm en el Auditorio Lynn Memorial. \nA continuación\, habrá una recepción en el vestíbulo del Ayuntamiento. \nTenga en cuenta que el evento incluirá interpretación en español y será transmitido en directo por Lynn Community Television. \n\nក្នុងនាមអភិបាលក្រុង Jared C. Nicholson យើងសូមគោរពអញ្ជើញអ្នកឱ្យចូលរួមពិធីសម្ពោធឆ្នាំ 2026 សម្រាប់អភិបាលក្រុង ក្រុមប្រឹក្សាក្រុង និងគណៈកម្មាធិការសាលា។ ព្រឹត្តិការណ៍នេះនឹងប្រព្រឹត្តទៅនៅថ្ងៃច័ន្ទ ទី 5 ខែមករា វេលាម៉ោង 6:00 ល្ងាច នៅសាលប្រជុំ Lynn Memorial។ \nនឹងមានទទួលភ្ញៀវនៅសាលប្រជុំសាលាក្រុង។ \nសូមចំណាំថាព្រឹត្តិការណ៍នេះនឹងរួមបញ្ចូលការបកស្រាយជាភាសាអេស្ប៉ាញផ្ទាល់ ហើយនឹងមានការផ្សាយបន្តផ្ទាល់ដោយ Lynn Community Television។
URL:https://lynntv.org/event/2026-city-of-lynn-inauguration-ceremony/
LOCATION:Lynn City Hall & Auditorium\, 3 City Hall Square\, Lynn\, MA\, 01901\, United States
CATEGORIES:City of Lynn,Politics,VisitLynnMA
ATTACH;FMTTYPE=image/jpeg:https://lynntv.org/wp-content/uploads/2025/11/FI-2026-Inauguration-Ceremony.jpg
END:VEVENT
END:VCALENDAR