BEGIN:VCALENDAR
VERSION:2.0
PRODID:-//Lynn Community TV - ECPv6.15.20//NONSGML v1.0//EN
CALSCALE:GREGORIAN
METHOD:PUBLISH
X-ORIGINAL-URL:https://lynntv.org
X-WR-CALDESC:Events for Lynn Community TV
REFRESH-INTERVAL;VALUE=DURATION:PT1H
X-Robots-Tag:noindex
X-PUBLISHED-TTL:PT1H
BEGIN:VTIMEZONE
TZID:America/New_York
BEGIN:DAYLIGHT
TZOFFSETFROM:-0500
TZOFFSETTO:-0400
TZNAME:EDT
DTSTART:20250309T070000
END:DAYLIGHT
BEGIN:STANDARD
TZOFFSETFROM:-0400
TZOFFSETTO:-0500
TZNAME:EST
DTSTART:20251102T060000
END:STANDARD
BEGIN:DAYLIGHT
TZOFFSETFROM:-0500
TZOFFSETTO:-0400
TZNAME:EDT
DTSTART:20260308T070000
END:DAYLIGHT
BEGIN:STANDARD
TZOFFSETFROM:-0400
TZOFFSETTO:-0500
TZNAME:EST
DTSTART:20261101T060000
END:STANDARD
BEGIN:DAYLIGHT
TZOFFSETFROM:-0500
TZOFFSETTO:-0400
TZNAME:EDT
DTSTART:20270314T070000
END:DAYLIGHT
BEGIN:STANDARD
TZOFFSETFROM:-0400
TZOFFSETTO:-0500
TZNAME:EST
DTSTART:20271107T060000
END:STANDARD
END:VTIMEZONE
BEGIN:VEVENT
DTSTART;TZID=America/New_York:20260429T083000
DTEND;TZID=America/New_York:20260429T093000
DTSTAMP:20260421T020121
CREATED:20260409T195716Z
LAST-MODIFIED:20260409T195716Z
UID:10017105-1777451400-1777455000@lynntv.org
SUMMARY:GLCC Government Affairs Meeting - Lynn Public Health Director
DESCRIPTION:From the Greater Lynn Chamber of Commerce: Join us for our April Government Affairs Committee (GAC) Meeting featuring Lisa Tobin\, Lynn Public Health Director\, as she shares important updates from the City of Lynn’s Public Health Department. \nThis month’s discussion will highlight a new Quality Assurance Program being implemented in partnership with MoJin Inspections. Through this initiative\, MoJin supervisors will conduct same-day follow-up visits to restaurants after inspections are completed—ensuring inspections are thorough\, consistent\, and helpful for business owners. These visits will also provide an opportunity for direct feedback from the Person in Charge\, helping to strengthen communication and support for local establishments. \nDon’t miss this opportunity to stay informed on public health practices that directly impact your business and the broader Lynn community\, while engaging in meaningful conversation with local leadership. \nAll are welcome to attend! Seating is limited – please RSVP to reserve your spot.
URL:https://lynntv.org/event/glcc-government-affairs-meeting-lynn-public-health-director/
LOCATION:Virtual/In-Peson
CATEGORIES:Groups, Clubs, and Meet-ups,Politics,Talks and Panel Discussions,Virtual
ATTACH;FMTTYPE=image/jpeg:https://lynntv.org/wp-content/uploads/2026/04/GLCC-Government-Affairs-Meeting-April-2026.jpg
END:VEVENT
BEGIN:VEVENT
DTSTART;TZID=America/New_York:20260513T083000
DTEND;TZID=America/New_York:20260513T093000
DTSTAMP:20260421T020121
CREATED:20260409T194529Z
LAST-MODIFIED:20260409T195012Z
UID:10017104-1778661000-1778664600@lynntv.org
SUMMARY:GLCC Government Affairs Meeting - Lynn City Council
DESCRIPTION:From the Greater Lynn Chamber of Commerce: Join us for our upcoming Government Affairs Committee (GAC) Meeting featuring Coco Alinsug\, Lynn City Council President and Ward 3 Councilor\,and Fred Hogan\, Lynn City Council Vice President & Ward 6 Councilor. \nThey’ll share important updates and insights from the City Council\, along with a presentation tailored to local businesses—followed by an opportunity for discussion and engagement. \nAll are welcome to attend! Seating is limited – please RSVP to reserve your spot. \nRegister for IN-PERSON | Register for ZOOM
URL:https://lynntv.org/event/glcc-government-affairs-meeting-lynn-city-council/
LOCATION:Virtual/In-Peson
CATEGORIES:Groups, Clubs, and Meet-ups,Politics,Talks and Panel Discussions,Virtual
ATTACH;FMTTYPE=image/jpeg:https://lynntv.org/wp-content/uploads/2026/04/Government-Affairs-Meeting-with-Lynn-City-Council-May-2026.jpg
END:VEVENT
BEGIN:VEVENT
DTSTART;TZID=America/New_York:20260519T180000
DTEND;TZID=America/New_York:20260519T200000
DTSTAMP:20260421T020121
CREATED:20260410T202027Z
LAST-MODIFIED:20260410T202159Z
UID:10017190-1779213600-1779220800@lynntv.org
SUMMARY:Candidate Forum | MA 6th Congressional District
DESCRIPTION:From NSLC and MVLC: Join us to hear our candidates for congress speak on the issues that matter most to working-class people. \nThis forum is sponsored by the North Shore Labor Council AFL-CIO\, Merrimack Valley Central Labor Council AFL-CIO\, and the New Lynn Coalition. \nPlease note: LCTV will record this forum for later broadcast.
URL:https://lynntv.org/event/candidate-forum-ma-6th-congressional-district/
LOCATION:Knights of Columbus\, 177 Lynnfield Street\, Lynn\, MA\, United States
CATEGORIES:Elections,Politics,VisitLynnMA
ATTACH;FMTTYPE=image/jpeg:https://lynntv.org/wp-content/uploads/2026/04/2026-Congressional-Forum-May-19.jpg
END:VEVENT
END:VCALENDAR