BEGIN:VCALENDAR
VERSION:2.0
PRODID:-//Lynn Community TV - ECPv6.15.20//NONSGML v1.0//EN
CALSCALE:GREGORIAN
METHOD:PUBLISH
X-ORIGINAL-URL:https://lynntv.org
X-WR-CALDESC:Events for Lynn Community TV
REFRESH-INTERVAL;VALUE=DURATION:PT1H
X-Robots-Tag:noindex
X-PUBLISHED-TTL:PT1H
BEGIN:VTIMEZONE
TZID:America/New_York
BEGIN:DAYLIGHT
TZOFFSETFROM:-0500
TZOFFSETTO:-0400
TZNAME:EDT
DTSTART:20250309T070000
END:DAYLIGHT
BEGIN:STANDARD
TZOFFSETFROM:-0400
TZOFFSETTO:-0500
TZNAME:EST
DTSTART:20251102T060000
END:STANDARD
BEGIN:DAYLIGHT
TZOFFSETFROM:-0500
TZOFFSETTO:-0400
TZNAME:EDT
DTSTART:20260308T070000
END:DAYLIGHT
BEGIN:STANDARD
TZOFFSETFROM:-0400
TZOFFSETTO:-0500
TZNAME:EST
DTSTART:20261101T060000
END:STANDARD
BEGIN:DAYLIGHT
TZOFFSETFROM:-0500
TZOFFSETTO:-0400
TZNAME:EDT
DTSTART:20270314T070000
END:DAYLIGHT
BEGIN:STANDARD
TZOFFSETFROM:-0400
TZOFFSETTO:-0500
TZNAME:EST
DTSTART:20271107T060000
END:STANDARD
END:VTIMEZONE
BEGIN:VEVENT
DTSTART;TZID=America/New_York:20260311T083000
DTEND;TZID=America/New_York:20260311T093000
DTSTAMP:20260420T080046
CREATED:20260305T193508Z
LAST-MODIFIED:20260305T193508Z
UID:10016971-1773217800-1773221400@lynntv.org
SUMMARY:GLCC Government Affairs Meeting - Peter Milano from MA Office of Business Development
DESCRIPTION:From the Greater Lynn Chamber of Commerce: Join us for our upcoming Government Affairs Committee meeting with Peter Milano\, Director of Strategy & Business Development at the Massachusetts Office of Business Development. \nPeter will share insights on state economic development programs and how Massachusetts resources can support business growth and expansion. \nAll are welcome to attend! \nSeating is limited – please RSVP to reserve your spot. \nRegister for IN-PERSON | Register for ZOOM \n__________________________________ \nAbout Peter Milano: \nPeter Milano has dedicated 26 years to economic development for the Commonwealth of Massachusetts. For 25 of those years\, he has worked at the Massachusetts Office of Business Development (MOBD)\, supporting companies ranging from early-stage startups to Fortune 10 corporations. An additional year was spent with the Massachusetts Office of International Trade & Investment\, where he focused on recruiting foreign direct investment to the Commonwealth. \nPeter joined MOBD in 1999 as a Project Manager in the Northeast Region and has since worked across the Commonwealth\, applying state economic development programs to help companies site\, expand\, and grow in Massachusetts. \nCurrently\, Peter serves as Director of Strategy & Business Development and Director at the Massachusetts Office of Business Development. In this role\, he coordinates regional and administrative teams in the implementation of the state’s economic development programs and leads engagement with municipalities and business partners statewide. \nIn 2024\, Peter was named a “Top 50 Economic Developer” by Consultant Connect\, recognizing his contributions among state\, county\, and municipal economic development professionals nationwide. \nPrior to joining MOBD\, Peter owned and operated several small businesses and served as National Sales and Marketing Manager for a chemical and soap dispensing company.
URL:https://lynntv.org/event/glcc-government-affairs-meeting-peter-milano-from-ma-office-of-business-development/
LOCATION:Virtual/In-Peson
CATEGORIES:Politics,Talks and Panel Discussions,Virtual,VisitLynnMA
ATTACH;FMTTYPE=image/jpeg:https://lynntv.org/wp-content/uploads/2026/03/GLCC-Government-Affairs-Meeting-March-2026.jpg
END:VEVENT
END:VCALENDAR