BEGIN:VCALENDAR
VERSION:2.0
PRODID:-//Lynn Community TV - ECPv6.15.20//NONSGML v1.0//EN
CALSCALE:GREGORIAN
METHOD:PUBLISH
X-WR-CALNAME:Lynn Community TV
X-ORIGINAL-URL:https://lynntv.org
X-WR-CALDESC:Events for Lynn Community TV
REFRESH-INTERVAL;VALUE=DURATION:PT1H
X-Robots-Tag:noindex
X-PUBLISHED-TTL:PT1H
BEGIN:VTIMEZONE
TZID:America/New_York
BEGIN:DAYLIGHT
TZOFFSETFROM:-0500
TZOFFSETTO:-0400
TZNAME:EDT
DTSTART:20250309T070000
END:DAYLIGHT
BEGIN:STANDARD
TZOFFSETFROM:-0400
TZOFFSETTO:-0500
TZNAME:EST
DTSTART:20251102T060000
END:STANDARD
BEGIN:DAYLIGHT
TZOFFSETFROM:-0500
TZOFFSETTO:-0400
TZNAME:EDT
DTSTART:20260308T070000
END:DAYLIGHT
BEGIN:STANDARD
TZOFFSETFROM:-0400
TZOFFSETTO:-0500
TZNAME:EST
DTSTART:20261101T060000
END:STANDARD
BEGIN:DAYLIGHT
TZOFFSETFROM:-0500
TZOFFSETTO:-0400
TZNAME:EDT
DTSTART:20270314T070000
END:DAYLIGHT
BEGIN:STANDARD
TZOFFSETFROM:-0400
TZOFFSETTO:-0500
TZNAME:EST
DTSTART:20271107T060000
END:STANDARD
END:VTIMEZONE
BEGIN:VEVENT
DTSTART;TZID=America/New_York:20260516T100000
DTEND;TZID=America/New_York:20260516T130000
DTSTAMP:20260420T231842
CREATED:20260128T162907Z
LAST-MODIFIED:20260413T153724Z
UID:10016289-1778925600-1778936400@lynntv.org
SUMMARY:2026 Black Excellence 5K
DESCRIPTION:From the North Shore Juneteenth Association: The Black Excellence 5K is more than a race. It is a visible\, collective statement that representation matters — in our neighborhoods\, our organizations\, our institutions\, and our public spaces. Each year\, this event brings together community leaders\, families\, businesses\, and organizations to celebrate health\, unity\, and Black excellence across our community. \n100% of your registration will be used to fulfill the mission of the North Shore Juneteenth Association. \nMay 16\, 2026\nGrace United Methodist Church – 374 Broadway St.\nDay of registration begins at 9 am\, Race starts at 10 am \nREGISTER BY CLICKING HERE\n\nI would love for you to participate in one (or more!) of the following ways: \nSponsor the Black Excellence 5K\nView Sponsorship Letter \nSupport a community-centered event that directly funds year-round cultural celebrations and educational programming through the North Shore Juneteenth Association Inc. (www.nsjuneteenth.com) \nGather a Team \nActivate your organization\, business\, faith community\, or network to register a team and show up together. Team participation sends a powerful message of solidarity\, leadership\, and pride. \nRegister as an Individual \nWalk or run alongside neighbors\, colleagues\, and community members who believe in uplifting Black stories and investing in recognizing our country’s full history. There is also an option for virtual participation. \nRegister or start a team\nClick here to register \nPlease note: registration prices increase on March 1st\, so now is the perfect time to commit\, register a team\, or confirm sponsorship. \nVolunteer\nClick here to learn more \nThe Black Excellence 5K is the largest annual fundraiser for the North Shore Juneteenth Association. This effort directly supports programs such as Juneteenth Flag Raising ceremonies\, educational initiatives\, and community-building efforts throughout the year. Your participation helps ensure these programs remain accessible and impactful. \n________________________ \nI truly believe that when community leaders show up\, others follow. Your presence — and the presence of your organization — matters. \nIf you’d like to discuss sponsorship options\, team registration\, or ways to get your organization involved\, I’d be happy to connect. \nThank you for all that you do for our community. I hope to see you — and your team — at the starting line.
URL:https://lynntv.org/event/2026-black-excellence-5k/
LOCATION:Grace United Methodist Church\, 374 Broadway\, Lynn\, MA\, 01904\, United States
CATEGORIES:Arts and Culture,Community,Fundraisers,Health and Wellness,Road races & 5Ks,VisitLynnMA,Volunteering
ATTACH;FMTTYPE=image/jpeg:https://lynntv.org/wp-content/uploads/2023/01/Black-Excellence-5K.jpg
END:VEVENT
BEGIN:VEVENT
DTSTART;TZID=America/New_York:20260530T090000
DTEND;TZID=America/New_York:20260530T120000
DTSTAMP:20260420T231842
CREATED:20260305T210221Z
LAST-MODIFIED:20260305T211837Z
UID:10016977-1780131600-1780142400@lynntv.org
SUMMARY:2026 Shoe City Series  |  Lynn Fire and Police Family Day 5k
DESCRIPTION:From the Shoe City Series: Taking place in Lynn Woods at the Great Woods entrance\, this race thru Lynn Woods is challenging but is worth it. We always follow the race with many activities for the participants and public alike. \nPlease note: there will be a separate listing for the Family Fun Day. When that is submitted to us we will update this listing with a link. \n\nRace registration:\n$35 for those older than 18\n$20 for between ages 14-18\nFree for those under 14\nPlease click here to register\n____________________________\n\nThe Shoe City Series is a collection of four 5K races throughout the year. Each race is a different course in a different part of the city and a different time of the year. This is designed to give the participants a view of our entire city and to highlight some of its many beautiful features and areas.\n\nThe medals awarded for each of the races are meant to interlock\, creating a single big medal for those that participate in all 4. The 2026 5Ks are as follows:\n\nHibernian 5K – March 22nd\nLynn Fire & Police Family Day 5K – May 30th\nClock to The Rock 5K – Details TBA\nTurkey Trot 5K – November 26th\n\nStay up to date with the Shoe City Series by following their Facebook page. If you have questions please message their FB page.
URL:https://lynntv.org/event/2026-shoe-city-series-lynn-fire-and-police-family-day-5k/
LOCATION:Lynn Woods – Great Woods Road entrance\, 60 Great Woods Road\, Lynn\, MA\, United States
CATEGORIES:Fundraisers,Road races & 5Ks,VisitLynnMA
ATTACH;FMTTYPE=image/jpeg:https://lynntv.org/wp-content/uploads/2025/03/FI-Shoe-City-Series.jpg
ORGANIZER;CN="Lynn Fire Local 739 and Lynn Police Association 302":MAILTO:dpdulong@gmail.com
END:VEVENT
END:VCALENDAR