BEGIN:VCALENDAR
VERSION:2.0
PRODID:-//Lynn Community TV - ECPv6.15.20//NONSGML v1.0//EN
CALSCALE:GREGORIAN
METHOD:PUBLISH
X-WR-CALNAME:Lynn Community TV
X-ORIGINAL-URL:https://lynntv.org
X-WR-CALDESC:Events for Lynn Community TV
REFRESH-INTERVAL;VALUE=DURATION:PT1H
X-Robots-Tag:noindex
X-PUBLISHED-TTL:PT1H
BEGIN:VTIMEZONE
TZID:America/New_York
BEGIN:DAYLIGHT
TZOFFSETFROM:-0500
TZOFFSETTO:-0400
TZNAME:EDT
DTSTART:20250309T070000
END:DAYLIGHT
BEGIN:STANDARD
TZOFFSETFROM:-0400
TZOFFSETTO:-0500
TZNAME:EST
DTSTART:20251102T060000
END:STANDARD
BEGIN:DAYLIGHT
TZOFFSETFROM:-0500
TZOFFSETTO:-0400
TZNAME:EDT
DTSTART:20260308T070000
END:DAYLIGHT
BEGIN:STANDARD
TZOFFSETFROM:-0400
TZOFFSETTO:-0500
TZNAME:EST
DTSTART:20261101T060000
END:STANDARD
BEGIN:DAYLIGHT
TZOFFSETFROM:-0500
TZOFFSETTO:-0400
TZNAME:EDT
DTSTART:20270314T070000
END:DAYLIGHT
BEGIN:STANDARD
TZOFFSETFROM:-0400
TZOFFSETTO:-0500
TZNAME:EST
DTSTART:20271107T060000
END:STANDARD
END:VTIMEZONE
BEGIN:VEVENT
DTSTART;TZID=America/New_York:20260919T100000
DTEND;TZID=America/New_York:20260919T130000
DTSTAMP:20260421T213306
CREATED:20260305T211436Z
LAST-MODIFIED:20260305T211946Z
UID:10016978-1789812000-1789822800@lynntv.org
SUMMARY:2026 Shoe City Series  |  Clock to the Rock 5k
DESCRIPTION:From the Shoe City Series: This race is fun and when the weather is perfect you can’t beat the view of the ocean. Run from the clock in Central Square down Lynn Shore Drive thru Lynn’s Diamond District and back. Following the race\, enjoy a block party  featuring music\, food\, entertainment\, and more family-friendly fun. \nPresented by the Greater Lynn Chamber of Commerce and Economic Development Industrial Corp. of Lynn. \nRegistration information TBA\, date subject to change \n____________________________\n\nThe Shoe City Series is a collection of four 5K races throughout the year. Each race is a different course in a different part of the city and a different time of the year. This is designed to give the participants a view of our entire city and to highlight some of its many beautiful features and areas.\n\nThe medals awarded for each of the races are meant to interlock\, creating a single big medal for those that participate in all 4. The 2026 5Ks are as follows:\n\nHibernian 5K – March 22nd\nLynn Fire & Police Family Day 5K – May 30th\nClock to The Rock 5K – Details TBA\nTurkey Trot 5K – November 26th\n\nStay up to date with the Shoe City Series by following their Facebook page. If you have questions please message their FB page.
URL:https://lynntv.org/event/2026-shoe-city-series-clock-to-the-rock-5k/
LOCATION:Central Square\, Central Square\, Lynn\, MA\, United States
CATEGORIES:Fundraisers,Road races & 5Ks,VisitLynnMA
ATTACH;FMTTYPE=image/jpeg:https://lynntv.org/wp-content/uploads/2025/03/FI-Shoe-City-Series.jpg
END:VEVENT
BEGIN:VEVENT
DTSTART;VALUE=DATE:20261126
DTEND;VALUE=DATE:20261127
DTSTAMP:20260421T213306
CREATED:20260305T211811Z
LAST-MODIFIED:20260305T211957Z
UID:10016979-1795651200-1795737599@lynntv.org
SUMMARY:2026 Shoe City Series  |  Turkey Trot 5K
DESCRIPTION:From the Shoe City Series: The last race in the series is the Stop the Violence Turkey Trot 5k. This race around Flax Pond is a great way to prepare for eating and relaxing the rest of Thanksgiving. \nRegistration information TBA \n____________________________\n\nThe Shoe City Series is a collection of four 5K races throughout the year. Each race is a different course in a different part of the city and a different time of the year. This is designed to give the participants a view of our entire city and to highlight some of its many beautiful features and areas.\n\nThe medals awarded for each of the races are meant to interlock\, creating a single big medal for those that participate in all 4. The 2026 5Ks are as follows:\n\nHibernian 5K – March 22nd\nLynn Fire & Police Family Day 5K – May 30th\nClock to The Rock 5K – Details TBA\nTurkey Trot 5K – November 26th\n\nStay up to date with the Shoe City Series by following their Facebook page. If you have questions please message their FB page.
URL:https://lynntv.org/event/2026-shoe-city-series-turkey-trot-5k/
LOCATION:MA
CATEGORIES:Fundraisers,Road races & 5Ks,VisitLynnMA
ATTACH;FMTTYPE=image/jpeg:https://lynntv.org/wp-content/uploads/2025/03/FI-Shoe-City-Series.jpg
END:VEVENT
END:VCALENDAR