BEGIN:VCALENDAR
VERSION:2.0
PRODID:-//Lynn Community TV - ECPv6.15.20//NONSGML v1.0//EN
CALSCALE:GREGORIAN
METHOD:PUBLISH
X-WR-CALNAME:Lynn Community TV
X-ORIGINAL-URL:https://lynntv.org
X-WR-CALDESC:Events for Lynn Community TV
REFRESH-INTERVAL;VALUE=DURATION:PT1H
X-Robots-Tag:noindex
X-PUBLISHED-TTL:PT1H
BEGIN:VTIMEZONE
TZID:America/New_York
BEGIN:DAYLIGHT
TZOFFSETFROM:-0500
TZOFFSETTO:-0400
TZNAME:EDT
DTSTART:20240310T070000
END:DAYLIGHT
BEGIN:STANDARD
TZOFFSETFROM:-0400
TZOFFSETTO:-0500
TZNAME:EST
DTSTART:20241103T060000
END:STANDARD
BEGIN:DAYLIGHT
TZOFFSETFROM:-0500
TZOFFSETTO:-0400
TZNAME:EDT
DTSTART:20250309T070000
END:DAYLIGHT
BEGIN:STANDARD
TZOFFSETFROM:-0400
TZOFFSETTO:-0500
TZNAME:EST
DTSTART:20251102T060000
END:STANDARD
BEGIN:DAYLIGHT
TZOFFSETFROM:-0500
TZOFFSETTO:-0400
TZNAME:EDT
DTSTART:20260308T070000
END:DAYLIGHT
BEGIN:STANDARD
TZOFFSETFROM:-0400
TZOFFSETTO:-0500
TZNAME:EST
DTSTART:20261101T060000
END:STANDARD
END:VTIMEZONE
BEGIN:VEVENT
DTSTART;TZID=America/New_York:20250424T180000
DTEND;TZID=America/New_York:20250424T200000
DTSTAMP:20260421T020123
CREATED:20241118T192001Z
LAST-MODIFIED:20250911T155402Z
UID:10013985-1745517600-1745524800@lynntv.org
SUMMARY:WORKSHOP | Basic Desktop Computer Skills /  Habilidades básicas en computadoras de escritorio
DESCRIPTION:LCTV is now offering classes in basic desktop computer skills!\n\nThese two hour classes are designed to get you up-and-running and navigating desktop computers with confidence!\nLimited space available. Register now!\nRegistration required by calling 781-780-9460 or via email at info@lynntv.org. \n\n_____________ \nThis project was funded by the Massachusetts Broadband Institute at the MassTech Collaborative under the Municipal Digital Equity Implementation Program. Funding was provided by Massachusetts ARPA State Fiscal Recovery Funds. \n\nLCTV ahora ofrece clases de habilidades y capacitación básicas de computadoras \nEstas clases de dos horas están diseñadas para que usted pueda comenzar a utilizar computadoras con confianza. \nCupos limitados. ¡Regístrese ahora!\nSe requiere inscripción llamando al 781-780-6490 o por correo electrónico a: info@lynntv.org \n \n_____________ \nEste proyecto fue financiado por el Instituto de Broadband de Massachusetts en el marco del Programa de Implementación de Equidad Digital Municipal (Municipal Digital Equity Implementation Program). La financiación fue proporcionada por los Fondos de Recuperación Fiscal Estatal ARPA de Massachusetts.
URL:https://lynntv.org/event/workshop-basic-desktop-computer-skills/2025-04-24/
LOCATION:Lynn Community TV\, 181 Union St.\, Lynn\, Massachusetts\, 01901\, United States
CATEGORIES:Seminars and Workshops,VisitLynnMA
ATTACH;FMTTYPE=image/jpeg:https://lynntv.org/wp-content/uploads/2024/11/FI-Basic-Desktop-Computer-Skills-UPDATED.jpg
ORGANIZER;CN="Lynn Community TV":MAILTO:info@lynntv.org
END:VEVENT
BEGIN:VEVENT
DTSTART;TZID=America/New_York:20250424T173000
DTEND;TZID=America/New_York:20250424T200000
DTSTAMP:20260421T020123
CREATED:20250404T184455Z
LAST-MODIFIED:20250404T184637Z
UID:10014099-1745515800-1745524800@lynntv.org
SUMMARY:Tennis In The Parks – Spring 2025
DESCRIPTION:Led by a USTA-approved coach\, this program focuses on developing skills to serve\, rally and play. We focus on FUN and learning the basics using age-appropriate rackets and tennis balls to help players learn and play more quickly. All players in their first session receive and keep a new age-appropriate racquet and ball! \nThe sessions will happen on Tuesdays at Flax Pond\, with specific time periods for specific grade levels. Grades 1 & 2 meet from 5:30 – 6:30PM while grades 3-5  meet 6:30 – 7:30PM. There will be additional sessions during spring break\, please see fliers below for more details. \nClick here to register  /  Pulse aquí para registrarse\n \n \n\nThe above information was submitted to us by the Lynn Parks & Recreation Department.
URL:https://lynntv.org/event/tennis-in-the-parks-spring-2025/2025-04-24/
LOCATION:Flax Pond\, 650 Chestnut Street\, Lynn\, MA\, 01905
CATEGORIES:City of Lynn,Seminars and Workshops,Sports,Youth
ATTACH;FMTTYPE=image/jpeg:https://lynntv.org/wp-content/uploads/2022/05/Tennis.jpg
END:VEVENT
BEGIN:VEVENT
DTSTART;TZID=America/New_York:20250424T070000
DTEND;TZID=America/New_York:20250424T150000
DTSTAMP:20260421T020123
CREATED:20250326T173352Z
LAST-MODIFIED:20250326T173352Z
UID:10013998-1745478000-1745506800@lynntv.org
SUMMARY:Street Sweeping Schedule: Spring 2025
DESCRIPTION:The City of Lynn Department of Public Works (DPW) will begin the Spring Street Sweeping Campaign on Monday\, April 14th\, starting in Ward 1. To ensure the sweeping process can be completed efficiently and curb-to-curb\, they kindly ask that all vehicles be removed from the streets on the scheduled day for each area. A full schedule of sweeping days by ward is below for your reference. \nBy removing vehicles on the designated street sweeping days\, this will allow the Sweeping Company\, the Parking Department\, and the DPW to complete their work effectively. This will also help reduce parking issues and improve the overall look of our city neighborhoods.  Conditions on the ground may dictate the progress of the operation (i.e.: weather\, construction\, traffic emergencies\, etc.) \n \n \n\nThe above information was submitted to us by the Lynn Dept. of Public Works.
URL:https://lynntv.org/event/street-sweeping-schedule-spring-2025/2025-04-24/
LOCATION:Multiple locations\, please see listing for more info.
CATEGORIES:City of Lynn
ATTACH;FMTTYPE=image/jpeg:https://lynntv.org/wp-content/uploads/2023/10/FI-Street-Sweeper.jpg
END:VEVENT
BEGIN:VEVENT
DTSTART;TZID=America/New_York:20250423T183000
DTEND;TZID=America/New_York:20250423T193000
DTSTAMP:20260421T020123
CREATED:20250113T191226Z
LAST-MODIFIED:20250113T191226Z
UID:10013196-1745433000-1745436600@lynntv.org
SUMMARY:Sahaja Yoga Meditation
DESCRIPTION:Find the calm in the storm. Learn to meditate with a practice called Sahaja Yoga (meditation only). No mat required. Typically the meetings are two 10-15 minute guided meditations with a mid meditation check in or short talk from the founder Shri Mataji. \nSY was founded by Shri Mataji Nirmala Devi in 1970 and has since spread to over 120 countries. SY is always free. Please follow the Recovery Exchange’s Facebook page for updates and cancellations. If you have questions please email michelle.simons24@gmail.com. \nClick here for the Meetup group\n\nThe above information was submitted to us by Michelle Simons.
URL:https://lynntv.org/event/sahaja-yoga-meditation/2025-04-23/
LOCATION:The Recovery Exchange\, 35 Exchange Street\, Lynn\, MA\, 01901\, United States
CATEGORIES:Groups, Clubs, and Meet-ups,Health and Wellness
ATTACH;FMTTYPE=image/jpeg:https://lynntv.org/wp-content/uploads/2025/01/FI-Sahaja-Yoga.jpg
ORGANIZER;CN="The Recovery Exchange":MAILTO:recoveryexchange@spectrumhealthsystems.org
END:VEVENT
BEGIN:VEVENT
DTSTART;TZID=America/New_York:20250423T173000
DTEND;TZID=America/New_York:20250423T200000
DTSTAMP:20260421T020123
CREATED:20250404T184455Z
LAST-MODIFIED:20250404T184637Z
UID:10014098-1745429400-1745438400@lynntv.org
SUMMARY:Tennis In The Parks – Spring 2025
DESCRIPTION:Led by a USTA-approved coach\, this program focuses on developing skills to serve\, rally and play. We focus on FUN and learning the basics using age-appropriate rackets and tennis balls to help players learn and play more quickly. All players in their first session receive and keep a new age-appropriate racquet and ball! \nThe sessions will happen on Tuesdays at Flax Pond\, with specific time periods for specific grade levels. Grades 1 & 2 meet from 5:30 – 6:30PM while grades 3-5  meet 6:30 – 7:30PM. There will be additional sessions during spring break\, please see fliers below for more details. \nClick here to register  /  Pulse aquí para registrarse\n \n \n\nThe above information was submitted to us by the Lynn Parks & Recreation Department.
URL:https://lynntv.org/event/tennis-in-the-parks-spring-2025/2025-04-23/
LOCATION:Flax Pond\, 650 Chestnut Street\, Lynn\, MA\, 01905
CATEGORIES:City of Lynn,Seminars and Workshops,Sports,Youth
ATTACH;FMTTYPE=image/jpeg:https://lynntv.org/wp-content/uploads/2022/05/Tennis.jpg
END:VEVENT
BEGIN:VEVENT
DTSTART;TZID=America/New_York:20250423T070000
DTEND;TZID=America/New_York:20250423T150000
DTSTAMP:20260421T020123
CREATED:20250326T173352Z
LAST-MODIFIED:20250326T173352Z
UID:10013997-1745391600-1745420400@lynntv.org
SUMMARY:Street Sweeping Schedule: Spring 2025
DESCRIPTION:The City of Lynn Department of Public Works (DPW) will begin the Spring Street Sweeping Campaign on Monday\, April 14th\, starting in Ward 1. To ensure the sweeping process can be completed efficiently and curb-to-curb\, they kindly ask that all vehicles be removed from the streets on the scheduled day for each area. A full schedule of sweeping days by ward is below for your reference. \nBy removing vehicles on the designated street sweeping days\, this will allow the Sweeping Company\, the Parking Department\, and the DPW to complete their work effectively. This will also help reduce parking issues and improve the overall look of our city neighborhoods.  Conditions on the ground may dictate the progress of the operation (i.e.: weather\, construction\, traffic emergencies\, etc.) \n \n \n\nThe above information was submitted to us by the Lynn Dept. of Public Works.
URL:https://lynntv.org/event/street-sweeping-schedule-spring-2025/2025-04-23/
LOCATION:Multiple locations\, please see listing for more info.
CATEGORIES:City of Lynn
ATTACH;FMTTYPE=image/jpeg:https://lynntv.org/wp-content/uploads/2023/10/FI-Street-Sweeper.jpg
END:VEVENT
BEGIN:VEVENT
DTSTART;TZID=America/New_York:20250422T173000
DTEND;TZID=America/New_York:20250422T200000
DTSTAMP:20260421T020123
CREATED:20250404T184455Z
LAST-MODIFIED:20250404T184637Z
UID:10014097-1745343000-1745352000@lynntv.org
SUMMARY:Tennis In The Parks – Spring 2025
DESCRIPTION:Led by a USTA-approved coach\, this program focuses on developing skills to serve\, rally and play. We focus on FUN and learning the basics using age-appropriate rackets and tennis balls to help players learn and play more quickly. All players in their first session receive and keep a new age-appropriate racquet and ball! \nThe sessions will happen on Tuesdays at Flax Pond\, with specific time periods for specific grade levels. Grades 1 & 2 meet from 5:30 – 6:30PM while grades 3-5  meet 6:30 – 7:30PM. There will be additional sessions during spring break\, please see fliers below for more details. \nClick here to register  /  Pulse aquí para registrarse\n \n \n\nThe above information was submitted to us by the Lynn Parks & Recreation Department.
URL:https://lynntv.org/event/tennis-in-the-parks-spring-2025/2025-04-22/
LOCATION:Flax Pond\, 650 Chestnut Street\, Lynn\, MA\, 01905
CATEGORIES:City of Lynn,Seminars and Workshops,Sports,Youth
ATTACH;FMTTYPE=image/jpeg:https://lynntv.org/wp-content/uploads/2022/05/Tennis.jpg
END:VEVENT
BEGIN:VEVENT
DTSTART;TZID=America/New_York:20250422T100000
DTEND;TZID=America/New_York:20250422T140000
DTSTAMP:20260421T020123
CREATED:20240419T141018Z
LAST-MODIFIED:20260325T134236Z
UID:10011466-1745316000-1745330400@lynntv.org
SUMMARY:National Grid Customer Advocate hours
DESCRIPTION:From National Grid: Connect to Caring: Meet with a Customer Advocate at Lynn Housing Authority & Neighborhood Development in Curwin Circle! \nNational Grid Customer Advocates will be available to meet one-on-one on the 4th Tuesday of the month to discuss options to manage your energy bill and help you find assistance\, including: \n\nDiscount rate\nPayment Plans\nBudget Billing\nArrears Management Program (AMP)\n\nNo appointment is needed\, but please bring the following when you visit:\nIf you receive SNAP\, MassHealth\, SSI or WIC\, please bring your benefit card and/or program acceptance letter to enroll in our Discount Rate Program. \nWith higher energy prices this winter\, National Grid is there to help:\nFor more information\, please visitngrid.com/heretohelp
URL:https://lynntv.org/event/national-grid-customer-advocate-hours/2025-04-22/
LOCATION:LHAND – Curwin Cirle\, 39 Curwin Terrace\, Lynn\, 01905\, United States
CATEGORIES:Community
ATTACH;FMTTYPE=image/jpeg:https://lynntv.org/wp-content/uploads/2023/01/FI-National-Grid.jpg
END:VEVENT
BEGIN:VEVENT
DTSTART;TZID=America/New_York:20250422T070000
DTEND;TZID=America/New_York:20250422T150000
DTSTAMP:20260421T020123
CREATED:20250326T173352Z
LAST-MODIFIED:20250326T173352Z
UID:10013996-1745305200-1745334000@lynntv.org
SUMMARY:Street Sweeping Schedule: Spring 2025
DESCRIPTION:The City of Lynn Department of Public Works (DPW) will begin the Spring Street Sweeping Campaign on Monday\, April 14th\, starting in Ward 1. To ensure the sweeping process can be completed efficiently and curb-to-curb\, they kindly ask that all vehicles be removed from the streets on the scheduled day for each area. A full schedule of sweeping days by ward is below for your reference. \nBy removing vehicles on the designated street sweeping days\, this will allow the Sweeping Company\, the Parking Department\, and the DPW to complete their work effectively. This will also help reduce parking issues and improve the overall look of our city neighborhoods.  Conditions on the ground may dictate the progress of the operation (i.e.: weather\, construction\, traffic emergencies\, etc.) \n \n \n\nThe above information was submitted to us by the Lynn Dept. of Public Works.
URL:https://lynntv.org/event/street-sweeping-schedule-spring-2025/2025-04-22/
LOCATION:Multiple locations\, please see listing for more info.
CATEGORIES:City of Lynn
ATTACH;FMTTYPE=image/jpeg:https://lynntv.org/wp-content/uploads/2023/10/FI-Street-Sweeper.jpg
END:VEVENT
BEGIN:VEVENT
DTSTART;TZID=America/New_York:20250421T180000
DTEND;TZID=America/New_York:20250421T210000
DTSTAMP:20260421T020123
CREATED:20230327T193208Z
LAST-MODIFIED:20250429T195746Z
UID:10010920-1745258400-1745269200@lynntv.org
SUMMARY:Figure Drawing at GALA
DESCRIPTION:Join the Monday Night Drawing Group at the Galleries at LynnArts\, hosted by Annette Sykes of Paint by the Ocean. This weekly session offers artists of all levels the opportunity to draw from a live\, clothed or unclothed model in a relaxed\, supportive environment. Bring your own art supplies and enjoy an evening of creative exploration.​\n\nThese drawing groups will meet every Monday from 6-9pm at GALA. Fees are $18 for GALA Members\, $20 for Non-Members\, & $18 for Students. No instruction is provided; this is a self-guided session ideal for practicing figure drawing in a community setting.​ \nFor more information visit the GALA website\, follow @paintbytheocean on Instagram\, or email paintbytheocean@gmail.com.\n\n\nIf the flier above is out-of-date please contact GALA \n\nThe above information was submitted to us by the Galleries at LynnArts (GALA).
URL:https://lynntv.org/event/figure-drawing-at-gala/2025-04-21/
LOCATION:The Studios at Lynn Museum & Arts Center (LynnArts) & The Neal Rantoul Vault Theatre\, 25 Exchange Street\, Lynn\, MA\, 01901\, United States
CATEGORIES:Arts and Culture,Groups, Clubs, and Meet-ups,VisitLynnMA
ATTACH;FMTTYPE=image/jpeg:https://lynntv.org/wp-content/uploads/2023/03/FI-Figure-Drawing.jpg
END:VEVENT
BEGIN:VEVENT
DTSTART;TZID=America/New_York:20250421T173000
DTEND;TZID=America/New_York:20250421T200000
DTSTAMP:20260421T020123
CREATED:20250404T184455Z
LAST-MODIFIED:20250404T184637Z
UID:10014096-1745256600-1745265600@lynntv.org
SUMMARY:Tennis In The Parks – Spring 2025
DESCRIPTION:Led by a USTA-approved coach\, this program focuses on developing skills to serve\, rally and play. We focus on FUN and learning the basics using age-appropriate rackets and tennis balls to help players learn and play more quickly. All players in their first session receive and keep a new age-appropriate racquet and ball! \nThe sessions will happen on Tuesdays at Flax Pond\, with specific time periods for specific grade levels. Grades 1 & 2 meet from 5:30 – 6:30PM while grades 3-5  meet 6:30 – 7:30PM. There will be additional sessions during spring break\, please see fliers below for more details. \nClick here to register  /  Pulse aquí para registrarse\n \n \n\nThe above information was submitted to us by the Lynn Parks & Recreation Department.
URL:https://lynntv.org/event/tennis-in-the-parks-spring-2025/2025-04-21/
LOCATION:Flax Pond\, 650 Chestnut Street\, Lynn\, MA\, 01905
CATEGORIES:City of Lynn,Seminars and Workshops,Sports,Youth
ATTACH;FMTTYPE=image/jpeg:https://lynntv.org/wp-content/uploads/2022/05/Tennis.jpg
END:VEVENT
BEGIN:VEVENT
DTSTART;TZID=America/New_York:20250421T170000
DTEND;TZID=America/New_York:20250421T190000
DTSTAMP:20260421T020123
CREATED:20250417T132522Z
LAST-MODIFIED:20250417T132523Z
UID:10014125-1745254800-1745262000@lynntv.org
SUMMARY:Men 2 Be pop-up at GALA
DESCRIPTION:A Look Into Our Geographical Mindscapes \nRaw Art Works invites you to an art pop-up featuring works by our Men 2 Be group on Monday\, April 21st from 5-7pm  at The Galleries at LynnArts (GALA). \nGet a glimpse inside a teen male’s mind and how they participate in our world. See their Basquiat-inspired pieces created using upcycled classroom maps and paint. \nView the pop-up from April 21st through May 3rd \nJoin us to meet the artists and enjoy light snacks. For more info. please email Jason Cruz at jason@rawartworks.org. \n\nThe above information was submitted to us by Raw Art Works.
URL:https://lynntv.org/event/men-2-be-pop-up-at-gala/
LOCATION:The Studios at Lynn Museum & Arts Center (LynnArts) & The Neal Rantoul Vault Theatre\, 25 Exchange Street\, Lynn\, MA\, 01901\, United States
CATEGORIES:Arts and Culture,VisitLynnMA,Youth
ATTACH;FMTTYPE=image/jpeg:https://lynntv.org/wp-content/uploads/2025/04/Men-2-Be-pop-up-April-2025.jpg
END:VEVENT
BEGIN:VEVENT
DTSTART;TZID=America/New_York:20250421T070000
DTEND;TZID=America/New_York:20250421T150000
DTSTAMP:20260421T020123
CREATED:20250326T173352Z
LAST-MODIFIED:20250326T173352Z
UID:10013995-1745218800-1745247600@lynntv.org
SUMMARY:Street Sweeping Schedule: Spring 2025
DESCRIPTION:The City of Lynn Department of Public Works (DPW) will begin the Spring Street Sweeping Campaign on Monday\, April 14th\, starting in Ward 1. To ensure the sweeping process can be completed efficiently and curb-to-curb\, they kindly ask that all vehicles be removed from the streets on the scheduled day for each area. A full schedule of sweeping days by ward is below for your reference. \nBy removing vehicles on the designated street sweeping days\, this will allow the Sweeping Company\, the Parking Department\, and the DPW to complete their work effectively. This will also help reduce parking issues and improve the overall look of our city neighborhoods.  Conditions on the ground may dictate the progress of the operation (i.e.: weather\, construction\, traffic emergencies\, etc.) \n \n \n\nThe above information was submitted to us by the Lynn Dept. of Public Works.
URL:https://lynntv.org/event/street-sweeping-schedule-spring-2025/2025-04-21/
LOCATION:Multiple locations\, please see listing for more info.
CATEGORIES:City of Lynn
ATTACH;FMTTYPE=image/jpeg:https://lynntv.org/wp-content/uploads/2023/10/FI-Street-Sweeper.jpg
END:VEVENT
BEGIN:VEVENT
DTSTART;TZID=America/New_York:20250420T190000
DTEND;TZID=America/New_York:20250420T220000
DTSTAMP:20260421T020123
CREATED:20241114T145118Z
LAST-MODIFIED:20250820T203513Z
UID:10012508-1745175600-1745186400@lynntv.org
SUMMARY:DENCITY International Soulcase + Open Mic
DESCRIPTION:DENCITY International Soulcase + Open Mic is where the soul speaks and truths echo. A sanctuary for expression\, a community of creatives\, and a celebration of raw\, unfiltered storytelling through spoken word\, music\, and performance. \nThis is a brave\, healing\, and SOBER space — a judgment-free zone where you are welcome as you are. \n_________________ \nIf you have any questions please contact Michelle LaPoetica at 662-799-1916 or DENCITYvibes@gmail.com. \n\nThe above information was submitted to us by DENCITY.
URL:https://lynntv.org/event/dencity-international-soulcase-open-mic/2025-04-20/
LOCATION:The Studios at Lynn Museum & Arts Center (LynnArts) & The Neal Rantoul Vault Theatre\, 25 Exchange Street\, Lynn\, MA\, 01901\, United States
CATEGORIES:Arts and Culture,Entertainment,Open mic,VisitLynnMA
ATTACH;FMTTYPE=image/jpeg:https://lynntv.org/wp-content/uploads/2024/11/FI-2025-DENCITY-International-Soulcase-Open-Mic.jpg
END:VEVENT
BEGIN:VEVENT
DTSTART;TZID=America/New_York:20250420T160000
DTEND;TZID=America/New_York:20250420T170000
DTSTAMP:20260421T020123
CREATED:20250415T171519Z
LAST-MODIFIED:20250415T171521Z
UID:10014117-1745164800-1745168400@lynntv.org
SUMMARY:4th Annual Ward 3 Neighborhood Egg Hunt
DESCRIPTION:𝐍𝐄𝐈𝐆𝐇𝐁𝐎𝐑𝐇𝐎𝐎𝐃 𝐄𝐀𝐒𝐓𝐄𝐑 𝐄𝐆𝐆 𝐇𝐔𝐍𝐓! \nThe 4th Annual Ward 3 Neighborhood Egg Hunt for Easter 🥚🐣 🧺 Sunday\, April 20th. This will start at 4pm at Kiley Park. Bring everyone\, they will have a lot of surprises for you. \n\nThe above information was submitted to us by Ward 3 Councilor Coco Alingsug.
URL:https://lynntv.org/event/4th-annual-ward-3-neighborhood-egg-hunt/
LOCATION:Kiley Park\, 66 Sanderson Ave.\, Lynn\, MA\, 01902\, United States
CATEGORIES:Community,Entertainment,VisitLynnMA,Youth
ATTACH;FMTTYPE=image/jpeg:https://lynntv.org/wp-content/uploads/2024/03/FI-Easter-1.jpg
ORGANIZER;CN="Ward 3 Councilor Coco Alinsug":MAILTO:Coco.Alinsug@lynnma.gov
END:VEVENT
BEGIN:VEVENT
DTSTART;TZID=America/New_York:20250420T150000
DTEND;TZID=America/New_York:20250420T190000
DTSTAMP:20260421T020123
CREATED:20241114T151311Z
LAST-MODIFIED:20241114T151311Z
UID:10012687-1745161200-1745175600@lynntv.org
SUMMARY:Poetic Lynnguistics: North Shore Youth Spoken Word
DESCRIPTION:More information will be released soon…stay tuned!\nThis is a youth Event + Admission is FREE. An 18+ Open Mic will begin on the 1st and 3rd Sundays at 7pm. More information on the event series page. \n_________________ \nIf you have any questions please contact Michelle LaPoetica at 662-799-1916 or DENCITYvibes@gmail.com. \n\nThe above information was submitted to us by DENCITY.
URL:https://lynntv.org/event/poetic-lynnguistics-north-shore-youth-spoken-word-2/2025-04-20/
LOCATION:The Studios at Lynn Museum & Arts Center (LynnArts) & The Neal Rantoul Vault Theatre\, 25 Exchange Street\, Lynn\, MA\, 01901\, United States
CATEGORIES:Arts and Culture,Entertainment,Open mic,VisitLynnMA,Youth
ATTACH;FMTTYPE=image/jpeg:https://lynntv.org/wp-content/uploads/2024/11/FI-DENCITY-2024-North-shore-Youth-Spoken-Word.jpg
END:VEVENT
BEGIN:VEVENT
DTSTART;TZID=America/New_York:20250420T111500
DTEND;TZID=America/New_York:20250420T123000
DTSTAMP:20260421T020123
CREATED:20250414T192413Z
LAST-MODIFIED:20250414T192413Z
UID:10014115-1745147700-1745152200@lynntv.org
SUMMARY:2025 UUCGL Easter Egg Hunt
DESCRIPTION:Join us for our annual children’s Easter Egg Hunt! Free and open to kids of all ages in our area. Every child\, no matter age or ability\, will get eggs. Bring your own basket if you’d prefer. Older youth are invited to participate or help out the younger ones if they choose. \nMeet in the front lobby by 11:15am. If you have any questions please email office@uucgl.org or call 781-595-8836. \n\nThe above information was submitted to us by Unitarian Universalist Church of Greater Lynn.
URL:https://lynntv.org/event/2025-uucgl-easter-egg-hunt/
LOCATION:UUCGL\, 101 Forest Ave\, Swampscott\, MA\, 01907\, United States
CATEGORIES:Entertainment,Youth
ATTACH;FMTTYPE=image/jpeg:https://lynntv.org/wp-content/uploads/2024/03/FI-Easter-2.jpg
ORGANIZER;CN="UUCGL":MAILTO:office@uucgl.org
END:VEVENT
END:VCALENDAR