BEGIN:VCALENDAR
VERSION:2.0
PRODID:-//Lynn Community TV - ECPv6.15.20//NONSGML v1.0//EN
CALSCALE:GREGORIAN
METHOD:PUBLISH
X-WR-CALNAME:Lynn Community TV
X-ORIGINAL-URL:https://lynntv.org
X-WR-CALDESC:Events for Lynn Community TV
REFRESH-INTERVAL;VALUE=DURATION:PT1H
X-Robots-Tag:noindex
X-PUBLISHED-TTL:PT1H
BEGIN:VTIMEZONE
TZID:America/New_York
BEGIN:DAYLIGHT
TZOFFSETFROM:-0500
TZOFFSETTO:-0400
TZNAME:EDT
DTSTART:20300310T070000
END:DAYLIGHT
BEGIN:STANDARD
TZOFFSETFROM:-0400
TZOFFSETTO:-0500
TZNAME:EST
DTSTART:20301103T060000
END:STANDARD
BEGIN:DAYLIGHT
TZOFFSETFROM:-0500
TZOFFSETTO:-0400
TZNAME:EDT
DTSTART:20310309T070000
END:DAYLIGHT
BEGIN:STANDARD
TZOFFSETFROM:-0400
TZOFFSETTO:-0500
TZNAME:EST
DTSTART:20311102T060000
END:STANDARD
BEGIN:DAYLIGHT
TZOFFSETFROM:-0500
TZOFFSETTO:-0400
TZNAME:EDT
DTSTART:20320314T070000
END:DAYLIGHT
BEGIN:STANDARD
TZOFFSETFROM:-0400
TZOFFSETTO:-0500
TZNAME:EST
DTSTART:20321107T060000
END:STANDARD
END:VTIMEZONE
BEGIN:VEVENT
DTSTART;TZID=America/New_York:20310421T180000
DTEND;TZID=America/New_York:20310421T210000
DTSTAMP:20260424T040743
CREATED:20230327T193208Z
LAST-MODIFIED:20250429T195746Z
UID:10017227-1934560800-1934571600@lynntv.org
SUMMARY:Figure Drawing at GALA
DESCRIPTION:Join the Monday Night Drawing Group at the Galleries at LynnArts\, hosted by Annette Sykes of Paint by the Ocean. This weekly session offers artists of all levels the opportunity to draw from a live\, clothed or unclothed model in a relaxed\, supportive environment. Bring your own art supplies and enjoy an evening of creative exploration.​\n\nThese drawing groups will meet every Monday from 6-9pm at GALA. Fees are $18 for GALA Members\, $20 for Non-Members\, & $18 for Students. No instruction is provided; this is a self-guided session ideal for practicing figure drawing in a community setting.​ \nFor more information visit the GALA website\, follow @paintbytheocean on Instagram\, or email paintbytheocean@gmail.com.\n\n\nIf the flier above is out-of-date please contact GALA \n\nThe above information was submitted to us by the Galleries at LynnArts (GALA).
URL:https://lynntv.org/event/figure-drawing-at-gala/2031-04-21/
LOCATION:The Studios at Lynn Museum & Arts Center (LynnArts) & The Neal Rantoul Vault Theatre\, 25 Exchange Street\, Lynn\, MA\, 01901\, United States
CATEGORIES:Arts and Culture,Groups, Clubs, and Meet-ups,VisitLynnMA
ATTACH;FMTTYPE=image/jpeg:https://lynntv.org/wp-content/uploads/2023/03/FI-Figure-Drawing.jpg
END:VEVENT
BEGIN:VEVENT
DTSTART;TZID=America/New_York:20310422T100000
DTEND;TZID=America/New_York:20310422T140000
DTSTAMP:20260424T040743
CREATED:20240419T141018Z
LAST-MODIFIED:20260325T134236Z
UID:10017230-1934618400-1934632800@lynntv.org
SUMMARY:National Grid Customer Advocate hours
DESCRIPTION:From National Grid: Connect to Caring: Meet with a Customer Advocate at Lynn Housing Authority & Neighborhood Development in Curwin Circle! \nNational Grid Customer Advocates will be available to meet one-on-one on the 4th Tuesday of the month to discuss options to manage your energy bill and help you find assistance\, including: \n\nDiscount rate\nPayment Plans\nBudget Billing\nArrears Management Program (AMP)\n\nNo appointment is needed\, but please bring the following when you visit:\nIf you receive SNAP\, MassHealth\, SSI or WIC\, please bring your benefit card and/or program acceptance letter to enroll in our Discount Rate Program. \nWith higher energy prices this winter\, National Grid is there to help:\nFor more information\, please visitngrid.com/heretohelp
URL:https://lynntv.org/event/national-grid-customer-advocate-hours/2031-04-22/
LOCATION:LHAND – Curwin Cirle\, 39 Curwin Terrace\, Lynn\, 01905\, United States
CATEGORIES:Community
ATTACH;FMTTYPE=image/jpeg:https://lynntv.org/wp-content/uploads/2023/01/FI-National-Grid.jpg
END:VEVENT
END:VCALENDAR