BEGIN:VCALENDAR
VERSION:2.0
PRODID:-//Lynn Community TV - ECPv6.15.20//NONSGML v1.0//EN
CALSCALE:GREGORIAN
METHOD:PUBLISH
X-ORIGINAL-URL:https://lynntv.org
X-WR-CALDESC:Events for Lynn Community TV
REFRESH-INTERVAL;VALUE=DURATION:PT1H
X-Robots-Tag:noindex
X-PUBLISHED-TTL:PT1H
BEGIN:VTIMEZONE
TZID:America/New_York
BEGIN:DAYLIGHT
TZOFFSETFROM:-0500
TZOFFSETTO:-0400
TZNAME:EDT
DTSTART:20240310T070000
END:DAYLIGHT
BEGIN:STANDARD
TZOFFSETFROM:-0400
TZOFFSETTO:-0500
TZNAME:EST
DTSTART:20241103T060000
END:STANDARD
BEGIN:DAYLIGHT
TZOFFSETFROM:-0500
TZOFFSETTO:-0400
TZNAME:EDT
DTSTART:20250309T070000
END:DAYLIGHT
BEGIN:STANDARD
TZOFFSETFROM:-0400
TZOFFSETTO:-0500
TZNAME:EST
DTSTART:20251102T060000
END:STANDARD
BEGIN:DAYLIGHT
TZOFFSETFROM:-0500
TZOFFSETTO:-0400
TZNAME:EDT
DTSTART:20260308T070000
END:DAYLIGHT
BEGIN:STANDARD
TZOFFSETFROM:-0400
TZOFFSETTO:-0500
TZNAME:EST
DTSTART:20261101T060000
END:STANDARD
END:VTIMEZONE
BEGIN:VEVENT
DTSTART;TZID=America/New_York:20250510T183000
DTEND;TZID=America/New_York:20250510T203000
DTSTAMP:20260423T103751
CREATED:20250425T195655Z
LAST-MODIFIED:20250428T142958Z
UID:10014149-1746901800-1746909000@lynntv.org
SUMMARY:Sip'n'Paint night Fundraiser
DESCRIPTION:The Friends of the Lynn Public Library will be hosting a Sip’n’Paint night at the Lynn Public Library on Saturday\, May 10th at 6:30pm. Led by local artist\, Sherry Hoffman of Goldfinch Art Studio\, attendees will learn to paint on slate while enjoying an adult beverage (or two). Tickets are $40\, with $20 of each ticket going to the Friends. There will also have snacks\, raffles\, and a silent art auction. \nTo register please click here \n\nThe above information was submitted to us by the Friends of the Lynn Public Library.
URL:https://lynntv.org/event/sipnpaint-night-fundraiser/
LOCATION:Lynn Public Library\, 5 North Common Street\, Lynn\, MA\, United States
CATEGORIES:Arts and Culture,Fundraisers,VisitLynnMA
ATTACH;FMTTYPE=image/jpeg:https://lynntv.org/wp-content/uploads/2025/04/FLPL-Sip-n-Paint-Fundraiser-May-2025-UPDATED.jpg
ORGANIZER;CN="Friends of the Lynn Public Library":MAILTO:lynnlibraryfriends@gmail.com
END:VEVENT
END:VCALENDAR