BEGIN:VCALENDAR
VERSION:2.0
PRODID:-//Lynn Community TV - ECPv6.15.20//NONSGML v1.0//EN
CALSCALE:GREGORIAN
METHOD:PUBLISH
X-WR-CALNAME:Lynn Community TV
X-ORIGINAL-URL:https://lynntv.org
X-WR-CALDESC:Events for Lynn Community TV
REFRESH-INTERVAL;VALUE=DURATION:PT1H
X-Robots-Tag:noindex
X-PUBLISHED-TTL:PT1H
BEGIN:VTIMEZONE
TZID:America/New_York
BEGIN:DAYLIGHT
TZOFFSETFROM:-0500
TZOFFSETTO:-0400
TZNAME:EDT
DTSTART:20250309T070000
END:DAYLIGHT
BEGIN:STANDARD
TZOFFSETFROM:-0400
TZOFFSETTO:-0500
TZNAME:EST
DTSTART:20251102T060000
END:STANDARD
BEGIN:DAYLIGHT
TZOFFSETFROM:-0500
TZOFFSETTO:-0400
TZNAME:EDT
DTSTART:20260308T070000
END:DAYLIGHT
BEGIN:STANDARD
TZOFFSETFROM:-0400
TZOFFSETTO:-0500
TZNAME:EST
DTSTART:20261101T060000
END:STANDARD
BEGIN:DAYLIGHT
TZOFFSETFROM:-0500
TZOFFSETTO:-0400
TZNAME:EDT
DTSTART:20270314T070000
END:DAYLIGHT
BEGIN:STANDARD
TZOFFSETFROM:-0400
TZOFFSETTO:-0500
TZNAME:EST
DTSTART:20271107T060000
END:STANDARD
END:VTIMEZONE
BEGIN:VEVENT
DTSTART;TZID=America/New_York:20260217T080000
DTEND;TZID=America/New_York:20260217T170000
DTSTAMP:20260423T214419
CREATED:20260217T174113Z
LAST-MODIFIED:20260217T194507Z
UID:10016907-1771315200-1771347600@lynntv.org
SUMMARY:Rabies Clinic - March 2026
DESCRIPTION:From the Lynn Animal Control Officer: Lynn Animal Control and the North Shore Veterinarians Association will be hosting a rabies clinic on Saturday\, March 14th\, 2026 from 9am – 1pm at Lynn Tech School in the annex cafeteria. \nDogs and Cats are both welcome. All dogs must be leased when entering the building\, and all cats and ferrets need to be in a pet carrier. \n\nRabies vaccination – $10\nDog license – $12\nDog Park license – $30\nMicrochipping – $20\n\nFor more information\, contact Lynn Animal Control at 781-477-4385.
URL:https://lynntv.org/event/rabies-clinic-march-2026/
LOCATION:Lynn Tech (Annex Building)\, 90 Commercial Street\, Lynn\, MA\, 01902\, United States
CATEGORIES:City of Lynn,Health and Wellness
ATTACH;FMTTYPE=image/jpeg:https://lynntv.org/wp-content/uploads/2024/01/FI-Dogs-2.jpg
ORGANIZER;CN="Lynn Animal Control Officer":MAILTO:ACO@lynnpolice.org
END:VEVENT
END:VCALENDAR