BEGIN:VCALENDAR
VERSION:2.0
PRODID:-//Lynn Community TV - ECPv6.15.20//NONSGML v1.0//EN
CALSCALE:GREGORIAN
METHOD:PUBLISH
X-ORIGINAL-URL:https://lynntv.org
X-WR-CALDESC:Events for Lynn Community TV
REFRESH-INTERVAL;VALUE=DURATION:PT1H
X-Robots-Tag:noindex
X-PUBLISHED-TTL:PT1H
BEGIN:VTIMEZONE
TZID:America/New_York
BEGIN:DAYLIGHT
TZOFFSETFROM:-0500
TZOFFSETTO:-0400
TZNAME:EDT
DTSTART:20250309T070000
END:DAYLIGHT
BEGIN:STANDARD
TZOFFSETFROM:-0400
TZOFFSETTO:-0500
TZNAME:EST
DTSTART:20251102T060000
END:STANDARD
BEGIN:DAYLIGHT
TZOFFSETFROM:-0500
TZOFFSETTO:-0400
TZNAME:EDT
DTSTART:20260308T070000
END:DAYLIGHT
BEGIN:STANDARD
TZOFFSETFROM:-0400
TZOFFSETTO:-0500
TZNAME:EST
DTSTART:20261101T060000
END:STANDARD
BEGIN:DAYLIGHT
TZOFFSETFROM:-0500
TZOFFSETTO:-0400
TZNAME:EDT
DTSTART:20270314T070000
END:DAYLIGHT
BEGIN:STANDARD
TZOFFSETFROM:-0400
TZOFFSETTO:-0500
TZNAME:EST
DTSTART:20271107T060000
END:STANDARD
END:VTIMEZONE
BEGIN:VEVENT
DTSTART;TZID=America/New_York:20260212T183000
DTEND;TZID=America/New_York:20260212T193000
DTSTAMP:20260421T192539
CREATED:20260128T145654Z
LAST-MODIFIED:20260128T145654Z
UID:10016288-1770921000-1770924600@lynntv.org
SUMMARY:Lynn Mental Health Committee Meeting - February 2026
DESCRIPTION:From the Lynn Mental Health Committee: Due to the increasing need for mental health support among the youth\, this establishment of a Youth-Led Mental Health Team can provide mental health assistance and support within the community. With this team we aim to reduce stigma surrounding mental health\, improve the access for resources for all communities\, and promote both a culture of mental health awareness and well-being.\n\nThe purpose of the Lynn Youth Led Mental Health Committee is 4 main things:\n\nProvide peer support by creating a place where youth can support each other through shared experiences\nRaise awareness and destigmatize mental health through events and workshops\nOffer resources to youth through workshops and informational materials\nAdvocate for policy changes to improve mental health services and support for youth\n\n___________________________ \nThis meeting will finalize the date\, time and location for an upcoming event – as well as have us plan for future events. \nEvent Description: Join the Lynn Youth Led Mental Health Committee for a relaxing evening at our free arts and craft night. We will have clay sculpting\, bracelet making\, and painting stations. It will be a safe space for attendees to decompress as we try to raise awareness around mental health.We will also be handing out a limited amount of free goodie bags!\nClick here for Google Meet link
URL:https://lynntv.org/event/lynn-mental-health-committee-meeting-february-2026/
LOCATION:Virtual
CATEGORIES:City of Lynn
ATTACH;FMTTYPE=image/jpeg:https://lynntv.org/wp-content/uploads/2021/09/City-of-Lynn-Seal-Aerial.jpg
ORGANIZER;CN="Lynn Mental Health Committee":MAILTO:lynnyouthmentalhealth@gmail.com
END:VEVENT
END:VCALENDAR