BEGIN:VCALENDAR
VERSION:2.0
PRODID:-//Lynn Community TV - ECPv6.15.20//NONSGML v1.0//EN
CALSCALE:GREGORIAN
METHOD:PUBLISH
X-ORIGINAL-URL:https://lynntv.org
X-WR-CALDESC:Events for Lynn Community TV
REFRESH-INTERVAL;VALUE=DURATION:PT1H
X-Robots-Tag:noindex
X-PUBLISHED-TTL:PT1H
BEGIN:VTIMEZONE
TZID:America/New_York
BEGIN:DAYLIGHT
TZOFFSETFROM:-0500
TZOFFSETTO:-0400
TZNAME:EDT
DTSTART:20250309T070000
END:DAYLIGHT
BEGIN:STANDARD
TZOFFSETFROM:-0400
TZOFFSETTO:-0500
TZNAME:EST
DTSTART:20251102T060000
END:STANDARD
BEGIN:DAYLIGHT
TZOFFSETFROM:-0500
TZOFFSETTO:-0400
TZNAME:EDT
DTSTART:20260308T070000
END:DAYLIGHT
BEGIN:STANDARD
TZOFFSETFROM:-0400
TZOFFSETTO:-0500
TZNAME:EST
DTSTART:20261101T060000
END:STANDARD
BEGIN:DAYLIGHT
TZOFFSETFROM:-0500
TZOFFSETTO:-0400
TZNAME:EDT
DTSTART:20270314T070000
END:DAYLIGHT
BEGIN:STANDARD
TZOFFSETFROM:-0400
TZOFFSETTO:-0500
TZNAME:EST
DTSTART:20271107T060000
END:STANDARD
END:VTIMEZONE
BEGIN:VEVENT
DTSTART;TZID=America/New_York:20260410T200000
DTEND;TZID=America/New_York:20260410T220000
DTSTAMP:20260422T002312
CREATED:20260312T155112Z
LAST-MODIFIED:20260312T155205Z
UID:10016986-1775851200-1775858400@lynntv.org
SUMMARY:Soundscape Visions - April 2026
DESCRIPTION:From Soundscape Visions: ​Soundscape Visions returns to Galleries at Lynn Arts with an immersive live performance featuring large-scale projections of video art and original live electro-acoustic soundscape music. This program will debut three new audio-visual compositions alongside the audience favorites. Compositions on this program feature photography and video art by François de Costerd and artwork by Aza Nizi Maza. Original music performed live by Alexander Vavilov (electro-acoustic viola)\, Ara Sarkissian (piano)\, Ken Field (saxophone)\, and Rafael Popper-Keizer (cello). ​​\n\nDoor will open at 7:30pm \n\nClick here for tickets
URL:https://lynntv.org/event/soundscape-visions-april-2026/
LOCATION:The Studios at Lynn Museum & Arts Center (LynnArts) & The Neal Rantoul Vault Theatre\, 25 Exchange Street\, Lynn\, MA\, 01901\, United States
CATEGORIES:Arts and Culture,Community,Entertainment,Fundraisers,VisitLynnMA
ATTACH;FMTTYPE=image/jpeg:https://lynntv.org/wp-content/uploads/2026/03/Soundscape-Visions-April-2026.jpg
END:VEVENT
END:VCALENDAR